BEGIN:VCALENDAR
VERSION:2.0
PRODID:-//Santee Lakes - ECPv6.15.20//NONSGML v1.0//EN
CALSCALE:GREGORIAN
METHOD:PUBLISH
X-ORIGINAL-URL:https://www.santeelakes.com
X-WR-CALDESC:Events for Santee Lakes
REFRESH-INTERVAL;VALUE=DURATION:PT1H
X-Robots-Tag:noindex
X-PUBLISHED-TTL:PT1H
BEGIN:VTIMEZONE
TZID:America/Los_Angeles
BEGIN:DAYLIGHT
TZOFFSETFROM:-0800
TZOFFSETTO:-0700
TZNAME:PDT
DTSTART:20240310T100000
END:DAYLIGHT
BEGIN:STANDARD
TZOFFSETFROM:-0700
TZOFFSETTO:-0800
TZNAME:PST
DTSTART:20241103T090000
END:STANDARD
BEGIN:DAYLIGHT
TZOFFSETFROM:-0800
TZOFFSETTO:-0700
TZNAME:PDT
DTSTART:20250309T100000
END:DAYLIGHT
BEGIN:STANDARD
TZOFFSETFROM:-0700
TZOFFSETTO:-0800
TZNAME:PST
DTSTART:20251102T090000
END:STANDARD
BEGIN:DAYLIGHT
TZOFFSETFROM:-0800
TZOFFSETTO:-0700
TZNAME:PDT
DTSTART:20260308T100000
END:DAYLIGHT
BEGIN:STANDARD
TZOFFSETFROM:-0700
TZOFFSETTO:-0800
TZNAME:PST
DTSTART:20261101T090000
END:STANDARD
END:VTIMEZONE
BEGIN:VEVENT
DTSTART;TZID=America/Los_Angeles:20251122T100000
DTEND;TZID=America/Los_Angeles:20251122T110000
DTSTAMP:20260420T080137
CREATED:20250312T070301Z
LAST-MODIFIED:20250826T235636Z
UID:13939-1763805600-1763809200@www.santeelakes.com
SUMMARY:CAMPERS - Sports on the Lawn
DESCRIPTION:Join us for some fun & games! \nCampground Lawn \n10:00AM-11:00AM
URL:https://www.santeelakes.com/event/campers-sports-on-the-lawn-20/
CATEGORIES:Campground Events
END:VEVENT
BEGIN:VEVENT
DTSTART;TZID=America/Los_Angeles:20251122T140000
DTEND;TZID=America/Los_Angeles:20251122T160000
DTSTAMP:20260420T080137
CREATED:20250312T071037Z
LAST-MODIFIED:20250826T235851Z
UID:13949-1763820000-1763827200@www.santeelakes.com
SUMMARY:CAMPERS - Thanksgiving Craft
DESCRIPTION:Let’s get thankful with some Thanksgiving crafts! \nAll children must be accompanied by an adult.
URL:https://www.santeelakes.com/event/campers-thanksgiving-craft/
CATEGORIES:Campground Events
END:VEVENT
END:VCALENDAR