BEGIN:VCALENDAR
VERSION:2.0
PRODID:-//Santee Lakes - ECPv6.15.20//NONSGML v1.0//EN
CALSCALE:GREGORIAN
METHOD:PUBLISH
X-WR-CALNAME:Santee Lakes
X-ORIGINAL-URL:https://www.santeelakes.com
X-WR-CALDESC:Events for Santee Lakes
REFRESH-INTERVAL;VALUE=DURATION:PT1H
X-Robots-Tag:noindex
X-PUBLISHED-TTL:PT1H
BEGIN:VTIMEZONE
TZID:America/Los_Angeles
BEGIN:DAYLIGHT
TZOFFSETFROM:-0800
TZOFFSETTO:-0700
TZNAME:PDT
DTSTART:20250309T100000
END:DAYLIGHT
BEGIN:STANDARD
TZOFFSETFROM:-0700
TZOFFSETTO:-0800
TZNAME:PST
DTSTART:20251102T090000
END:STANDARD
BEGIN:DAYLIGHT
TZOFFSETFROM:-0800
TZOFFSETTO:-0700
TZNAME:PDT
DTSTART:20260308T100000
END:DAYLIGHT
BEGIN:STANDARD
TZOFFSETFROM:-0700
TZOFFSETTO:-0800
TZNAME:PST
DTSTART:20261101T090000
END:STANDARD
BEGIN:DAYLIGHT
TZOFFSETFROM:-0800
TZOFFSETTO:-0700
TZNAME:PDT
DTSTART:20270314T100000
END:DAYLIGHT
BEGIN:STANDARD
TZOFFSETFROM:-0700
TZOFFSETTO:-0800
TZNAME:PST
DTSTART:20271107T090000
END:STANDARD
END:VTIMEZONE
BEGIN:VEVENT
DTSTART;TZID=America/Los_Angeles:20260411T060000
DTEND;TZID=America/Los_Angeles:20260411T190000
DTSTAMP:20260419T124529
CREATED:20260106T201418Z
LAST-MODIFIED:20260106T201731Z
UID:14685-1775887200-1775934000@www.santeelakes.com
SUMMARY:Catfish Opener
DESCRIPTION:We will be stocking Lakes 2\, 3\, 4\, 6 & 7 with 2\,500 lbs of catfish! \nBook now 😉 \nAdult Day Permit\n(Ages 16+) $10\nSenior Permit\n(Ages 60+) $6\nJunior Permit\n(Ages 15 and under) $6\nExtra Pole Stamp\n$4
URL:https://www.santeelakes.com/event/catfish-opener-7/
CATEGORIES:Campground Events,Park Events
END:VEVENT
BEGIN:VEVENT
DTSTART;TZID=America/Los_Angeles:20260411T100000
DTEND;TZID=America/Los_Angeles:20260411T110000
DTSTAMP:20260419T124529
CREATED:20260130T005231Z
LAST-MODIFIED:20260130T005231Z
UID:15000-1775901600-1775905200@www.santeelakes.com
SUMMARY:Camper - Sports on the Lawn every Saturday 10AM-11AM
DESCRIPTION:No need to sign up\, just join us!
URL:https://www.santeelakes.com/event/camper-sports-on-the-lawn-every-saturday-10am-11am-15/
CATEGORIES:Campground Events
END:VEVENT
BEGIN:VEVENT
DTSTART;TZID=America/Los_Angeles:20260411T130000
DTEND;TZID=America/Los_Angeles:20260411T143000
DTSTAMP:20260419T124529
CREATED:20260115T010616Z
LAST-MODIFIED:20260115T010616Z
UID:14724-1775912400-1775917800@www.santeelakes.com
SUMMARY:Camper's Spring Ice Cream Social
DESCRIPTION:You know you want some! \nJoin us on the Clubhouse lawn for some ice cream and meet your neighbors. \nWe will serve until it’s gone!
URL:https://www.santeelakes.com/event/campers-spring-ice-cream-social/
CATEGORIES:Campground Events
END:VEVENT
END:VCALENDAR