BEGIN:VCALENDAR
VERSION:2.0
PRODID:-//Santee Lakes - ECPv6.15.20//NONSGML v1.0//EN
CALSCALE:GREGORIAN
METHOD:PUBLISH
X-ORIGINAL-URL:https://www.santeelakes.com
X-WR-CALDESC:Events for Santee Lakes
REFRESH-INTERVAL;VALUE=DURATION:PT1H
X-Robots-Tag:noindex
X-PUBLISHED-TTL:PT1H
BEGIN:VTIMEZONE
TZID:America/Los_Angeles
BEGIN:DAYLIGHT
TZOFFSETFROM:-0800
TZOFFSETTO:-0700
TZNAME:PDT
DTSTART:20250309T100000
END:DAYLIGHT
BEGIN:STANDARD
TZOFFSETFROM:-0700
TZOFFSETTO:-0800
TZNAME:PST
DTSTART:20251102T090000
END:STANDARD
BEGIN:DAYLIGHT
TZOFFSETFROM:-0800
TZOFFSETTO:-0700
TZNAME:PDT
DTSTART:20260308T100000
END:DAYLIGHT
BEGIN:STANDARD
TZOFFSETFROM:-0700
TZOFFSETTO:-0800
TZNAME:PST
DTSTART:20261101T090000
END:STANDARD
BEGIN:DAYLIGHT
TZOFFSETFROM:-0800
TZOFFSETTO:-0700
TZNAME:PDT
DTSTART:20270314T100000
END:DAYLIGHT
BEGIN:STANDARD
TZOFFSETFROM:-0700
TZOFFSETTO:-0800
TZNAME:PST
DTSTART:20271107T090000
END:STANDARD
END:VTIMEZONE
BEGIN:VEVENT
DTSTART;TZID=America/Los_Angeles:20260523T080000
DTEND;TZID=America/Los_Angeles:20260523T103000
DTSTAMP:20260419T124537
CREATED:20260129T212009Z
LAST-MODIFIED:20260129T212129Z
UID:14930-1779523200-1779532200@www.santeelakes.com
SUMMARY:Lion's Club Pancake Breakfast
DESCRIPTION:Come grab some yummy breakfast for a great cause!
URL:https://www.santeelakes.com/event/lions-club-pancake-breakfast-31/
END:VEVENT
BEGIN:VEVENT
DTSTART;TZID=America/Los_Angeles:20260523T100000
DTEND;TZID=America/Los_Angeles:20260523T110000
DTSTAMP:20260419T124537
CREATED:20260130T005753Z
LAST-MODIFIED:20260130T005753Z
UID:15013-1779530400-1779534000@www.santeelakes.com
SUMMARY:Camper - Sports on the Lawn every Saturday 10AM-11AM
DESCRIPTION:No need to sign up\, just join us!
URL:https://www.santeelakes.com/event/camper-sports-on-the-lawn-every-saturday-10am-11am-21/
CATEGORIES:Campground Events
END:VEVENT
BEGIN:VEVENT
DTSTART;TZID=America/Los_Angeles:20260523T100000
DTEND;TZID=America/Los_Angeles:20260523T120000
DTSTAMP:20260419T124537
CREATED:20260127T234232Z
LAST-MODIFIED:20260127T234255Z
UID:14792-1779530400-1779537600@www.santeelakes.com
SUMMARY:Memorial Day Weekend Fun
DESCRIPTION:Slip & Slides & Water Fight on the Lawn in lieu of Sports./ \nClubhouse Lawn 10AM-12PM
URL:https://www.santeelakes.com/event/memorial-day-weekend-fun-2/
CATEGORIES:Campground Events
END:VEVENT
BEGIN:VEVENT
DTSTART;TZID=America/Los_Angeles:20260523T170000
DTEND;TZID=America/Los_Angeles:20260523T190000
DTSTAMP:20260419T124537
CREATED:20260128T001136Z
LAST-MODIFIED:20260128T001136Z
UID:14802-1779555600-1779562800@www.santeelakes.com
SUMMARY:Concert Series on Deck - Gary Seiler
DESCRIPTION:Join us on deck for some great music and fantastic food!
URL:https://www.santeelakes.com/event/concert-series-on-deck-gary-seiler/
CATEGORIES:Campground Events,Park Events
END:VEVENT
END:VCALENDAR