BEGIN:VCALENDAR
VERSION:2.0
PRODID:-//Santee Lakes - ECPv6.15.20//NONSGML v1.0//EN
CALSCALE:GREGORIAN
METHOD:PUBLISH
X-ORIGINAL-URL:https://www.santeelakes.com
X-WR-CALDESC:Events for Santee Lakes
REFRESH-INTERVAL;VALUE=DURATION:PT1H
X-Robots-Tag:noindex
X-PUBLISHED-TTL:PT1H
BEGIN:VTIMEZONE
TZID:America/Los_Angeles
BEGIN:DAYLIGHT
TZOFFSETFROM:-0800
TZOFFSETTO:-0700
TZNAME:PDT
DTSTART:20250309T100000
END:DAYLIGHT
BEGIN:STANDARD
TZOFFSETFROM:-0700
TZOFFSETTO:-0800
TZNAME:PST
DTSTART:20251102T090000
END:STANDARD
BEGIN:DAYLIGHT
TZOFFSETFROM:-0800
TZOFFSETTO:-0700
TZNAME:PDT
DTSTART:20260308T100000
END:DAYLIGHT
BEGIN:STANDARD
TZOFFSETFROM:-0700
TZOFFSETTO:-0800
TZNAME:PST
DTSTART:20261101T090000
END:STANDARD
BEGIN:DAYLIGHT
TZOFFSETFROM:-0800
TZOFFSETTO:-0700
TZNAME:PDT
DTSTART:20270314T100000
END:DAYLIGHT
BEGIN:STANDARD
TZOFFSETFROM:-0700
TZOFFSETTO:-0800
TZNAME:PST
DTSTART:20271107T090000
END:STANDARD
END:VTIMEZONE
BEGIN:VEVENT
DTSTART;TZID=America/Los_Angeles:20260530T100000
DTEND;TZID=America/Los_Angeles:20260530T110000
DTSTAMP:20260419T124537
CREATED:20260130T005832Z
LAST-MODIFIED:20260130T005832Z
UID:15015-1780135200-1780138800@www.santeelakes.com
SUMMARY:Camper - Sports on the Lawn every Saturday 10AM-11AM
DESCRIPTION:No need to sign up\, just join us!
URL:https://www.santeelakes.com/event/camper-sports-on-the-lawn-every-saturday-10am-11am-22/
CATEGORIES:Campground Events
END:VEVENT
BEGIN:VEVENT
DTSTART;TZID=America/Los_Angeles:20260530T120000
DTEND;TZID=America/Los_Angeles:20260530T170000
DTSTAMP:20260419T124537
CREATED:20260106T202055Z
LAST-MODIFIED:20260106T202055Z
UID:14692-1780142400-1780160400@www.santeelakes.com
SUMMARY:Cornhole Tournament
DESCRIPTION:Save the date for our upcoming Cornhole Tournament\, brought to you by Southern California Cornhole Association! \nThe event will be open to everyone and held at Lake 1. \nMore details to follow.
URL:https://www.santeelakes.com/event/cornhole-tournament/
CATEGORIES:Campground Events,Park Events
END:VEVENT
BEGIN:VEVENT
DTSTART;TZID=America/Los_Angeles:20260530T160000
DTEND;TZID=America/Los_Angeles:20260530T180000
DTSTAMP:20260419T124537
CREATED:20260127T234418Z
LAST-MODIFIED:20260127T234418Z
UID:14794-1780156800-1780164000@www.santeelakes.com
SUMMARY:Pedal Boat BINGO!
DESCRIPTION:Win a pedal boat ride! \nClubhouse 4PM-6PM
URL:https://www.santeelakes.com/event/pedal-boat-bingo-5/
CATEGORIES:Campground Events
END:VEVENT
BEGIN:VEVENT
DTSTART;TZID=America/Los_Angeles:20260530T170000
DTEND;TZID=America/Los_Angeles:20260530T190000
DTSTAMP:20260419T124537
CREATED:20260128T001256Z
LAST-MODIFIED:20260128T001256Z
UID:14804-1780160400-1780167600@www.santeelakes.com
SUMMARY:Concert Series on Deck - 8 Track Highway
DESCRIPTION:Join us on deck for some great music and fantastic food!
URL:https://www.santeelakes.com/event/concert-series-on-deck-8-track-highway/
CATEGORIES:Campground Events,Park Events
END:VEVENT
END:VCALENDAR