BEGIN:VCALENDAR
VERSION:2.0
PRODID:-//Santee Lakes - ECPv6.15.20//NONSGML v1.0//EN
CALSCALE:GREGORIAN
METHOD:PUBLISH
X-ORIGINAL-URL:https://www.santeelakes.com
X-WR-CALDESC:Events for Santee Lakes
REFRESH-INTERVAL;VALUE=DURATION:PT1H
X-Robots-Tag:noindex
X-PUBLISHED-TTL:PT1H
BEGIN:VTIMEZONE
TZID:America/Los_Angeles
BEGIN:DAYLIGHT
TZOFFSETFROM:-0800
TZOFFSETTO:-0700
TZNAME:PDT
DTSTART:20250309T100000
END:DAYLIGHT
BEGIN:STANDARD
TZOFFSETFROM:-0700
TZOFFSETTO:-0800
TZNAME:PST
DTSTART:20251102T090000
END:STANDARD
BEGIN:DAYLIGHT
TZOFFSETFROM:-0800
TZOFFSETTO:-0700
TZNAME:PDT
DTSTART:20260308T100000
END:DAYLIGHT
BEGIN:STANDARD
TZOFFSETFROM:-0700
TZOFFSETTO:-0800
TZNAME:PST
DTSTART:20261101T090000
END:STANDARD
BEGIN:DAYLIGHT
TZOFFSETFROM:-0800
TZOFFSETTO:-0700
TZNAME:PDT
DTSTART:20270314T100000
END:DAYLIGHT
BEGIN:STANDARD
TZOFFSETFROM:-0700
TZOFFSETTO:-0800
TZNAME:PST
DTSTART:20271107T090000
END:STANDARD
END:VTIMEZONE
BEGIN:VEVENT
DTSTART;VALUE=DATE:20260701
DTEND;VALUE=DATE:20260702
DTSTAMP:20260419T142432
CREATED:20260225T184519Z
LAST-MODIFIED:20260225T192001Z
UID:15156-1782864000-1782950399@www.santeelakes.com
SUMMARY:Santee Lakes Explorer BINGO!
DESCRIPTION:2026 Park BINGO Challenge is ON at Santee Lakes Recreation Preserve! 📸 \nComplete fun park activities\, snap photo proof\, and win prizes!\n🎯 BINGO (one line) = FREE park entry\n🏆 Blackout (full card) = Day at the Park Pack \nFIND BINGO! CARD AND RULES HERE. \nBring completed cards + photos to the General Store to redeem.\nValid through 2026. See BINGO card for full details. \n 
URL:https://www.santeelakes.com/event/santee-lakes-explorer-bingo-5/
CATEGORIES:Campground Events,Park Events
END:VEVENT
BEGIN:VEVENT
DTSTART;TZID=America/Los_Angeles:20260701T160000
DTEND;TZID=America/Los_Angeles:20260701T170000
DTSTAMP:20260419T142432
CREATED:20260127T222715Z
LAST-MODIFIED:20260127T222715Z
UID:14762-1782921600-1782925200@www.santeelakes.com
SUMMARY:Red\, White & Blue Crafts
DESCRIPTION:Let’s make some crafty things to celebrate our independence! \nClubhouse 4PM-5PM
URL:https://www.santeelakes.com/event/red-white-blue-crafts/
CATEGORIES:Campground Events
END:VEVENT
BEGIN:VEVENT
DTSTART;TZID=America/Los_Angeles:20260701T194500
DTEND;TZID=America/Los_Angeles:20260701T210000
DTSTAMP:20260419T142432
CREATED:20260127T223220Z
LAST-MODIFIED:20260127T223220Z
UID:14764-1782935100-1782939600@www.santeelakes.com
SUMMARY:Top Gun - Golf Cart Drive in Movie
DESCRIPTION:“Sorry\, Goose\, but it’s time to buzz the tower.” – Maverick \nLet’s watch one of the greatest movies of our time! Pull up a golf-cart\, beach chair or a blanket and watch Top Gun.
URL:https://www.santeelakes.com/event/top-gun-golf-cart-drive-in-movie/
CATEGORIES:Campground Events
END:VEVENT
END:VCALENDAR