BEGIN:VCALENDAR
VERSION:2.0
PRODID:-//Santee Lakes - ECPv6.15.20//NONSGML v1.0//EN
CALSCALE:GREGORIAN
METHOD:PUBLISH
X-ORIGINAL-URL:https://www.santeelakes.com
X-WR-CALDESC:Events for Santee Lakes
REFRESH-INTERVAL;VALUE=DURATION:PT1H
X-Robots-Tag:noindex
X-PUBLISHED-TTL:PT1H
BEGIN:VTIMEZONE
TZID:America/Los_Angeles
BEGIN:DAYLIGHT
TZOFFSETFROM:-0800
TZOFFSETTO:-0700
TZNAME:PDT
DTSTART:20250309T100000
END:DAYLIGHT
BEGIN:STANDARD
TZOFFSETFROM:-0700
TZOFFSETTO:-0800
TZNAME:PST
DTSTART:20251102T090000
END:STANDARD
BEGIN:DAYLIGHT
TZOFFSETFROM:-0800
TZOFFSETTO:-0700
TZNAME:PDT
DTSTART:20260308T100000
END:DAYLIGHT
BEGIN:STANDARD
TZOFFSETFROM:-0700
TZOFFSETTO:-0800
TZNAME:PST
DTSTART:20261101T090000
END:STANDARD
BEGIN:DAYLIGHT
TZOFFSETFROM:-0800
TZOFFSETTO:-0700
TZNAME:PDT
DTSTART:20270314T100000
END:DAYLIGHT
BEGIN:STANDARD
TZOFFSETFROM:-0700
TZOFFSETTO:-0800
TZNAME:PST
DTSTART:20271107T090000
END:STANDARD
END:VTIMEZONE
BEGIN:VEVENT
DTSTART;TZID=America/Los_Angeles:20260711T100000
DTEND;TZID=America/Los_Angeles:20260711T110000
DTSTAMP:20260419T155547
CREATED:20260130T010709Z
LAST-MODIFIED:20260130T010709Z
UID:15025-1783764000-1783767600@www.santeelakes.com
SUMMARY:Camper - Sports on the Lawn every Saturday 10AM-11AM
DESCRIPTION:No need to sign up\, just join us!
URL:https://www.santeelakes.com/event/camper-sports-on-the-lawn-every-saturday-10am-11am-27/
CATEGORIES:Campground Events
END:VEVENT
BEGIN:VEVENT
DTSTART;TZID=America/Los_Angeles:20260711T160000
DTEND;TZID=America/Los_Angeles:20260711T170000
DTSTAMP:20260419T155547
CREATED:20260127T230133Z
LAST-MODIFIED:20260127T230133Z
UID:14778-1783785600-1783789200@www.santeelakes.com
SUMMARY:Outdoor Games
DESCRIPTION:Outdoor and Games\, there are no two better words when you are camping! \nJoin us on the Campground Lawn.
URL:https://www.santeelakes.com/event/outdoor-games-2/
CATEGORIES:Campground Events
END:VEVENT
BEGIN:VEVENT
DTSTART;TZID=America/Los_Angeles:20260711T170000
DTEND;TZID=America/Los_Angeles:20260711T190000
DTSTAMP:20260419T155547
CREATED:20260129T204408Z
LAST-MODIFIED:20260129T204408Z
UID:14884-1783789200-1783796400@www.santeelakes.com
SUMMARY:Concert Series on Deck - Groove Therapy
DESCRIPTION:Join us on deck for some great music and fantastic food!
URL:https://www.santeelakes.com/event/concert-series-on-deck-groove-therapy/
CATEGORIES:Campground Events,Park Events
END:VEVENT
END:VCALENDAR