BEGIN:VCALENDAR
VERSION:2.0
PRODID:-//Santee Lakes - ECPv6.15.20//NONSGML v1.0//EN
CALSCALE:GREGORIAN
METHOD:PUBLISH
X-WR-CALNAME:Santee Lakes
X-ORIGINAL-URL:https://www.santeelakes.com
X-WR-CALDESC:Events for Santee Lakes
REFRESH-INTERVAL;VALUE=DURATION:PT1H
X-Robots-Tag:noindex
X-PUBLISHED-TTL:PT1H
BEGIN:VTIMEZONE
TZID:America/Los_Angeles
BEGIN:DAYLIGHT
TZOFFSETFROM:-0800
TZOFFSETTO:-0700
TZNAME:PDT
DTSTART:20250309T100000
END:DAYLIGHT
BEGIN:STANDARD
TZOFFSETFROM:-0700
TZOFFSETTO:-0800
TZNAME:PST
DTSTART:20251102T090000
END:STANDARD
BEGIN:DAYLIGHT
TZOFFSETFROM:-0800
TZOFFSETTO:-0700
TZNAME:PDT
DTSTART:20260308T100000
END:DAYLIGHT
BEGIN:STANDARD
TZOFFSETFROM:-0700
TZOFFSETTO:-0800
TZNAME:PST
DTSTART:20261101T090000
END:STANDARD
BEGIN:DAYLIGHT
TZOFFSETFROM:-0800
TZOFFSETTO:-0700
TZNAME:PDT
DTSTART:20270314T100000
END:DAYLIGHT
BEGIN:STANDARD
TZOFFSETFROM:-0700
TZOFFSETTO:-0800
TZNAME:PST
DTSTART:20271107T090000
END:STANDARD
END:VTIMEZONE
BEGIN:VEVENT
DTSTART;TZID=America/Los_Angeles:20260815T110000
DTEND;TZID=America/Los_Angeles:20260815T110000
DTSTAMP:20260419T173229
CREATED:20260130T172230Z
LAST-MODIFIED:20260130T172230Z
UID:15038-1786791600-1786791600@www.santeelakes.com
SUMMARY:Camper - Sports on the Lawn every Saturday 10AM-11AM
DESCRIPTION:No need to sign up\, just join us!
URL:https://www.santeelakes.com/event/camper-sports-on-the-lawn-every-saturday-10am-11am-32/
CATEGORIES:Campground Events
END:VEVENT
BEGIN:VEVENT
DTSTART;TZID=America/Los_Angeles:20260815T170000
DTEND;TZID=America/Los_Angeles:20260815T190000
DTSTAMP:20260419T173229
CREATED:20260129T210016Z
LAST-MODIFIED:20260129T210016Z
UID:14904-1786813200-1786820400@www.santeelakes.com
SUMMARY:Concert Series on Deck - Gary Seiler
DESCRIPTION:Join us on deck for some great music and fantastic food!
URL:https://www.santeelakes.com/event/concert-series-on-deck-gary-seiler-2/
CATEGORIES:Campground Events,Park Events
END:VEVENT
BEGIN:VEVENT
DTSTART;TZID=America/Los_Angeles:20260815T180000
DTEND;TZID=America/Los_Angeles:20260815T200000
DTSTAMP:20260419T173229
CREATED:20260128T011243Z
LAST-MODIFIED:20260128T011243Z
UID:14825-1786816800-1786824000@www.santeelakes.com
SUMMARY:Campfire & S'mores
DESCRIPTION:We bring the s’mores! \n\n\nLakeshore Fire Ring \n\n\n6:00PM-8:00PM
URL:https://www.santeelakes.com/event/campfire-smores-18/
CATEGORIES:Campground Events
END:VEVENT
END:VCALENDAR