BEGIN:VCALENDAR
VERSION:2.0
PRODID:-//Santee Lakes - ECPv6.15.20//NONSGML v1.0//EN
CALSCALE:GREGORIAN
METHOD:PUBLISH
X-WR-CALNAME:Santee Lakes
X-ORIGINAL-URL:https://www.santeelakes.com
X-WR-CALDESC:Events for Santee Lakes
REFRESH-INTERVAL;VALUE=DURATION:PT1H
X-Robots-Tag:noindex
X-PUBLISHED-TTL:PT1H
BEGIN:VTIMEZONE
TZID:America/Los_Angeles
BEGIN:DAYLIGHT
TZOFFSETFROM:-0800
TZOFFSETTO:-0700
TZNAME:PDT
DTSTART:20250309T100000
END:DAYLIGHT
BEGIN:STANDARD
TZOFFSETFROM:-0700
TZOFFSETTO:-0800
TZNAME:PST
DTSTART:20251102T090000
END:STANDARD
BEGIN:DAYLIGHT
TZOFFSETFROM:-0800
TZOFFSETTO:-0700
TZNAME:PDT
DTSTART:20260308T100000
END:DAYLIGHT
BEGIN:STANDARD
TZOFFSETFROM:-0700
TZOFFSETTO:-0800
TZNAME:PST
DTSTART:20261101T090000
END:STANDARD
BEGIN:DAYLIGHT
TZOFFSETFROM:-0800
TZOFFSETTO:-0700
TZNAME:PDT
DTSTART:20270314T100000
END:DAYLIGHT
BEGIN:STANDARD
TZOFFSETFROM:-0700
TZOFFSETTO:-0800
TZNAME:PST
DTSTART:20271107T090000
END:STANDARD
END:VTIMEZONE
BEGIN:VEVENT
DTSTART;TZID=America/Los_Angeles:20260926T080000
DTEND;TZID=America/Los_Angeles:20260926T103000
DTSTAMP:20260419T190904
CREATED:20260129T212942Z
LAST-MODIFIED:20260129T212942Z
UID:14940-1790409600-1790418600@www.santeelakes.com
SUMMARY:Lion's Club Pancake Breakfast
DESCRIPTION:Come have a yummy breakfast for a great cause!
URL:https://www.santeelakes.com/event/lions-club-pancake-breakfast-33/
CATEGORIES:Campground Events,Park Events
END:VEVENT
BEGIN:VEVENT
DTSTART;TZID=America/Los_Angeles:20260926T100000
DTEND;TZID=America/Los_Angeles:20260926T110000
DTSTAMP:20260419T190904
CREATED:20260130T172658Z
LAST-MODIFIED:20260130T172658Z
UID:15050-1790416800-1790420400@www.santeelakes.com
SUMMARY:Camper - Sports on the Lawn every Saturday 10AM-11AM
DESCRIPTION:No need to sign up\, just join us!
URL:https://www.santeelakes.com/event/camper-sports-on-the-lawn-every-saturday-10am-11am-38/
CATEGORIES:Campground Events
END:VEVENT
BEGIN:VEVENT
DTSTART;TZID=America/Los_Angeles:20260926T130000
DTEND;TZID=America/Los_Angeles:20260926T140000
DTSTAMP:20260419T190904
CREATED:20260129T213037Z
LAST-MODIFIED:20260129T231128Z
UID:14942-1790427600-1790431200@www.santeelakes.com
SUMMARY:Camper's Ice Cream Social
DESCRIPTION:Until it’s gone\, we have lots of ice cream!
URL:https://www.santeelakes.com/event/campers-ice-cream-social-4/
CATEGORIES:Campground Events
END:VEVENT
BEGIN:VEVENT
DTSTART;TZID=America/Los_Angeles:20260926T170000
DTEND;TZID=America/Los_Angeles:20260926T190000
DTSTAMP:20260419T190904
CREATED:20260129T211116Z
LAST-MODIFIED:20260129T211237Z
UID:14928-1790442000-1790449200@www.santeelakes.com
SUMMARY:Concert Series on Deck - Appian Way
DESCRIPTION:Join us on deck for some great music and fantastic food!
URL:https://www.santeelakes.com/event/concert-series-on-deck-appian-way/
CATEGORIES:Campground Events,Park Events
END:VEVENT
END:VCALENDAR