BEGIN:VCALENDAR
VERSION:2.0
PRODID:-//Santee Lakes - ECPv6.15.20//NONSGML v1.0//EN
CALSCALE:GREGORIAN
METHOD:PUBLISH
X-ORIGINAL-URL:https://www.santeelakes.com
X-WR-CALDESC:Events for Santee Lakes
REFRESH-INTERVAL;VALUE=DURATION:PT1H
X-Robots-Tag:noindex
X-PUBLISHED-TTL:PT1H
BEGIN:VTIMEZONE
TZID:America/Los_Angeles
BEGIN:DAYLIGHT
TZOFFSETFROM:-0800
TZOFFSETTO:-0700
TZNAME:PDT
DTSTART:20250309T100000
END:DAYLIGHT
BEGIN:STANDARD
TZOFFSETFROM:-0700
TZOFFSETTO:-0800
TZNAME:PST
DTSTART:20251102T090000
END:STANDARD
BEGIN:DAYLIGHT
TZOFFSETFROM:-0800
TZOFFSETTO:-0700
TZNAME:PDT
DTSTART:20260308T100000
END:DAYLIGHT
BEGIN:STANDARD
TZOFFSETFROM:-0700
TZOFFSETTO:-0800
TZNAME:PST
DTSTART:20261101T090000
END:STANDARD
BEGIN:DAYLIGHT
TZOFFSETFROM:-0800
TZOFFSETTO:-0700
TZNAME:PDT
DTSTART:20270314T100000
END:DAYLIGHT
BEGIN:STANDARD
TZOFFSETFROM:-0700
TZOFFSETTO:-0800
TZNAME:PST
DTSTART:20271107T090000
END:STANDARD
END:VTIMEZONE
BEGIN:VEVENT
DTSTART;TZID=America/Los_Angeles:20261226T080000
DTEND;TZID=America/Los_Angeles:20261226T103000
DTSTAMP:20260420T000044
CREATED:20260130T004014Z
LAST-MODIFIED:20260130T004014Z
UID:14984-1798272000-1798281000@www.santeelakes.com
SUMMARY:Lion's Club Pancake Breakfast
DESCRIPTION:Grab some yummy breakfast for a great cause!
URL:https://www.santeelakes.com/event/lions-club-pancake-breakfast-35/
CATEGORIES:Campground Events
END:VEVENT
BEGIN:VEVENT
DTSTART;TZID=America/Los_Angeles:20261226T100000
DTEND;TZID=America/Los_Angeles:20261226T110000
DTSTAMP:20260420T000044
CREATED:20260130T173722Z
LAST-MODIFIED:20260130T174134Z
UID:15076-1798279200-1798282800@www.santeelakes.com
SUMMARY:Camper - Sports on the Lawn every Saturday 10AM-11AM
DESCRIPTION:No need to sign up\, just join us!
URL:https://www.santeelakes.com/event/camper-sports-on-the-lawn-every-saturday-10am-11am-51/
CATEGORIES:Campground Events
END:VEVENT
BEGIN:VEVENT
DTSTART;TZID=America/Los_Angeles:20261226T140000
DTEND;TZID=America/Los_Angeles:20261226T160000
DTSTAMP:20260420T000044
CREATED:20260130T004116Z
LAST-MODIFIED:20260130T004116Z
UID:14986-1798293600-1798300800@www.santeelakes.com
SUMMARY:Camper's Game Night
DESCRIPTION:Join us for some good old fashioned games!
URL:https://www.santeelakes.com/event/campers-game-night/
CATEGORIES:Campground Events
END:VEVENT
END:VCALENDAR