BEGIN:VCALENDAR
VERSION:2.0
PRODID:-//Santee Lakes - ECPv6.15.20//NONSGML v1.0//EN
CALSCALE:GREGORIAN
METHOD:PUBLISH
X-WR-CALNAME:Santee Lakes
X-ORIGINAL-URL:https://www.santeelakes.com
X-WR-CALDESC:Events for Santee Lakes
REFRESH-INTERVAL;VALUE=DURATION:PT1H
X-Robots-Tag:noindex
X-PUBLISHED-TTL:PT1H
BEGIN:VTIMEZONE
TZID:America/Los_Angeles
BEGIN:DAYLIGHT
TZOFFSETFROM:-0800
TZOFFSETTO:-0700
TZNAME:PDT
DTSTART:20250309T100000
END:DAYLIGHT
BEGIN:STANDARD
TZOFFSETFROM:-0700
TZOFFSETTO:-0800
TZNAME:PST
DTSTART:20251102T090000
END:STANDARD
BEGIN:DAYLIGHT
TZOFFSETFROM:-0800
TZOFFSETTO:-0700
TZNAME:PDT
DTSTART:20260308T100000
END:DAYLIGHT
BEGIN:STANDARD
TZOFFSETFROM:-0700
TZOFFSETTO:-0800
TZNAME:PST
DTSTART:20261101T090000
END:STANDARD
BEGIN:DAYLIGHT
TZOFFSETFROM:-0800
TZOFFSETTO:-0700
TZNAME:PDT
DTSTART:20270314T100000
END:DAYLIGHT
BEGIN:STANDARD
TZOFFSETFROM:-0700
TZOFFSETTO:-0800
TZNAME:PST
DTSTART:20271107T090000
END:STANDARD
END:VTIMEZONE
BEGIN:VEVENT
DTSTART;TZID=America/Los_Angeles:20260207T100000
DTEND;TZID=America/Los_Angeles:20260207T110000
DTSTAMP:20260419T173643
CREATED:20251216T004153Z
LAST-MODIFIED:20251216T004153Z
UID:14614-1770458400-1770462000@www.santeelakes.com
SUMMARY:Camper - Sports on the Lawn every Saturday 10AM-11AM
DESCRIPTION:No need to sign up\, just join us!
URL:https://www.santeelakes.com/event/camper-sports-on-the-lawn-every-saturday-10am-11am-6/
CATEGORIES:Campground Events
END:VEVENT
BEGIN:VEVENT
DTSTART;TZID=America/Los_Angeles:20260207T140000
DTEND;TZID=America/Los_Angeles:20260207T160000
DTSTAMP:20260419T173643
CREATED:20251216T002705Z
LAST-MODIFIED:20251216T002705Z
UID:14599-1770472800-1770480000@www.santeelakes.com
SUMMARY:Camper - Valentine's Day Craft
DESCRIPTION:Make a little something for Vday!
URL:https://www.santeelakes.com/event/camper-valentines-day-craft/
CATEGORIES:Campground Events
END:VEVENT
BEGIN:VEVENT
DTSTART;TZID=America/Los_Angeles:20260208T153000
DTEND;TZID=America/Los_Angeles:20260208T190000
DTSTAMP:20260419T173643
CREATED:20251216T003309Z
LAST-MODIFIED:20251216T003309Z
UID:14604-1770564600-1770577200@www.santeelakes.com
SUMMARY:Camper - Superbowl Watch Party
DESCRIPTION:Bring a snack to share \n\n\n3:30PM Kickoff
URL:https://www.santeelakes.com/event/camper-superbowl-watch-party/
CATEGORIES:Campground Events
END:VEVENT
BEGIN:VEVENT
DTSTART;TZID=America/Los_Angeles:20260214T080000
DTEND;TZID=America/Los_Angeles:20260214T103000
DTSTAMP:20260419T173643
CREATED:20251216T003752Z
LAST-MODIFIED:20251216T003752Z
UID:14608-1771056000-1771065000@www.santeelakes.com
SUMMARY:Lion’s Club Pancake Breakfast
DESCRIPTION:We know you LOVE pancakes! \nGrab some yummy breakfast for a great cause! \n\n\n8:00AM-10:30AM
URL:https://www.santeelakes.com/event/lions-club-pancake-breakfast-28/
CATEGORIES:Campground Events,Park Events
END:VEVENT
BEGIN:VEVENT
DTSTART;TZID=America/Los_Angeles:20260214T100000
DTEND;TZID=America/Los_Angeles:20260214T110000
DTSTAMP:20260419T173643
CREATED:20251216T004304Z
LAST-MODIFIED:20251216T004304Z
UID:14616-1771063200-1771066800@www.santeelakes.com
SUMMARY:Camper - Sports on the Lawn every Saturday 10AM-11AM
DESCRIPTION:No need to sign up\, join us!
URL:https://www.santeelakes.com/event/camper-sports-on-the-lawn-every-saturday-10am-11am-7/
CATEGORIES:Campground Events
END:VEVENT
BEGIN:VEVENT
DTSTART;TZID=America/Los_Angeles:20260214T170000
DTEND;TZID=America/Los_Angeles:20260214T180000
DTSTAMP:20260419T173643
CREATED:20251216T003618Z
LAST-MODIFIED:20251216T003618Z
UID:14606-1771088400-1771092000@www.santeelakes.com
SUMMARY:Camper - Valentine's Day Campfire & S'mores
DESCRIPTION:You bring the love\, we bring the s’mores! \n\n\nLakeshore Fire Ring \n\n\n5:00PM-6:00PM
URL:https://www.santeelakes.com/event/camper-valentines-day-campfire-smores/
CATEGORIES:Campground Events
END:VEVENT
BEGIN:VEVENT
DTSTART;TZID=America/Los_Angeles:20260221T090000
DTEND;TZID=America/Los_Angeles:20260221T103000
DTSTAMP:20260419T173643
CREATED:20260223T204559Z
LAST-MODIFIED:20260223T204559Z
UID:15135-1771664400-1771669800@www.santeelakes.com
SUMMARY:Fishing 101
DESCRIPTION:Come join an experienced angler from our Staff to learn the basics of catching a fish at Santee Lakes!  Bring your rod and bait (you can also get bait in the General Store). \nMeet in front of the General Store a little before 9:00AM and the event will be 9:00AM-10:30AM. \nPlease RSVP at this LINK so we know you are coming! The event is FREE.
URL:https://www.santeelakes.com/event/fishing-101-12/
CATEGORIES:Campground Events,Park Events
END:VEVENT
BEGIN:VEVENT
DTSTART;TZID=America/Los_Angeles:20260221T100000
DTEND;TZID=America/Los_Angeles:20260221T110000
DTSTAMP:20260419T173643
CREATED:20251216T004358Z
LAST-MODIFIED:20251216T004358Z
UID:14618-1771668000-1771671600@www.santeelakes.com
SUMMARY:Camper - Sports on the Lawn every Saturday 10AM-11AM
DESCRIPTION:No need to sign up\, join us!
URL:https://www.santeelakes.com/event/camper-sports-on-the-lawn-every-saturday-10am-11am-8/
CATEGORIES:Campground Events
END:VEVENT
BEGIN:VEVENT
DTSTART;TZID=America/Los_Angeles:20260221T160000
DTEND;TZID=America/Los_Angeles:20260221T180000
DTSTAMP:20260419T173643
CREATED:20251216T003851Z
LAST-MODIFIED:20251216T003851Z
UID:14610-1771689600-1771696800@www.santeelakes.com
SUMMARY:Camper - PJ's & A Movie
DESCRIPTION:Join us for a family friendly movie! \n\n\n4:00PM – 6:00PM
URL:https://www.santeelakes.com/event/camper-pjs-a-movie/
CATEGORIES:Campground Events
END:VEVENT
BEGIN:VEVENT
DTSTART;TZID=America/Los_Angeles:20260228T100000
DTEND;TZID=America/Los_Angeles:20260228T110000
DTSTAMP:20260419T173643
CREATED:20251216T004539Z
LAST-MODIFIED:20260130T004641Z
UID:14620-1772272800-1772276400@www.santeelakes.com
SUMMARY:Camper - Sports on the Lawn every Saturday 10AM-11AM
DESCRIPTION:No need to sign up\, just join us!
URL:https://www.santeelakes.com/event/camper-sports-on-the-lawn-every-saturday-10am-11am-9/
CATEGORIES:Campground Events
END:VEVENT
BEGIN:VEVENT
DTSTART;TZID=America/Los_Angeles:20260228T160000
DTEND;TZID=America/Los_Angeles:20260228T180000
DTSTAMP:20260419T173643
CREATED:20251216T004019Z
LAST-MODIFIED:20251216T004019Z
UID:14612-1772294400-1772301600@www.santeelakes.com
SUMMARY:Camper - BINGO!
DESCRIPTION:Come play BINGO! \nThere will be prizes.
URL:https://www.santeelakes.com/event/camper-bingo/
CATEGORIES:Campground Events
END:VEVENT
BEGIN:VEVENT
DTSTART;VALUE=DATE:20260301
DTEND;VALUE=DATE:20260302
DTSTAMP:20260419T173643
CREATED:20260225T184257Z
LAST-MODIFIED:20260225T192321Z
UID:15147-1772323200-1772409599@www.santeelakes.com
SUMMARY:Santee Lakes Explorer BINGO!
DESCRIPTION:2026 Park BINGO Challenge is ON at Santee Lakes Recreation Preserve! 📸 \nComplete fun park activities\, snap photo proof\, and win prizes!🎯 BINGO (one line) = FREE park entry🏆 Blackout (full card) = Day at the Park Pack \nFIND BINGO! CARD AND RULES HERE. \nBring completed cards + photos to the General Store to redeem.Valid through 2026. See BINGO card for full details.
URL:https://www.santeelakes.com/event/santee-lakes-explorer-bingo/
CATEGORIES:Campground Events,Park Events
END:VEVENT
BEGIN:VEVENT
DTSTART;TZID=America/Los_Angeles:20260307T093000
DTEND;TZID=America/Los_Angeles:20260307T103000
DTSTAMP:20260419T173643
CREATED:20260223T204641Z
LAST-MODIFIED:20260223T204641Z
UID:15137-1772875800-1772879400@www.santeelakes.com
SUMMARY:Fishing 101
DESCRIPTION:Come join an experienced angler from our Staff to learn the basics of catching a fish at Santee Lakes!  Bring your rod and bait (you can also get bait in the General Store). \nMeet in front of the General Store a little before 9:00AM and the event will be 9:00AM-10:30AM. \nPlease RSVP at this LINK so we know you are coming! The event is FREE.
URL:https://www.santeelakes.com/event/fishing-101-13/
CATEGORIES:Campground Events,Park Events
END:VEVENT
BEGIN:VEVENT
DTSTART;TZID=America/Los_Angeles:20260307T100000
DTEND;TZID=America/Los_Angeles:20260307T110000
DTSTAMP:20260419T173643
CREATED:20260130T004847Z
LAST-MODIFIED:20260130T004847Z
UID:14990-1772877600-1772881200@www.santeelakes.com
SUMMARY:Camper - Sports on the Lawn every Saturday 10AM-11AM
DESCRIPTION:No need to sign up\, just join us!
URL:https://www.santeelakes.com/event/camper-sports-on-the-lawn-every-saturday-10am-11am-10/
CATEGORIES:Campground Events
END:VEVENT
BEGIN:VEVENT
DTSTART;TZID=America/Los_Angeles:20260307T140000
DTEND;TZID=America/Los_Angeles:20260307T160000
DTSTAMP:20260419T173643
CREATED:20260115T005400Z
LAST-MODIFIED:20260115T005400Z
UID:14712-1772892000-1772899200@www.santeelakes.com
SUMMARY:Weird Science
DESCRIPTION:Come experiment with us!
URL:https://www.santeelakes.com/event/weird-science/
CATEGORIES:Campground Events
END:VEVENT
BEGIN:VEVENT
DTSTART;TZID=America/Los_Angeles:20260314T100000
DTEND;TZID=America/Los_Angeles:20260314T110000
DTSTAMP:20260419T173643
CREATED:20260130T004942Z
LAST-MODIFIED:20260130T004942Z
UID:14992-1773482400-1773486000@www.santeelakes.com
SUMMARY:Camper - Sports on the Lawn every Saturday 10AM-11AM
DESCRIPTION:No need to sign up\, just join us!
URL:https://www.santeelakes.com/event/camper-sports-on-the-lawn-every-saturday-10am-11am-11/
CATEGORIES:Campground Events
END:VEVENT
BEGIN:VEVENT
DTSTART;TZID=America/Los_Angeles:20260314T140000
DTEND;TZID=America/Los_Angeles:20260314T160000
DTSTAMP:20260419T173643
CREATED:20260115T005500Z
LAST-MODIFIED:20260115T005500Z
UID:14714-1773496800-1773504000@www.santeelakes.com
SUMMARY:St. Patty's BINGO!
DESCRIPTION:Wear Green\, Win Green!
URL:https://www.santeelakes.com/event/st-pattys-bingo/
CATEGORIES:Campground Events
END:VEVENT
BEGIN:VEVENT
DTSTART;TZID=America/Los_Angeles:20260320T190000
DTEND;TZID=America/Los_Angeles:20260320T200000
DTSTAMP:20260419T173643
CREATED:20260303T183202Z
LAST-MODIFIED:20260303T183202Z
UID:15200-1774033200-1774036800@www.santeelakes.com
SUMMARY:Operation Epic - Laser Tag for Campers
DESCRIPTION:Hey Campers! Join us for a friendly game of laser tag on the Campground Lawn.  No need to sign up\, just show up! \nWe will play every Friday through October.
URL:https://www.santeelakes.com/event/operation-epic-laser-tag-for-campers/
CATEGORIES:Campground Events
END:VEVENT
BEGIN:VEVENT
DTSTART;TZID=America/Los_Angeles:20260321T093000
DTEND;TZID=America/Los_Angeles:20260321T103000
DTSTAMP:20260419T173643
CREATED:20260223T204713Z
LAST-MODIFIED:20260223T204726Z
UID:15139-1774085400-1774089000@www.santeelakes.com
SUMMARY:Fishing 101
DESCRIPTION:Come join an experienced angler from our Staff to learn the basics of catching a fish at Santee Lakes!  Bring your rod and bait (you can also get bait in the General Store). \nMeet in front of the General Store a little before 9:00AM and the event will be 9:00AM-10:30AM. \nPlease RSVP at this LINK so we know you are coming! The event is FREE.
URL:https://www.santeelakes.com/event/15139/
CATEGORIES:Campground Events,Park Events
END:VEVENT
BEGIN:VEVENT
DTSTART;TZID=America/Los_Angeles:20260321T100000
DTEND;TZID=America/Los_Angeles:20260321T110000
DTSTAMP:20260419T173643
CREATED:20260130T005023Z
LAST-MODIFIED:20260130T005023Z
UID:14994-1774087200-1774090800@www.santeelakes.com
SUMMARY:Camper - Sports on the Lawn every Saturday 10AM-11AM
DESCRIPTION:No need to sign up\, just join us!
URL:https://www.santeelakes.com/event/camper-sports-on-the-lawn-every-saturday-10am-11am-12/
CATEGORIES:Campground Events
END:VEVENT
BEGIN:VEVENT
DTSTART;TZID=America/Los_Angeles:20260321T140000
DTEND;TZID=America/Los_Angeles:20260321T160000
DTSTAMP:20260419T173643
CREATED:20260115T005749Z
LAST-MODIFIED:20260115T005749Z
UID:14716-1774101600-1774108800@www.santeelakes.com
SUMMARY:Let's build with Legos (bricks)
DESCRIPTION:Each guest will get their own bricks to get creative!  RSVP HERE so we know you are coming. \n$8 to participate and be sure your kiddo brings a parent or guardian.
URL:https://www.santeelakes.com/event/lets-build-with-legos-bricks/
CATEGORIES:Campground Events
END:VEVENT
BEGIN:VEVENT
DTSTART;TZID=America/Los_Angeles:20260327T190000
DTEND;TZID=America/Los_Angeles:20260327T200000
DTSTAMP:20260419T173643
CREATED:20260303T182944Z
LAST-MODIFIED:20260303T183014Z
UID:15197-1774638000-1774641600@www.santeelakes.com
SUMMARY:Operation Epic - Laser Tag for Campers
DESCRIPTION:Hey Campers! Join us for a friendly game of laser tag on the Campground Lawn.  No need to sign up\, just show up! \nWe will play every Friday through October.
URL:https://www.santeelakes.com/event/operation-epic-laser-tag/
CATEGORIES:Campground Events
END:VEVENT
BEGIN:VEVENT
DTSTART;TZID=America/Los_Angeles:20260328T080000
DTEND;TZID=America/Los_Angeles:20260328T103000
DTSTAMP:20260419T173643
CREATED:20260115T005859Z
LAST-MODIFIED:20260115T005859Z
UID:14718-1774684800-1774693800@www.santeelakes.com
SUMMARY:Lion's Club Pancake Breakfast
DESCRIPTION:Grab some yummy breakfast for a great cause! \n 
URL:https://www.santeelakes.com/event/lions-club-pancake-breakfast-29/
CATEGORIES:Campground Events
END:VEVENT
BEGIN:VEVENT
DTSTART;TZID=America/Los_Angeles:20260328T100000
DTEND;TZID=America/Los_Angeles:20260328T110000
DTSTAMP:20260419T173643
CREATED:20260130T005109Z
LAST-MODIFIED:20260130T005109Z
UID:14996-1774692000-1774695600@www.santeelakes.com
SUMMARY:Camper - Sports on the Lawn every Saturday 10AM-11AM
DESCRIPTION:No need to sign up\, just join us!
URL:https://www.santeelakes.com/event/camper-sports-on-the-lawn-every-saturday-10am-11am-13/
CATEGORIES:Campground Events
END:VEVENT
BEGIN:VEVENT
DTSTART;TZID=America/Los_Angeles:20260328T180000
DTEND;TZID=America/Los_Angeles:20260328T190000
DTSTAMP:20260419T173643
CREATED:20260127T230922Z
LAST-MODIFIED:20260127T231743Z
UID:14784-1774720800-1774724400@www.santeelakes.com
SUMMARY:Campfire & S'mores
DESCRIPTION:We bring the S’mores! \nLakeshore Fire Ring – bring a flashlight and park off-site.
URL:https://www.santeelakes.com/event/campfire-smores-16/
CATEGORIES:Campground Events
END:VEVENT
BEGIN:VEVENT
DTSTART;VALUE=DATE:20260401
DTEND;VALUE=DATE:20260402
DTSTAMP:20260419T173643
CREATED:20260225T184332Z
LAST-MODIFIED:20260225T192225Z
UID:15150-1775001600-1775087999@www.santeelakes.com
SUMMARY:Santee Lakes Explorer BINGO!
DESCRIPTION:2026 Park BINGO Challenge is ON at Santee Lakes Recreation Preserve! 📸 \nComplete fun park activities\, snap photo proof\, and win prizes!🎯 BINGO (one line) = FREE park entry🏆 Blackout (full card) = Day at the Park Pack \nFIND BINGO! CARD AND RULES HERE. \nBring completed cards + photos to the General Store to redeem.Valid through 2026. See BINGO card for full details.
URL:https://www.santeelakes.com/event/santee-lakes-explorer-bingo-2/
CATEGORIES:Campground Events,Park Events
END:VEVENT
BEGIN:VEVENT
DTSTART;TZID=America/Los_Angeles:20260403T190000
DTEND;TZID=America/Los_Angeles:20260403T200000
DTSTAMP:20260419T173643
CREATED:20260303T183258Z
LAST-MODIFIED:20260303T183258Z
UID:15202-1775242800-1775246400@www.santeelakes.com
SUMMARY:Operation Epic - Laser Tag for Campers
DESCRIPTION:Hey Campers! Join us for a friendly game of laser tag on the Campground Lawn.  No need to sign up\, just show up! \nWe will play every Friday through October.
URL:https://www.santeelakes.com/event/operation-epic-laser-tag-for-campers-2/
CATEGORIES:Campground Events
END:VEVENT
BEGIN:VEVENT
DTSTART;TZID=America/Los_Angeles:20260404T090000
DTEND;TZID=America/Los_Angeles:20260404T103000
DTSTAMP:20260419T173643
CREATED:20260223T204812Z
LAST-MODIFIED:20260223T204812Z
UID:15142-1775293200-1775298600@www.santeelakes.com
SUMMARY:Fishing 101
DESCRIPTION:Come join an experienced angler from our Staff to learn the basics of catching a fish at Santee Lakes!  Bring your rod and bait (you can also get bait in the General Store). \nMeet in front of the General Store a little before 9:00AM and the event will be 9:00AM-10:30AM. \nPlease RSVP at this LINK so we know you are coming! The event is FREE.
URL:https://www.santeelakes.com/event/fishing-101-14/
CATEGORIES:Campground Events,Park Events
END:VEVENT
BEGIN:VEVENT
DTSTART;TZID=America/Los_Angeles:20260404T100000
DTEND;TZID=America/Los_Angeles:20260404T110000
DTSTAMP:20260419T173643
CREATED:20260130T005152Z
LAST-MODIFIED:20260130T005152Z
UID:14998-1775296800-1775300400@www.santeelakes.com
SUMMARY:Camper - Sports on the Lawn every Saturday 10AM-11AM
DESCRIPTION:No need to sign up\, just join us!
URL:https://www.santeelakes.com/event/camper-sports-on-the-lawn-every-saturday-10am-11am-14/
CATEGORIES:Campground Events
END:VEVENT
BEGIN:VEVENT
DTSTART;TZID=America/Los_Angeles:20260404T100000
DTEND;TZID=America/Los_Angeles:20260404T120000
DTSTAMP:20260419T173643
CREATED:20260115T010331Z
LAST-MODIFIED:20260115T010331Z
UID:14720-1775296800-1775304000@www.santeelakes.com
SUMMARY:CAMPER'S - Egg Hunt\, Crafts\, and The Bunny (a little later)
DESCRIPTION:Join us for the annual egg hunt along with some fun crafts from 10AM-12PM in the Clubhouse! \nThe Easter Bunny will be at the deck from 1PM-3PM for photos!
URL:https://www.santeelakes.com/event/campers-egg-hunt-crafts-and-the-bunny-a-little-later/
CATEGORIES:Campground Events
END:VEVENT
END:VCALENDAR