BEGIN:VCALENDAR
VERSION:2.0
PRODID:-//Santee Lakes - ECPv6.15.20//NONSGML v1.0//EN
CALSCALE:GREGORIAN
METHOD:PUBLISH
X-WR-CALNAME:Santee Lakes
X-ORIGINAL-URL:https://www.santeelakes.com
X-WR-CALDESC:Events for Santee Lakes
REFRESH-INTERVAL;VALUE=DURATION:PT1H
X-Robots-Tag:noindex
X-PUBLISHED-TTL:PT1H
BEGIN:VTIMEZONE
TZID:America/Los_Angeles
BEGIN:DAYLIGHT
TZOFFSETFROM:-0800
TZOFFSETTO:-0700
TZNAME:PDT
DTSTART:20240310T100000
END:DAYLIGHT
BEGIN:STANDARD
TZOFFSETFROM:-0700
TZOFFSETTO:-0800
TZNAME:PST
DTSTART:20241103T090000
END:STANDARD
BEGIN:DAYLIGHT
TZOFFSETFROM:-0800
TZOFFSETTO:-0700
TZNAME:PDT
DTSTART:20250309T100000
END:DAYLIGHT
BEGIN:STANDARD
TZOFFSETFROM:-0700
TZOFFSETTO:-0800
TZNAME:PST
DTSTART:20251102T090000
END:STANDARD
BEGIN:DAYLIGHT
TZOFFSETFROM:-0800
TZOFFSETTO:-0700
TZNAME:PDT
DTSTART:20260308T100000
END:DAYLIGHT
BEGIN:STANDARD
TZOFFSETFROM:-0700
TZOFFSETTO:-0800
TZNAME:PST
DTSTART:20261101T090000
END:STANDARD
END:VTIMEZONE
BEGIN:VEVENT
DTSTART;TZID=America/Los_Angeles:20250726T090000
DTEND;TZID=America/Los_Angeles:20250726T110000
DTSTAMP:20260420T094033
CREATED:20250514T075037Z
LAST-MODIFIED:20250520T024238Z
UID:14099-1753520400-1753527600@www.santeelakes.com
SUMMARY:Summer Jams on Deck - The IDEAS Rock & Roll Trio
DESCRIPTION:Kick back and soak up the summer vibes with live music on the deck! Join us from 5 PM to 7 PM for great tunes\, good company\, and a perfect evening by the lake. All are welcome—bring a friend\, grab a drink\, and enjoy the rhythm of summer. We will be having Summer Jams on Deck every Saturday (and some Fridays) throughout the summer. \nSUMMER JAMS CALENDAR 2025
URL:https://www.santeelakes.com/event/summer-jams-on-deck-the-ideas-rock-roll-trio/
CATEGORIES:Campground Events,Park Events
END:VEVENT
BEGIN:VEVENT
DTSTART;TZID=America/Los_Angeles:20250726T060000
DTEND;TZID=America/Los_Angeles:20250726T080000
DTSTAMP:20260420T094033
CREATED:20250305T040203Z
LAST-MODIFIED:20250305T040516Z
UID:13834-1753509600-1753516800@www.santeelakes.com
SUMMARY:CAMPERS - Ice Cream Social
DESCRIPTION:Join us for some ice cream\, as long as it lasts!
URL:https://www.santeelakes.com/event/campers-ice-cream-social-2/
CATEGORIES:Campground Events
END:VEVENT
BEGIN:VEVENT
DTSTART;TZID=America/Los_Angeles:20250726T020000
DTEND;TZID=America/Los_Angeles:20250726T030000
DTSTAMP:20260420T094033
CREATED:20250305T035506Z
LAST-MODIFIED:20250305T035506Z
UID:13828-1753495200-1753498800@www.santeelakes.com
SUMMARY:CAMPERS - Sports on the Lawn
DESCRIPTION:Join us for some fun & games on the Campground lawn! All ages welcome.
URL:https://www.santeelakes.com/event/campers-sports-on-the-lawn-8/
CATEGORIES:Campground Events
END:VEVENT
BEGIN:VEVENT
DTSTART;TZID=America/Los_Angeles:20250726T000000
DTEND;TZID=America/Los_Angeles:20250726T013000
DTSTAMP:20260420T094033
CREATED:20250708T233853Z
LAST-MODIFIED:20250708T233853Z
UID:14280-1753488000-1753493400@www.santeelakes.com
SUMMARY:Fishing 101
DESCRIPTION:Need some tips or a refresher on catching fish at Santee Lakes? You are in luck. A Ranger will be on site to help everyone from beginner to seasoned anglers.\nMeet at the General Store 8:00AM until 9:30AMish.\nPurchase your permit from the Ranger or at the Gatehouse\, bring your bait and lures.\nThe event is free.\nSign up HERE.
URL:https://www.santeelakes.com/event/fishing-101-6/
CATEGORIES:Campground Events,Park Events
END:VEVENT
BEGIN:VEVENT
DTSTART;TZID=America/Los_Angeles:20250725T113000
DTEND;TZID=America/Los_Angeles:20250725T123000
DTSTAMP:20260420T094033
CREATED:20250715T014930Z
LAST-MODIFIED:20250715T020210Z
UID:14296-1753443000-1753446600@www.santeelakes.com
SUMMARY:Camper's Laser Tag
DESCRIPTION:Every Friday night this summer\, the campground transforms into a battleground!\n7:30PM–8:30PM |CAMPERS ONLY\nGrab your gear\, rally your crew\, and step into the action. It’s fast-paced\, glow-in-the-dark fun under the stars.\nNo sign-up needed — just show up ready to play.
URL:https://www.santeelakes.com/event/campers-laser-tag-3/
CATEGORIES:Campground Events
END:VEVENT
BEGIN:VEVENT
DTSTART;TZID=America/Los_Angeles:20250725T090000
DTEND;TZID=America/Los_Angeles:20250725T110000
DTSTAMP:20260420T094033
CREATED:20250514T074933Z
LAST-MODIFIED:20250514T074933Z
UID:14097-1753434000-1753441200@www.santeelakes.com
SUMMARY:Summer Jams on Deck - Setting Sons
DESCRIPTION:Kick back and soak up the summer vibes with live music on the deck! Join us from 5 PM to 7 PM for great tunes\, good company\, and a perfect evening by the lake. All are welcome—bring a friend\, grab a drink\, and enjoy the rhythm of summer. We will be having Summer Jams on Deck every Saturday (and some Fridays) throughout the summer.
URL:https://www.santeelakes.com/event/summer-jams-on-deck-setting-sons/
CATEGORIES:Campground Events,Park Events
END:VEVENT
BEGIN:VEVENT
DTSTART;TZID=America/Los_Angeles:20250719T114500
DTEND;TZID=America/Los_Angeles:20250719T133000
DTSTAMP:20260420T094033
CREATED:20250305T040104Z
LAST-MODIFIED:20250528T034937Z
UID:13832-1752925500-1752931800@www.santeelakes.com
SUMMARY:CAMPERS - Golf Cart Drive-in Movie for the Grownups - Grumpy Old Men | PG-13
DESCRIPTION:Ok grownups! Grab your golf cart and join us on the lawn behind the Clubhouse for a fun movie! \n 
URL:https://www.santeelakes.com/event/campers-pjs-popcorn-a-movie/
CATEGORIES:Campground Events
END:VEVENT
BEGIN:VEVENT
DTSTART;TZID=America/Los_Angeles:20250719T090000
DTEND;TZID=America/Los_Angeles:20250719T110000
DTSTAMP:20260420T094033
CREATED:20250514T074836Z
LAST-MODIFIED:20250520T024040Z
UID:14095-1752915600-1752922800@www.santeelakes.com
SUMMARY:Summer Jams on Deck - Ashley Norton
DESCRIPTION:Kick back and soak up the summer vibes with live music on the deck! Join us from 5 PM to 7 PM for great tunes\, good company\, and a perfect evening by the lake. All are welcome—bring a friend\, grab a drink\, and enjoy the rhythm of summer. We will be having Summer Jams on Deck every Saturday (and some Fridays) throughout the summer. \nSUMMER JAMS CALENDAR 2025
URL:https://www.santeelakes.com/event/summer-jams-on-deck-ashley-norton-2/
CATEGORIES:Campground Events,Park Events
END:VEVENT
BEGIN:VEVENT
DTSTART;TZID=America/Los_Angeles:20250719T020000
DTEND;TZID=America/Los_Angeles:20250719T040000
DTSTAMP:20260420T094033
CREATED:20250506T065559Z
LAST-MODIFIED:20250506T065559Z
UID:14067-1752890400-1752897600@www.santeelakes.com
SUMMARY:Paint & Sip on the Deck
DESCRIPTION:Come join us for a colorful morning of painting under the warm sun! Step by step instruction of our Cascade in Blue Painting. \nAll materials are included. \nSign up HERE
URL:https://www.santeelakes.com/event/paint-sip-on-the-deck-3/
CATEGORIES:Campground Events,Park Events
END:VEVENT
BEGIN:VEVENT
DTSTART;TZID=America/Los_Angeles:20250719T020000
DTEND;TZID=America/Los_Angeles:20250719T030000
DTSTAMP:20260420T094033
CREATED:20250305T035343Z
LAST-MODIFIED:20250305T035343Z
UID:13826-1752890400-1752894000@www.santeelakes.com
SUMMARY:CAMPERS - Sports on the Lawn
DESCRIPTION:Join us for some fun & games on the Campground lawn! All ages welcome.
URL:https://www.santeelakes.com/event/campers-sports-on-the-lawn-7/
CATEGORIES:Campground Events
END:VEVENT
BEGIN:VEVENT
DTSTART;TZID=America/Los_Angeles:20250718T113000
DTEND;TZID=America/Los_Angeles:20250718T123000
DTSTAMP:20260420T094033
CREATED:20250715T014818Z
LAST-MODIFIED:20250715T020112Z
UID:14294-1752838200-1752841800@www.santeelakes.com
SUMMARY:Camper's Laser Tag
DESCRIPTION:Every Friday night this summer\, the campground transforms into a battleground!\n7:30PM–8:30PM |CAMPERS ONLY\nGrab your gear\, rally your crew\, and step into the action. It’s fast-paced\, glow-in-the-dark fun under the stars.\nNo sign-up needed — just show up ready to play.
URL:https://www.santeelakes.com/event/campers-laser-tag-2/
CATEGORIES:Campground Events
END:VEVENT
BEGIN:VEVENT
DTSTART;TZID=America/Los_Angeles:20250712T090000
DTEND;TZID=America/Los_Angeles:20250712T110000
DTSTAMP:20260420T094033
CREATED:20250514T074741Z
LAST-MODIFIED:20250514T074741Z
UID:14093-1752310800-1752318000@www.santeelakes.com
SUMMARY:Summer Jams on Deck - Greg Drilling
DESCRIPTION:Kick back and soak up the summer vibes with live music on the deck! Join us from 5 PM to 7 PM for great tunes\, good company\, and a perfect evening by the lake. All are welcome—bring a friend\, grab a drink\, and enjoy the rhythm of summer. We will be having Summer Jams on Deck every Saturday (and some Fridays) throughout the summer.
URL:https://www.santeelakes.com/event/summer-jams-on-deck-greg-drilling-2/
CATEGORIES:Campground Events,Park Events
END:VEVENT
BEGIN:VEVENT
DTSTART;TZID=America/Los_Angeles:20250712T080000
DTEND;TZID=America/Los_Angeles:20250712T100000
DTSTAMP:20260420T094033
CREATED:20250305T035906Z
LAST-MODIFIED:20250311T030252Z
UID:13830-1752307200-1752314400@www.santeelakes.com
SUMMARY:CAMPERS - Red\, White & Blue BINGO!
DESCRIPTION:Come play a game or two! Prizes will be involved.
URL:https://www.santeelakes.com/event/campers-bingo/
CATEGORIES:Campground Events
END:VEVENT
BEGIN:VEVENT
DTSTART;TZID=America/Los_Angeles:20250712T020000
DTEND;TZID=America/Los_Angeles:20250712T030000
DTSTAMP:20260420T094033
CREATED:20250305T035248Z
LAST-MODIFIED:20250305T035248Z
UID:13824-1752285600-1752289200@www.santeelakes.com
SUMMARY:CAMPERS - Sports on the Lawn
DESCRIPTION:Join us on the lawn for some fun & games. All ages welcome!
URL:https://www.santeelakes.com/event/campers-sports-on-the-lawn-6/
CATEGORIES:Campground Events
END:VEVENT
BEGIN:VEVENT
DTSTART;TZID=America/Los_Angeles:20250712T000000
DTEND;TZID=America/Los_Angeles:20250712T013000
DTSTAMP:20260420T094033
CREATED:20250708T233653Z
LAST-MODIFIED:20250708T234540Z
UID:14278-1752278400-1752283800@www.santeelakes.com
SUMMARY:Fishing 101
DESCRIPTION:Need some tips or a refresher on catching fish at Santee Lakes? You are in luck. A Ranger will be on site to help everyone from beginner to seasoned anglers.\nMeet at the General Store 8:00AM until 9:30AMish.\nPurchase your permit from the Ranger or at the Gatehouse\, bring your bait and lures.\nThe event is free.\nSign up HERE.
URL:https://www.santeelakes.com/event/fishing-101-5/
CATEGORIES:Campground Events,Park Events
END:VEVENT
BEGIN:VEVENT
DTSTART;TZID=America/Los_Angeles:20250711T090000
DTEND;TZID=America/Los_Angeles:20250711T110000
DTSTAMP:20260420T094033
CREATED:20250520T023411Z
LAST-MODIFIED:20250520T023411Z
UID:14132-1752224400-1752231600@www.santeelakes.com
SUMMARY:Summer Jams on Deck - James Preston
DESCRIPTION:Kick back and soak up the summer vibes with live music on the deck! Join us from 5 PM to 7 PM for great tunes\, good company\, and a perfect evening by the lake. All are welcome—bring a friend\, grab a drink\, and enjoy the rhythm of summer. We will be having Summer Jams on Deck every Saturday (and some Fridays) throughout the summer. \nSUMMER JAMS CALENDAR 2025
URL:https://www.santeelakes.com/event/summer-jams-on-deck-james-preston-2/
CATEGORIES:Campground Events,Park Events
END:VEVENT
BEGIN:VEVENT
DTSTART;TZID=America/Los_Angeles:20250705T113000
DTEND;TZID=America/Los_Angeles:20250705T133000
DTSTAMP:20260420T094033
CREATED:20250305T034931Z
LAST-MODIFIED:20250311T025357Z
UID:13820-1751715000-1751722200@www.santeelakes.com
SUMMARY:CAMPERS - Pool Games & Dive-in Movie - MOANA 2
DESCRIPTION:Cool off in the pool with some games and a movie! \nMovie will begin at sundown (8PMish). Movie TBD
URL:https://www.santeelakes.com/event/campers-pool-games-dive-in-movie/
CATEGORIES:Campground Events
END:VEVENT
BEGIN:VEVENT
DTSTART;TZID=America/Los_Angeles:20250705T090000
DTEND;TZID=America/Los_Angeles:20250705T110000
DTSTAMP:20260420T094033
CREATED:20250520T023228Z
LAST-MODIFIED:20250520T023249Z
UID:14130-1751706000-1751713200@www.santeelakes.com
SUMMARY:Summer Jams on Deck - Ophelia Vibe
DESCRIPTION:Kick back and soak up the summer vibes with live music on the deck! Join us from 5 PM to 7 PM for great tunes\, good company\, and a perfect evening by the lake. All are welcome—bring a friend\, grab a drink\, and enjoy the rhythm of summer. We will be having Summer Jams on Deck every Saturday (and some Fridays) throughout the summer. \nSUMMER JAMS CALENDAR 2025
URL:https://www.santeelakes.com/event/summer-jams-on-deck-ophelia-vibe-4/
CATEGORIES:Campground Events,Park Events
END:VEVENT
BEGIN:VEVENT
DTSTART;TZID=America/Los_Angeles:20250705T020000
DTEND;TZID=America/Los_Angeles:20250705T030000
DTSTAMP:20260420T094033
CREATED:20250305T035150Z
LAST-MODIFIED:20250305T035150Z
UID:13822-1751680800-1751684400@www.santeelakes.com
SUMMARY:CAMPERS - Sports on the Lawn
DESCRIPTION:Join us for some fun and games! All ages welcome.
URL:https://www.santeelakes.com/event/campers-sports-on-the-lawn-5/
CATEGORIES:Campground Events
END:VEVENT
BEGIN:VEVENT
DTSTART;TZID=America/Los_Angeles:20250704T113000
DTEND;TZID=America/Los_Angeles:20250704T123000
DTSTAMP:20260420T094033
CREATED:20250703T003749Z
LAST-MODIFIED:20250703T004006Z
UID:14253-1751628600-1751632200@www.santeelakes.com
SUMMARY:Camper's Laser Tag
DESCRIPTION:Join us for a whole lot of fun on the Campground Lawn for some Laser Tag!  All ages welcome and no need to sign-up\, just show up! \nChildren must be accompanied by an adult. \n7:30PM-8:30PM all summer long.
URL:https://www.santeelakes.com/event/campers-laser-tag/
LOCATION:Clubhouse Lawn
CATEGORIES:Campground Events
END:VEVENT
BEGIN:VEVENT
DTSTART;TZID=America/Los_Angeles:20250704T040000
DTEND;TZID=America/Los_Angeles:20250704T090000
DTSTAMP:20260420T094033
CREATED:20250305T034602Z
LAST-MODIFIED:20250305T034602Z
UID:13818-1751601600-1751619600@www.santeelakes.com
SUMMARY:CAMPERS - Annual Golf Cart Parade & Concert with the Tradesmen
DESCRIPTION:This has become one of the favorite events in our Campground! Decorate your golf cart\, bike\, yourself and join in the fun! There will be prizes…and face painting. \nParade Registration | 12:00PM \nParade Begins | 1:00PM \nHead down to the concert by The Tradesmen at the Lake 5 amphitheater from 3:00PM-5:00PM. There will be food trucks on site.
URL:https://www.santeelakes.com/event/campers-annual-golf-cart-parade-concert-with-the-tradesmen/
CATEGORIES:Campground Events
END:VEVENT
BEGIN:VEVENT
DTSTART;TZID=America/Los_Angeles:20250628T090000
DTEND;TZID=America/Los_Angeles:20250628T110000
DTSTAMP:20260420T094033
CREATED:20250514T074445Z
LAST-MODIFIED:20250515T044941Z
UID:14087-1751101200-1751108400@www.santeelakes.com
SUMMARY:Summer Jams on Deck - Harmonica John
DESCRIPTION:Kick back and soak up the summer vibes with live music on the deck! Join us from 5 PM to 7 PM for great tunes\, good company\, and a perfect evening by the lake. All are welcome—bring a friend\, grab a drink\, and enjoy the rhythm of summer. We will be having Summer Jams on Deck every Saturday (and some Fridays) throughout the summer. \nSUMMER JAMS CALENDAR 2025
URL:https://www.santeelakes.com/event/summer-jams-on-deck-harmonica-john-2/
CATEGORIES:Campground Events,Park Events
END:VEVENT
BEGIN:VEVENT
DTSTART;TZID=America/Los_Angeles:20250628T050000
DTEND;TZID=America/Los_Angeles:20250628T060000
DTSTAMP:20260420T094033
CREATED:20250305T031803Z
LAST-MODIFIED:20250305T033616Z
UID:13778-1751086800-1751090400@www.santeelakes.com
SUMMARY:CAMPERS -  Ice Cream Social
DESCRIPTION:Don’t scream\, but please come join us! We will have ice cream until it’s gone.
URL:https://www.santeelakes.com/event/campers-ice-cream-social/
CATEGORIES:Campground Events
END:VEVENT
BEGIN:VEVENT
DTSTART;TZID=America/Los_Angeles:20250628T020000
DTEND;TZID=America/Los_Angeles:20250628T030000
DTSTAMP:20260420T094033
CREATED:20250305T024612Z
LAST-MODIFIED:20250305T033608Z
UID:13762-1751076000-1751079600@www.santeelakes.com
SUMMARY:CAMPERS - Sports on the Lawn
DESCRIPTION:Join us for some fun & games on the Campground lawn! All ages welcome.
URL:https://www.santeelakes.com/event/sports-on-the-lawn-9/
CATEGORIES:Campground Events
END:VEVENT
BEGIN:VEVENT
DTSTART;TZID=America/Los_Angeles:20250628T000000
DTEND;TZID=America/Los_Angeles:20250628T023000
DTSTAMP:20260420T094033
CREATED:20250305T034058Z
LAST-MODIFIED:20250305T034058Z
UID:13816-1751068800-1751077800@www.santeelakes.com
SUMMARY:Lion's Club Breakfast
DESCRIPTION:Come have a delicious breakfast for a great cause!
URL:https://www.santeelakes.com/event/lions-club-breakfast-4/
CATEGORIES:Campground Events,Park Events
END:VEVENT
BEGIN:VEVENT
DTSTART;TZID=America/Los_Angeles:20250628T000000
DTEND;TZID=America/Los_Angeles:20250628T013000
DTSTAMP:20260420T094033
CREATED:20250506T020942Z
LAST-MODIFIED:20250506T020942Z
UID:14045-1751068800-1751074200@www.santeelakes.com
SUMMARY:Fishing 101
DESCRIPTION:Need some tips or refresher on catching fish at Santee Lakes? You are in luck. A Ranger will be on site to help everyone from beginner to seasoned anglers. Sign up >HERE\nMeet at the General Store at 8:00AM until 9:30AMish.\nPurchase your permit from the Ranger or at the Gatehouse\, bring your bait and lures.
URL:https://www.santeelakes.com/event/fishing-101-4/
CATEGORIES:Campground Events,Park Events
END:VEVENT
BEGIN:VEVENT
DTSTART;TZID=America/Los_Angeles:20250627T090000
DTEND;TZID=America/Los_Angeles:20250627T110000
DTSTAMP:20260420T094033
CREATED:20250520T022211Z
LAST-MODIFIED:20250520T022222Z
UID:14128-1751014800-1751022000@www.santeelakes.com
SUMMARY:Summer Jams on Deck - Shades of Sound
DESCRIPTION:Kick back and soak up the summer vibes with live music on the deck! Join us from 5 PM to 7 PM for great tunes\, good company\, and a perfect evening by the lake. All are welcome—bring a friend\, grab a drink\, and enjoy the rhythm of summer. We will be having Summer Jams on Deck every Saturday (and some Fridays) throughout the summer. \nSUMMER JAMS CALENDAR 2025
URL:https://www.santeelakes.com/event/summer-jams-on-deck-shades-of-sound/
CATEGORIES:Campground Events,Park Events
END:VEVENT
BEGIN:VEVENT
DTSTART;TZID=America/Los_Angeles:20250621T113000
DTEND;TZID=America/Los_Angeles:20250621T133000
DTSTAMP:20260420T094033
CREATED:20250305T031638Z
LAST-MODIFIED:20250528T034607Z
UID:13776-1750505400-1750512600@www.santeelakes.com
SUMMARY:CAMPERS - Dive in Movie - Wild Robot | PG
DESCRIPTION:Get ready for a fun time in the pool! We will be hosting a dive-in movie so bring the fam! \nMovie will begin at sundown (around 7:30-45ish).
URL:https://www.santeelakes.com/event/campers-dive-in-movie/
CATEGORIES:Campground Events
END:VEVENT
BEGIN:VEVENT
DTSTART;TZID=America/Los_Angeles:20250621T090000
DTEND;TZID=America/Los_Angeles:20250621T110000
DTSTAMP:20260420T094033
CREATED:20250514T074329Z
LAST-MODIFIED:20250515T044842Z
UID:14085-1750496400-1750503600@www.santeelakes.com
SUMMARY:Summer Jams on Deck - Jason Mann
DESCRIPTION:Kick back and soak up the summer vibes with live music on the deck! Join us from 5 PM to 7 PM for great tunes\, good company\, and a perfect evening by the lake. All are welcome—bring a friend\, grab a drink\, and enjoy the rhythm of summer. We will be having Summer Jams on Deck every Saturday (and some Fridays) throughout the summer. \nSUMMER JAMS CALENDAR 2025
URL:https://www.santeelakes.com/event/summer-jams-on-deck-jason-mann-2/
CATEGORIES:Campground Events,Park Events
END:VEVENT
BEGIN:VEVENT
DTSTART;TZID=America/Los_Angeles:20250621T020000
DTEND;TZID=America/Los_Angeles:20250621T040000
DTSTAMP:20260420T094033
CREATED:20250506T065134Z
LAST-MODIFIED:20250506T065134Z
UID:14065-1750471200-1750478400@www.santeelakes.com
SUMMARY:Paint & Sip on the Deck
DESCRIPTION:Come join us for a colorful morning of painting under the warm sun! Step by step instruction of our Sunset in Paradise painting! \nAll materials provided. \nSign up HERE \n 
URL:https://www.santeelakes.com/event/paint-sip-on-the-deck-2/
CATEGORIES:Campground Events,Park Events
END:VEVENT
END:VCALENDAR