BEGIN:VCALENDAR
VERSION:2.0
PRODID:-//Santee Lakes - ECPv6.15.20//NONSGML v1.0//EN
CALSCALE:GREGORIAN
METHOD:PUBLISH
X-WR-CALNAME:Santee Lakes
X-ORIGINAL-URL:https://www.santeelakes.com
X-WR-CALDESC:Events for Santee Lakes
REFRESH-INTERVAL;VALUE=DURATION:PT1H
X-Robots-Tag:noindex
X-PUBLISHED-TTL:PT1H
BEGIN:VTIMEZONE
TZID:America/Los_Angeles
BEGIN:DAYLIGHT
TZOFFSETFROM:-0800
TZOFFSETTO:-0700
TZNAME:PDT
DTSTART:20240310T100000
END:DAYLIGHT
BEGIN:STANDARD
TZOFFSETFROM:-0700
TZOFFSETTO:-0800
TZNAME:PST
DTSTART:20241103T090000
END:STANDARD
BEGIN:DAYLIGHT
TZOFFSETFROM:-0800
TZOFFSETTO:-0700
TZNAME:PDT
DTSTART:20250309T100000
END:DAYLIGHT
BEGIN:STANDARD
TZOFFSETFROM:-0700
TZOFFSETTO:-0800
TZNAME:PST
DTSTART:20251102T090000
END:STANDARD
BEGIN:DAYLIGHT
TZOFFSETFROM:-0800
TZOFFSETTO:-0700
TZNAME:PDT
DTSTART:20260308T100000
END:DAYLIGHT
BEGIN:STANDARD
TZOFFSETFROM:-0700
TZOFFSETTO:-0800
TZNAME:PST
DTSTART:20261101T090000
END:STANDARD
END:VTIMEZONE
BEGIN:VEVENT
DTSTART;TZID=America/Los_Angeles:20250621T113000
DTEND;TZID=America/Los_Angeles:20250621T133000
DTSTAMP:20260420T144441
CREATED:20250305T031638Z
LAST-MODIFIED:20250528T034607Z
UID:13776-1750505400-1750512600@www.santeelakes.com
SUMMARY:CAMPERS - Dive in Movie - Wild Robot | PG
DESCRIPTION:Get ready for a fun time in the pool! We will be hosting a dive-in movie so bring the fam! \nMovie will begin at sundown (around 7:30-45ish).
URL:https://www.santeelakes.com/event/campers-dive-in-movie/
CATEGORIES:Campground Events
END:VEVENT
BEGIN:VEVENT
DTSTART;TZID=America/Los_Angeles:20250621T090000
DTEND;TZID=America/Los_Angeles:20250621T110000
DTSTAMP:20260420T144441
CREATED:20250514T074329Z
LAST-MODIFIED:20250515T044842Z
UID:14085-1750496400-1750503600@www.santeelakes.com
SUMMARY:Summer Jams on Deck - Jason Mann
DESCRIPTION:Kick back and soak up the summer vibes with live music on the deck! Join us from 5 PM to 7 PM for great tunes\, good company\, and a perfect evening by the lake. All are welcome—bring a friend\, grab a drink\, and enjoy the rhythm of summer. We will be having Summer Jams on Deck every Saturday (and some Fridays) throughout the summer. \nSUMMER JAMS CALENDAR 2025
URL:https://www.santeelakes.com/event/summer-jams-on-deck-jason-mann-2/
CATEGORIES:Campground Events,Park Events
END:VEVENT
BEGIN:VEVENT
DTSTART;TZID=America/Los_Angeles:20250621T020000
DTEND;TZID=America/Los_Angeles:20250621T040000
DTSTAMP:20260420T144441
CREATED:20250506T065134Z
LAST-MODIFIED:20250506T065134Z
UID:14065-1750471200-1750478400@www.santeelakes.com
SUMMARY:Paint & Sip on the Deck
DESCRIPTION:Come join us for a colorful morning of painting under the warm sun! Step by step instruction of our Sunset in Paradise painting! \nAll materials provided. \nSign up HERE \n 
URL:https://www.santeelakes.com/event/paint-sip-on-the-deck-2/
CATEGORIES:Campground Events,Park Events
END:VEVENT
BEGIN:VEVENT
DTSTART;TZID=America/Los_Angeles:20250621T020000
DTEND;TZID=America/Los_Angeles:20250621T030000
DTSTAMP:20260420T144441
CREATED:20250305T024525Z
LAST-MODIFIED:20250305T033601Z
UID:13760-1750471200-1750474800@www.santeelakes.com
SUMMARY:CAMPERS - Sports on the Lawn
DESCRIPTION:Join us for some fun & games on the Campground lawn! All ages welcome.
URL:https://www.santeelakes.com/event/sports-on-the-lawn-8/
CATEGORIES:Campground Events
END:VEVENT
BEGIN:VEVENT
DTSTART;TZID=America/Los_Angeles:20250614T220000
DTEND;TZID=America/Los_Angeles:20250615T110000
DTSTAMP:20260420T144441
CREATED:20250606T071023Z
LAST-MODIFIED:20250606T072654Z
UID:14216-1749938400-1749985200@www.santeelakes.com
SUMMARY:TOPWATER GRILL | Grand Opening Weekend!
DESCRIPTION:TOPWATER GRILL GRAND OPENING WEEKEND SCHEDULE: \nSaturday\, June 14\nLive Music from Miranda Ramos & Dylan Razwick | 3:00 PM – 7:00 PM\nFood & Drink Specials | All Day \nSunday\, June 15\nRC Sailboat Regatta & Boat Parade with Hands-On Demos | 10:00 AM – 2:00 PM\nLive Music from Gary Seiler| 12:00 PM – 2:00 PM\nFood & Drink Specials | All Day \nPARKING PERK:\nGuests who purchase parking can apply that cost toward a $20 minimum food and beverage purchase. \nFISHING PERK: \nDad’s fish FREE with a paid child fish permit. \nCome celebrate with us—and discover your new favorite place to relax\, dine\, and enjoy the view!
URL:https://www.santeelakes.com/event/topwater-grill-grand-opening-weekend-2/
CATEGORIES:Campground Events,Park Events
END:VEVENT
BEGIN:VEVENT
DTSTART;TZID=America/Los_Angeles:20250614T090000
DTEND;TZID=America/Los_Angeles:20250614T110000
DTSTAMP:20260420T144441
CREATED:20250514T074101Z
LAST-MODIFIED:20250520T030116Z
UID:14083-1749891600-1749898800@www.santeelakes.com
SUMMARY:Summer Jams on Deck - Miranda Ramos & Dylan Razwick
DESCRIPTION:Kick back and soak up the summer vibes with live music on the deck! Join us from 5 PM to 7 PM for great tunes\, good company\, and a perfect evening by the lake. All are welcome—bring a friend\, grab a drink\, and enjoy the rhythm of summer. We will be having Summer Jams on Deck every Saturday (and some Fridays) throughout the summer. \nSUMMER JAMS CALENDAR 2025
URL:https://www.santeelakes.com/event/summer-jams-on-deck-miranda-ramos-friends/
CATEGORIES:Campground Events,Park Events
END:VEVENT
BEGIN:VEVENT
DTSTART;TZID=America/Los_Angeles:20250614T040000
DTEND;TZID=America/Los_Angeles:20250614T090000
DTSTAMP:20260420T144441
CREATED:20250305T031018Z
LAST-MODIFIED:20250305T033634Z
UID:13774-1749873600-1749891600@www.santeelakes.com
SUMMARY:CAMPERS - Cornhole Tournament
DESCRIPTION:Hey Campers! \nGrab a partner and join us for our annual Cornhole Tournament! \nRegistration | 12PM \nTournament | 1PM \n$40 per team\, bring your partner \nFood Truck: TBA
URL:https://www.santeelakes.com/event/camper-cornhole-tournament-2/
CATEGORIES:Campground Events
END:VEVENT
BEGIN:VEVENT
DTSTART;TZID=America/Los_Angeles:20250614T020000
DTEND;TZID=America/Los_Angeles:20250614T030000
DTSTAMP:20260420T144441
CREATED:20250305T020608Z
LAST-MODIFIED:20250305T033642Z
UID:13744-1749866400-1749870000@www.santeelakes.com
SUMMARY:CAMPERS - Sports on the Lawn
DESCRIPTION:Join us for some fun & games on the Campground lawn! All ages welcome.
URL:https://www.santeelakes.com/event/sports-on-the-lawn-2/
CATEGORIES:Campground Events
END:VEVENT
BEGIN:VEVENT
DTSTART;TZID=America/Los_Angeles:20250614T000000
DTEND;TZID=America/Los_Angeles:20250614T013000
DTSTAMP:20260420T144441
CREATED:20250506T020855Z
LAST-MODIFIED:20250506T020855Z
UID:14043-1749859200-1749864600@www.santeelakes.com
SUMMARY:Fishing 101
DESCRIPTION:Need some tips or refresher on catching fish at Santee Lakes? You are in luck. A Ranger will be on site to help everyone from beginner to seasoned anglers. Sign up >HERE\nMeet at the General Store at 8:00AM until 9:30AMish.\nPurchase your permit from the Ranger or at the Gatehouse\, bring your bait and lures.
URL:https://www.santeelakes.com/event/fishing-101-3/
CATEGORIES:Campground Events,Park Events
END:VEVENT
BEGIN:VEVENT
DTSTART;TZID=America/Los_Angeles:20250613T220000
DTEND;TZID=America/Los_Angeles:20250614T110000
DTSTAMP:20260420T144441
CREATED:20250606T070915Z
LAST-MODIFIED:20250606T072750Z
UID:14214-1749852000-1749898800@www.santeelakes.com
SUMMARY:TOPWATER GRILL | Grand Opening Weekend
DESCRIPTION:TOPWATER GRILL GRAND OPENING WEEKEND SCHEDULE: \nSaturday\, June 14\nLive Music from Miranda Ramos & Dylan Razwick | 3:00 PM – 7:00 PM\nFood & Drink Specials | All Day \nSunday\, June 15\nRC Sailboat Regatta & Boat Parade with Hands-On Demos | 10:00 AM – 2:00 PM\nLive Music from Gary Seiler| 12:00 PM – 2:00 PM\nFood & Drink Specials | All Day \nPARKING PERK:\nGuests who purchase parking can apply that cost toward a $20 minimum food and beverage purchase. \nFISHING PERK: \nDad’s fish FREE with a paid child fish permit. \nCome celebrate with us—and discover your new favorite place to relax\, dine\, and enjoy the view!
URL:https://www.santeelakes.com/event/topwater-grill-grand-opening-weekend/
CATEGORIES:Campground Events,Park Events
END:VEVENT
BEGIN:VEVENT
DTSTART;TZID=America/Los_Angeles:20250607T090000
DTEND;TZID=America/Los_Angeles:20250607T110000
DTSTAMP:20260420T144441
CREATED:20250514T073900Z
LAST-MODIFIED:20250515T044459Z
UID:14081-1749286800-1749294000@www.santeelakes.com
SUMMARY:Summer Jams - Traveling Nobodys
DESCRIPTION:Kick back and soak up the summer vibes with live music on the deck! Join us from 5 PM to 7 PM for great tunes\, good company\, and a perfect evening by the lake. All are welcome—bring a friend\, grab a drink\, and enjoy the rhythm of summer. We will be having Summer Jams on Deck every Saturday (and some Fridays) throughout the summer. \nSUMMER JAMS CALENDAR 2025
URL:https://www.santeelakes.com/event/summer-jams-traveling-nobodys/
CATEGORIES:Campground Events,Park Events
END:VEVENT
BEGIN:VEVENT
DTSTART;TZID=America/Los_Angeles:20250607T030000
DTEND;TZID=America/Los_Angeles:20250607T040000
DTSTAMP:20260420T144441
CREATED:20250305T025721Z
LAST-MODIFIED:20250305T033648Z
UID:13768-1749265200-1749268800@www.santeelakes.com
SUMMARY:CAMPERS - Dad Craft
DESCRIPTION:Make something special for Dad!
URL:https://www.santeelakes.com/event/dad-craft/
CATEGORIES:Campground Events
END:VEVENT
BEGIN:VEVENT
DTSTART;TZID=America/Los_Angeles:20250607T020000
DTEND;TZID=America/Los_Angeles:20250607T030000
DTSTAMP:20260420T144441
CREATED:20250305T020729Z
LAST-MODIFIED:20250305T033655Z
UID:13746-1749261600-1749265200@www.santeelakes.com
SUMMARY:CAMPERS - Sports on the Lawn
DESCRIPTION:Join us for some fun & games on the Campground lawn! All ages welcome.
URL:https://www.santeelakes.com/event/sports-on-the-lawn-3/
CATEGORIES:Campground Events
END:VEVENT
BEGIN:VEVENT
DTSTART;TZID=America/Los_Angeles:20250531T020000
DTEND;TZID=America/Los_Angeles:20250531T030000
DTSTAMP:20260420T144441
CREATED:20250305T021109Z
LAST-MODIFIED:20250305T033702Z
UID:13750-1748656800-1748660400@www.santeelakes.com
SUMMARY:CAMPERS - Sports on the Lawn
DESCRIPTION:Join us for some fun & games on the Campground lawn! All ages welcome.
URL:https://www.santeelakes.com/event/sports-on-the-lawn-5/
CATEGORIES:Campground Events
END:VEVENT
BEGIN:VEVENT
DTSTART;TZID=America/Los_Angeles:20250531T000000
DTEND;TZID=America/Los_Angeles:20250531T023000
DTSTAMP:20260420T144441
CREATED:20250305T025521Z
LAST-MODIFIED:20250305T025521Z
UID:13766-1748649600-1748658600@www.santeelakes.com
SUMMARY:Lion's Club Pancake Breakfast
DESCRIPTION:Join the Lion’s Club for some yummy pancakes and more! All for a good cause.
URL:https://www.santeelakes.com/event/lions-club-pancake-breakfast-14/
CATEGORIES:Campground Events,Park Events
END:VEVENT
BEGIN:VEVENT
DTSTART;TZID=America/Los_Angeles:20250525T060000
DTEND;TZID=America/Los_Angeles:20250525T080000
DTSTAMP:20260420T144441
CREATED:20250305T025409Z
LAST-MODIFIED:20250502T045251Z
UID:13764-1748152800-1748160000@www.santeelakes.com
SUMMARY:CAMPERS -Memorial Day Weekend Kid's Water Fun & A Concert!
DESCRIPTION:Kids can enjoy slip & slides on the Campground Lawn along with a water fight from 10:00AM-12:00PM and then everyone can join us for an amazing concert by BAND-CO! There will be food trucks so come hungry.\nConcert is at the Lake 5 amphitheater from 2PM-4PM.
URL:https://www.santeelakes.com/event/memorial-day-weekend-fun/
CATEGORIES:Campground Events,Park Events
END:VEVENT
BEGIN:VEVENT
DTSTART;TZID=America/Los_Angeles:20250524T020000
DTEND;TZID=America/Los_Angeles:20250524T030000
DTSTAMP:20260420T144441
CREATED:20250305T021000Z
LAST-MODIFIED:20250305T033722Z
UID:13748-1748052000-1748055600@www.santeelakes.com
SUMMARY:CAMPERS - Sports on the Lawn
DESCRIPTION:Join us for some fun & games on the Campground lawn! All ages welcome.
URL:https://www.santeelakes.com/event/sports-on-the-lawn-4/
CATEGORIES:Campground Events
END:VEVENT
BEGIN:VEVENT
DTSTART;TZID=America/Los_Angeles:20250524T000000
DTEND;TZID=America/Los_Angeles:20250524T013000
DTSTAMP:20260420T144441
CREATED:20250506T020753Z
LAST-MODIFIED:20250506T020753Z
UID:14041-1748044800-1748050200@www.santeelakes.com
SUMMARY:Fishing 101
DESCRIPTION:Need some tips or refresher on catching fish at Santee Lakes? You are in luck. A Ranger will be on site to help everyone from beginner to seasoned anglers. Sign up >HERE\nMeet at the General Store at 8:00AM until 9:30AMish.\nPurchase your permit from the Ranger or at the Gatehouse\, bring your bait and lures.
URL:https://www.santeelakes.com/event/fishing-101-2/
CATEGORIES:Campground Events,Park Events
END:VEVENT
BEGIN:VEVENT
DTSTART;TZID=America/Los_Angeles:20250517T100000
DTEND;TZID=America/Los_Angeles:20250517T120000
DTSTAMP:20260420T144441
CREATED:20250305T024419Z
LAST-MODIFIED:20250305T033731Z
UID:13758-1747476000-1747483200@www.santeelakes.com
SUMMARY:CAMPERS - Campfire & S'mores
DESCRIPTION:Join us at Lakeshore Fire Ring\, bring your flashlight and roast some s’mores!
URL:https://www.santeelakes.com/event/campfire-smores-13/
CATEGORIES:Campground Events
END:VEVENT
BEGIN:VEVENT
DTSTART;TZID=America/Los_Angeles:20250517T020000
DTEND;TZID=America/Los_Angeles:20250517T030000
DTSTAMP:20260420T144441
CREATED:20250305T024313Z
LAST-MODIFIED:20250305T033741Z
UID:13756-1747447200-1747450800@www.santeelakes.com
SUMMARY:CAMPERS - Sports on the Lawn
DESCRIPTION:Join us for some fun & games on the Campground lawn! All ages welcome.
URL:https://www.santeelakes.com/event/sports-on-the-lawn-7/
CATEGORIES:Campground Events
END:VEVENT
BEGIN:VEVENT
DTSTART;TZID=America/Los_Angeles:20250510T060000
DTEND;TZID=America/Los_Angeles:20250510T080000
DTSTAMP:20260420T144441
CREATED:20250305T024058Z
LAST-MODIFIED:20250305T033748Z
UID:13752-1746856800-1746864000@www.santeelakes.com
SUMMARY:CAMPERS - Mom Craft
DESCRIPTION:Join us and make something special for MOM!
URL:https://www.santeelakes.com/event/mom-craft/
CATEGORIES:Campground Events
END:VEVENT
BEGIN:VEVENT
DTSTART;TZID=America/Los_Angeles:20250510T030000
DTEND;TZID=America/Los_Angeles:20250510T050000
DTSTAMP:20260420T144441
CREATED:20250506T064604Z
LAST-MODIFIED:20250506T070207Z
UID:14063-1746846000-1746853200@www.santeelakes.com
SUMMARY:Paint & Sip on Deck - Mother's Day Edition
DESCRIPTION:Join us on deck and bring MOM – we will be painting a beautiful tote bag! You can register HERE.Space is limited\, so sign up today!
URL:https://www.santeelakes.com/event/paint-sip-on-deck-mothers-day-edition/
CATEGORIES:Campground Events,Park Events
END:VEVENT
BEGIN:VEVENT
DTSTART;TZID=America/Los_Angeles:20250510T020000
DTEND;TZID=America/Los_Angeles:20250510T030000
DTSTAMP:20260420T144441
CREATED:20250305T024210Z
LAST-MODIFIED:20250305T033018Z
UID:13754-1746842400-1746846000@www.santeelakes.com
SUMMARY:CAMPERS - Sports on the Lawn
DESCRIPTION:Join us for some fun & games on the Campground lawn! All ages welcome.
URL:https://www.santeelakes.com/event/sports-on-the-lawn-6/
CATEGORIES:Campground Events
END:VEVENT
BEGIN:VEVENT
DTSTART;TZID=America/Los_Angeles:20250510T000000
DTEND;TZID=America/Los_Angeles:20250510T013000
DTSTAMP:20260420T144441
CREATED:20250506T020659Z
LAST-MODIFIED:20250506T020659Z
UID:14038-1746835200-1746840600@www.santeelakes.com
SUMMARY:Fishing 101
DESCRIPTION:Need some tips or refresher on catching fish at Santee Lakes? You are in luck. A Ranger will be on site to help everyone from beginner to seasoned anglers. Sign up >HERE\nMeet at the General Store at 8:00AM until 9:30AMish.\nPurchase your permit from the Ranger or at the Gatehouse\, bring your bait and lures.
URL:https://www.santeelakes.com/event/fishing-101/
CATEGORIES:Campground Events,Park Events
END:VEVENT
BEGIN:VEVENT
DTSTART;TZID=America/Los_Angeles:20250503T100000
DTEND;TZID=America/Los_Angeles:20250503T120000
DTSTAMP:20260420T144441
CREATED:20250305T020155Z
LAST-MODIFIED:20250305T032603Z
UID:13740-1746266400-1746273600@www.santeelakes.com
SUMMARY:CAMPERS - Almost Cinco de Mayo
DESCRIPTION:It’s Nacho Night along with some games! Join us in the Clubhouse.
URL:https://www.santeelakes.com/event/almost-cinco-de-mayo/
CATEGORIES:Campground Events
END:VEVENT
BEGIN:VEVENT
DTSTART;TZID=America/Los_Angeles:20250503T020000
DTEND;TZID=America/Los_Angeles:20250503T030000
DTSTAMP:20260420T144441
CREATED:20250305T020358Z
LAST-MODIFIED:20250305T032448Z
UID:13742-1746237600-1746241200@www.santeelakes.com
SUMMARY:CAMPERS - Sports on the Lawn
DESCRIPTION:Join us for some fun & games on the Campground lawn! All ages welcome.
URL:https://www.santeelakes.com/event/sports-on-the-lawn/
CATEGORIES:Campground Events
END:VEVENT
BEGIN:VEVENT
DTSTART;TZID=America/Los_Angeles:20250426T050000
DTEND;TZID=America/Los_Angeles:20250426T060000
DTSTAMP:20260420T144441
CREATED:20241115T084331Z
LAST-MODIFIED:20241115T084331Z
UID:13549-1745643600-1745647200@www.santeelakes.com
SUMMARY:CAMPER'S - Spring Social - Ice Cream that is!
DESCRIPTION:Let’s get social! Come on get some ice cream…until it’s gone.
URL:https://www.santeelakes.com/event/campers-spring-social-ice-cream-that-is/
CATEGORIES:Campground Events
END:VEVENT
BEGIN:VEVENT
DTSTART;TZID=America/Los_Angeles:20250426T000000
DTEND;TZID=America/Los_Angeles:20250426T023000
DTSTAMP:20260420T144441
CREATED:20241115T084126Z
LAST-MODIFIED:20241115T084126Z
UID:13547-1745625600-1745634600@www.santeelakes.com
SUMMARY:Lion's Club Breakfast
DESCRIPTION:Come enjoy a yummy pancake breakfast at the Campground Clubhouse for a great cause! \n$10 | Adults \n$5 | 12 & Under
URL:https://www.santeelakes.com/event/lions-club-breakfast-3/
LOCATION:Clubhouse
CATEGORIES:Campground Events,Park Events
END:VEVENT
BEGIN:VEVENT
DTSTART;TZID=America/Los_Angeles:20250419T020000
DTEND;TZID=America/Los_Angeles:20250419T040000
DTSTAMP:20260420T144441
CREATED:20241115T083916Z
LAST-MODIFIED:20250305T033810Z
UID:13545-1745028000-1745035200@www.santeelakes.com
SUMMARY:CAMPERS -  Meet THE Bunny and find some eggs!
DESCRIPTION:THE Bunny will be at the Clubhouse ready to meet you and take a photo AND our famous egg hunt will return! \nThere will be crafts\, of course.
URL:https://www.santeelakes.com/event/campers-meet-the-bunny/
LOCATION:Clubhouse
CATEGORIES:Campground Events
END:VEVENT
BEGIN:VEVENT
DTSTART;TZID=America/Los_Angeles:20250412T220000
DTEND;TZID=America/Los_Angeles:20250413T110000
DTSTAMP:20260420T144441
CREATED:20250305T030145Z
LAST-MODIFIED:20250306T032345Z
UID:13772-1744495200-1744542000@www.santeelakes.com
SUMMARY:Catfish Opener
DESCRIPTION:We will be stocking 3\,000 lbs. this year\, so book your site if you camp\, or mark your calendar for this great fishing event! \nWe will be having some great giveaways each day of the event: Campground Stay\, Camping Equipment Kit\, Fishing Equipment
URL:https://www.santeelakes.com/event/catfish-opener-6/
CATEGORIES:Campground Events,Park Events
END:VEVENT
END:VCALENDAR