BEGIN:VCALENDAR
VERSION:2.0
PRODID:-//Santee Lakes - ECPv6.15.20//NONSGML v1.0//EN
CALSCALE:GREGORIAN
METHOD:PUBLISH
X-WR-CALNAME:Santee Lakes
X-ORIGINAL-URL:https://www.santeelakes.com
X-WR-CALDESC:Events for Santee Lakes
REFRESH-INTERVAL;VALUE=DURATION:PT1H
X-Robots-Tag:noindex
X-PUBLISHED-TTL:PT1H
BEGIN:VTIMEZONE
TZID:America/Los_Angeles
BEGIN:DAYLIGHT
TZOFFSETFROM:-0800
TZOFFSETTO:-0700
TZNAME:PDT
DTSTART:20230312T100000
END:DAYLIGHT
BEGIN:STANDARD
TZOFFSETFROM:-0700
TZOFFSETTO:-0800
TZNAME:PST
DTSTART:20231105T090000
END:STANDARD
BEGIN:DAYLIGHT
TZOFFSETFROM:-0800
TZOFFSETTO:-0700
TZNAME:PDT
DTSTART:20240310T100000
END:DAYLIGHT
BEGIN:STANDARD
TZOFFSETFROM:-0700
TZOFFSETTO:-0800
TZNAME:PST
DTSTART:20241103T090000
END:STANDARD
BEGIN:DAYLIGHT
TZOFFSETFROM:-0800
TZOFFSETTO:-0700
TZNAME:PDT
DTSTART:20250309T100000
END:DAYLIGHT
BEGIN:STANDARD
TZOFFSETFROM:-0700
TZOFFSETTO:-0800
TZNAME:PST
DTSTART:20251102T090000
END:STANDARD
BEGIN:DAYLIGHT
TZOFFSETFROM:-0800
TZOFFSETTO:-0700
TZNAME:PDT
DTSTART:20260308T100000
END:DAYLIGHT
BEGIN:STANDARD
TZOFFSETFROM:-0700
TZOFFSETTO:-0800
TZNAME:PST
DTSTART:20261101T090000
END:STANDARD
END:VTIMEZONE
BEGIN:VEVENT
DTSTART;TZID=America/Los_Angeles:20250308T100000
DTEND;TZID=America/Los_Angeles:20250308T120000
DTSTAMP:20260420T200036
CREATED:20241115T061326Z
LAST-MODIFIED:20250305T033336Z
UID:13533-1741428000-1741435200@www.santeelakes.com
SUMMARY:CAMPERS - Campfire & S'mores
DESCRIPTION:Join us and your fellow s’more loving campers! \nEvent is at the Lakeshore Fire Ring. Bring a flashlight and walk to the site. \nAll children must be accompanied by an adult.
URL:https://www.santeelakes.com/event/campers-campfire-smores-2/
LOCATION:Lakeshore Fire Ring
CATEGORIES:Campground Events
END:VEVENT
BEGIN:VEVENT
DTSTART;TZID=America/Los_Angeles:20250308T020000
DTEND;TZID=America/Los_Angeles:20250308T030000
DTSTAMP:20260420T200036
CREATED:20250305T032043Z
LAST-MODIFIED:20250305T033055Z
UID:13780-1741399200-1741402800@www.santeelakes.com
SUMMARY:CAMPERS - Sports on the Lawn
DESCRIPTION:Join us for some fun & games on the Campground lawn! All ages welcome.
URL:https://www.santeelakes.com/event/campers-sports-on-the-lawn/
CATEGORIES:Campground Events
END:VEVENT
BEGIN:VEVENT
DTSTART;TZID=America/Los_Angeles:20250301T060000
DTEND;TZID=America/Los_Angeles:20250301T080000
DTSTAMP:20260420T200036
CREATED:20241115T045842Z
LAST-MODIFIED:20250305T033911Z
UID:13531-1740808800-1740816000@www.santeelakes.com
SUMMARY:CAMPERS - Fat Saturday Mardi Gras Pet Parade!
DESCRIPTION:Join us and everyone’s favorite furry friends for our very first pet parade! \nPrizes for different categories like: Best Dressed\, Best Hair\, Happiest Tail-Wag. \nMore fun to come! \n 
URL:https://www.santeelakes.com/event/campers-fat-saturday-mardi-gras-pet-parade/
LOCATION:Clubhouse Lawn
CATEGORIES:Campground Events
END:VEVENT
BEGIN:VEVENT
DTSTART;TZID=America/Los_Angeles:20250222T080000
DTEND;TZID=America/Los_Angeles:20250222T100000
DTSTAMP:20260420T200036
CREATED:20250207T030453Z
LAST-MODIFIED:20250207T030453Z
UID:13709-1740211200-1740218400@www.santeelakes.com
SUMMARY:CAMPERS - PJ's & Popcorn & A Movie - IF | PG
DESCRIPTION:Enjoy a family friendly movie in your PJs!  All kiddos need adult supervision 🙂\nParamount Pictures IF is rated PG\nClubhouse\n4PM-6PM
URL:https://www.santeelakes.com/event/campers-pjs-popcorn-a-movie-if-pg/
LOCATION:Clubhouse
CATEGORIES:Campground Events
END:VEVENT
BEGIN:VEVENT
DTSTART;TZID=America/Los_Angeles:20250215T080000
DTEND;TZID=America/Los_Angeles:20250215T100000
DTSTAMP:20260420T200036
CREATED:20241115T041252Z
LAST-MODIFIED:20250305T033924Z
UID:13527-1739606400-1739613600@www.santeelakes.com
SUMMARY:CAMPERS - Painting (by numbers) Time
DESCRIPTION:We have some beautiful painting choices for you! \nRSVP | $12 per person HERE \nBest for adults & teens\, but we will have something for the kiddos too (no charge for kiddo craft).
URL:https://www.santeelakes.com/event/campers-painting-by-numbers-time/
LOCATION:Clubhouse
CATEGORIES:Campground Events
END:VEVENT
BEGIN:VEVENT
DTSTART;TZID=America/Los_Angeles:20250215T000000
DTEND;TZID=America/Los_Angeles:20250215T023000
DTSTAMP:20260420T200036
CREATED:20250108T064733Z
LAST-MODIFIED:20250108T064733Z
UID:13633-1739577600-1739586600@www.santeelakes.com
SUMMARY:Lion's Club Pancake Breakfast - Everyone Welcome
DESCRIPTION:Everyone is invited to join the Lion’s for a delicious breakfast in the Clubhouse. $10 Adults | $8 Children
URL:https://www.santeelakes.com/event/lions-club-pancake-breakfast-everyone-welcome/
LOCATION:Clubhouse
CATEGORIES:Campground Events,Park Events
END:VEVENT
BEGIN:VEVENT
DTSTART;TZID=America/Los_Angeles:20250209T073000
DTEND;TZID=America/Los_Angeles:20250209T110000
DTSTAMP:20260420T200036
CREATED:20241115T040751Z
LAST-MODIFIED:20241115T040751Z
UID:13525-1739086200-1739098800@www.santeelakes.com
SUMMARY:Super Bowl Viewing
DESCRIPTION:We will open the Clubhouse for campers to watch the Super Bowl. \nWe will also bring the chips and salsa. \nKickoff is at 3:30PM\, the Clubhouse will be open at 2:00PM.
URL:https://www.santeelakes.com/event/super-bowl-viewing/
LOCATION:Clubhouse
CATEGORIES:Campground Events
END:VEVENT
BEGIN:VEVENT
DTSTART;TZID=America/Los_Angeles:20250208T060000
DTEND;TZID=America/Los_Angeles:20250208T080000
DTSTAMP:20260420T200036
CREATED:20241115T040337Z
LAST-MODIFIED:20241115T040337Z
UID:13523-1738994400-1739001600@www.santeelakes.com
SUMMARY:CAMPER'S - Valentine Day Craft
DESCRIPTION:Make a craft for that special someone! \nThere will be a craft for the kiddos and the adults. \nAll children must be accompanied by an adult.
URL:https://www.santeelakes.com/event/campers-valentine-day-craft/
LOCATION:Clubhouse
CATEGORIES:Campground Events
END:VEVENT
BEGIN:VEVENT
DTSTART;TZID=America/Los_Angeles:20250201T100000
DTEND;TZID=America/Los_Angeles:20250201T120000
DTSTAMP:20260420T200036
CREATED:20241115T035954Z
LAST-MODIFIED:20241115T040035Z
UID:13520-1738404000-1738411200@www.santeelakes.com
SUMMARY:CAMPER'S - Campfire & S'mores
DESCRIPTION:Join us and your fellow s’more loving campers! \nEvent is at the Lakeshore Fire Ring. \nBring a flashlight and walk to the site. \nAll children must be accompanied by an adult.
URL:https://www.santeelakes.com/event/campers-campfire-smores/
LOCATION:Lakeshore Fire Ring
CATEGORIES:Campground Events
END:VEVENT
BEGIN:VEVENT
DTSTART;TZID=America/Los_Angeles:20250125T080000
DTEND;TZID=America/Los_Angeles:20250125T100000
DTSTAMP:20260420T200036
CREATED:20241115T034335Z
LAST-MODIFIED:20241115T034335Z
UID:13516-1737792000-1737799200@www.santeelakes.com
SUMMARY:CAMPERS - Board Game Night
DESCRIPTION:Come join us and play some board games! \nAll children must be accompanied by an adult.
URL:https://www.santeelakes.com/event/campers-board-game-night/
LOCATION:Clubhouse
CATEGORIES:Campground Events
END:VEVENT
BEGIN:VEVENT
DTSTART;TZID=America/Los_Angeles:20250125T000000
DTEND;TZID=America/Los_Angeles:20250125T023000
DTSTAMP:20260420T200036
CREATED:20241115T035546Z
LAST-MODIFIED:20241115T035546Z
UID:13518-1737763200-1737772200@www.santeelakes.com
SUMMARY:Lion's Club Breakfast
DESCRIPTION:Everyone is invited to join the Lion’s for a delicious breakfast in the Clubhouse. \n$10 Adults | $8 Children
URL:https://www.santeelakes.com/event/lions-club-breakfast/
LOCATION:Clubhouse
CATEGORIES:Campground Events,Park Events
END:VEVENT
BEGIN:VEVENT
DTSTART;TZID=America/Los_Angeles:20250118T080000
DTEND;TZID=America/Los_Angeles:20250118T100000
DTSTAMP:20260420T200036
CREATED:20241115T034005Z
LAST-MODIFIED:20241115T034005Z
UID:13513-1737187200-1737194400@www.santeelakes.com
SUMMARY:CAMPER - Friendship Bracelet Night!
DESCRIPTION:Build some beautiful bracelets for your friends or yourself! \nRSVP – $5 per person to make as many as you like. \nAll children must be accompanied by an adult.
URL:https://www.santeelakes.com/event/camper-friendship-bracelet-night/
LOCATION:Clubhouse
CATEGORIES:Campground Events
END:VEVENT
BEGIN:VEVENT
DTSTART;TZID=America/Los_Angeles:20250111T080000
DTEND;TZID=America/Los_Angeles:20250111T100000
DTSTAMP:20260420T200036
CREATED:20241115T033656Z
LAST-MODIFIED:20250311T023502Z
UID:13511-1736582400-1736589600@www.santeelakes.com
SUMMARY:CAMPER - Throwback Candy BINGO!
DESCRIPTION:Revisit your favorite candies (if you win) at BINGO! \nChildren must be accompanied by an adult.
URL:https://www.santeelakes.com/event/throwback-candy-bingo/
LOCATION:Clubhouse
CATEGORIES:Campground Events
END:VEVENT
BEGIN:VEVENT
DTSTART;TZID=America/Los_Angeles:20250104T100000
DTEND;TZID=America/Los_Angeles:20250104T120000
DTSTAMP:20260420T200036
CREATED:20241115T033429Z
LAST-MODIFIED:20241115T033429Z
UID:13509-1735984800-1735992000@www.santeelakes.com
SUMMARY:Campfire & S'mores
DESCRIPTION:We will bring the s’mores! \nWe will see you at the Lakeshore Fire Ring. \nAll children must be accompanied by an adult. \nBe sure to bring a flashlight\, it’s dark afterward.
URL:https://www.santeelakes.com/event/campfire-smores-11/
LOCATION:Lakeshore Fire Ring
CATEGORIES:Campground Events
END:VEVENT
BEGIN:VEVENT
DTSTART;TZID=America/Los_Angeles:20241231T110000
DTEND;TZID=America/Los_Angeles:20241231T130000
DTSTAMP:20260420T200036
CREATED:20240119T085400Z
LAST-MODIFIED:20241009T020232Z
UID:12889-1735642800-1735650000@www.santeelakes.com
SUMMARY:CAMPER'S New Year's Eve Party
DESCRIPTION:Ring in the New Year\, New York time\, in the Clubhouse! \nAll children must be accompanied by an adult.
URL:https://www.santeelakes.com/event/new-years-eve-party/
CATEGORIES:Campground Events
END:VEVENT
BEGIN:VEVENT
DTSTART;TZID=America/Los_Angeles:20241228T060000
DTEND;TZID=America/Los_Angeles:20241228T120000
DTSTAMP:20260420T200036
CREATED:20240119T085151Z
LAST-MODIFIED:20241109T071729Z
UID:12887-1735365600-1735387200@www.santeelakes.com
SUMMARY:CAMPER'S  Good Ol' Games & Don't forget the Cocoa & Crafts
DESCRIPTION:Let’s revisit some of life’s greatest games! \nWe will also have cocoa and a special craft from 5:00PM-8:00PM. \nAll children must be accompanied by an adult.
URL:https://www.santeelakes.com/event/old-fashioned-games-snacks/
CATEGORIES:Campground Events
END:VEVENT
BEGIN:VEVENT
DTSTART;TZID=America/Los_Angeles:20241228T020000
DTEND;TZID=America/Los_Angeles:20241228T030000
DTSTAMP:20260420T200036
CREATED:20241108T010853Z
LAST-MODIFIED:20241108T032837Z
UID:13490-1735351200-1735354800@www.santeelakes.com
SUMMARY:CAMPER'S - Sports on the Lawn - Flag Football
DESCRIPTION:All ages are welcome to come and play some great games with other campers! \nClubhouse Lawn
URL:https://www.santeelakes.com/event/campers-sports-on-the-lawn-flag-football/
LOCATION:Clubhouse Lawn
CATEGORIES:Campground Events
END:VEVENT
BEGIN:VEVENT
DTSTART;TZID=America/Los_Angeles:20241228T000000
DTEND;TZID=America/Los_Angeles:20241228T023000
DTSTAMP:20260420T200036
CREATED:20240125T033833Z
LAST-MODIFIED:20240125T033833Z
UID:12938-1735344000-1735353000@www.santeelakes.com
SUMMARY:Lion's Club Pancake Breakfast
DESCRIPTION:Come enjoy a yummy pancake breakfast at the Campground Clubhouse for a great cause!\n$10 | Adults\n$5 | 12 & Under
URL:https://www.santeelakes.com/event/lions-club-pancake-breakfast-24/
CATEGORIES:Campground Events,Park Events
END:VEVENT
BEGIN:VEVENT
DTSTART;TZID=America/Los_Angeles:20241227T090000
DTEND;TZID=America/Los_Angeles:20241227T120000
DTSTAMP:20260420T200036
CREATED:20241108T005515Z
LAST-MODIFIED:20241115T032957Z
UID:13483-1735290000-1735300800@www.santeelakes.com
SUMMARY:CAMPER MOVIE - Home Alone + Cocoa & Crafts
DESCRIPTION:Enjoy a movie in the Clubhouse! You are welcome to wear your PJs and bring a blanket…just get comfy. \nMovie starts at 6:00PM. We will also have cocoa and a special craft from 5:00PM-8:00PM. \nChildren must be accompanied by an adult.
URL:https://www.santeelakes.com/event/camper-movie-home-alone/
LOCATION:Clubhouse
CATEGORIES:Campground Events
END:VEVENT
BEGIN:VEVENT
DTSTART;TZID=America/Los_Angeles:20241221T060000
DTEND;TZID=America/Los_Angeles:20241221T080000
DTSTAMP:20260420T200036
CREATED:20240119T085031Z
LAST-MODIFIED:20241109T071514Z
UID:12885-1734760800-1734768000@www.santeelakes.com
SUMMARY:CAMPER'S Christmas Craft and don't forget the Cocoa & Crafts
DESCRIPTION:HEY CAMPERS! Not sure what to get that special someone? We can help! Choose a special craft (or two) to make for that someone special! Make a personalized mug\, trinket holder\, or ornament. There will also be a gift bag to customize! The cost is $10 per person and you must RSVP so we know you are coming. RSVP here https://tinyurl.com/47d6v8xp \nStay for the Cocoa & Crafts from 5PM-8PM. \nAll children must be accompanied by an adult. \n 
URL:https://www.santeelakes.com/event/christmas-craft/
CATEGORIES:Campground Events
END:VEVENT
BEGIN:VEVENT
DTSTART;TZID=America/Los_Angeles:20241221T020000
DTEND;TZID=America/Los_Angeles:20241221T030000
DTSTAMP:20260420T200036
CREATED:20241108T010742Z
LAST-MODIFIED:20241108T010742Z
UID:13488-1734746400-1734750000@www.santeelakes.com
SUMMARY:CAMPER'S - Sports on the Lawn - Dodgeball
DESCRIPTION:All ages are welcome to come and play some great games with other campers! \nClubhouse Lawn
URL:https://www.santeelakes.com/event/campers-sports-on-the-lawn-dodgeball/
LOCATION:Clubhouse Lawn
CATEGORIES:Campground Events
END:VEVENT
BEGIN:VEVENT
DTSTART;TZID=America/Los_Angeles:20241220T090000
DTEND;TZID=America/Los_Angeles:20241220T120000
DTSTAMP:20260420T200036
CREATED:20241108T005412Z
LAST-MODIFIED:20241115T033101Z
UID:13481-1734685200-1734696000@www.santeelakes.com
SUMMARY:CAMPER MOVIE - ELF + Cocoa & Crafts
DESCRIPTION:Enjoy a movie in the Clubhouse! You are welcome to wear your PJs and bring a blanket…just get comfy. \nMovie starts at 6:00PM. We will also have cocoa and a special craft from 5:00PM-8:00PM. \nChildren must be accompanied by an adult.
URL:https://www.santeelakes.com/event/camper-movie-elf/
LOCATION:Clubhouse
CATEGORIES:Campground Events
END:VEVENT
BEGIN:VEVENT
DTSTART;TZID=America/Los_Angeles:20241214T100000
DTEND;TZID=America/Los_Angeles:20241214T120000
DTSTAMP:20260420T200036
CREATED:20240119T084907Z
LAST-MODIFIED:20241108T004439Z
UID:12883-1734170400-1734177600@www.santeelakes.com
SUMMARY:CAMPER'S Cookie Decorating & Saran Wrap Game
DESCRIPTION:Let’s decorate some cookies and play the famous Saran Wrap game! \nYou never know what you are gonna get when that huge ball of plastic wrap comes undone! \nAll children must be accompanied by an adult.
URL:https://www.santeelakes.com/event/gingerbread-cookie-decorating-elf-pg/
CATEGORIES:Campground Events
END:VEVENT
BEGIN:VEVENT
DTSTART;TZID=America/Los_Angeles:20241214T020000
DTEND;TZID=America/Los_Angeles:20241214T030000
DTSTAMP:20260420T200036
CREATED:20241108T010519Z
LAST-MODIFIED:20241108T010519Z
UID:13486-1734141600-1734145200@www.santeelakes.com
SUMMARY:CAMPER'S - Sports on the Lawn - Wiffleball
DESCRIPTION:All ages are welcome to come and play some great games with other campers! \nClubhouse Lawn
URL:https://www.santeelakes.com/event/campers-sports-on-the-lawn-wiffleball/
LOCATION:Clubhouse Lawn
CATEGORIES:Campground Events
END:VEVENT
BEGIN:VEVENT
DTSTART;TZID=America/Los_Angeles:20241213T090000
DTEND;TZID=America/Los_Angeles:20241213T120000
DTSTAMP:20260420T200036
CREATED:20241108T005257Z
LAST-MODIFIED:20241115T032820Z
UID:13479-1734080400-1734091200@www.santeelakes.com
SUMMARY:CAMPER MOVIE TIME - A Charlie Brown Christmas + Cocoa & Crafts
DESCRIPTION:Enjoy a movie in the Clubhouse! You are welcome to wear your PJs and bring a blanket…just get comfy. \nMovie starts at 6:00PM. We will also have cocoa and a special craft from 5:00PM-8:00PM. \nChildren must be accompanied by an adult.
URL:https://www.santeelakes.com/event/camper-movie-time-a-charlie-brown-christmas/
LOCATION:Clubhouse
CATEGORIES:Campground Events
END:VEVENT
BEGIN:VEVENT
DTSTART;TZID=America/Los_Angeles:20241207T020000
DTEND;TZID=America/Los_Angeles:20241207T040000
DTSTAMP:20260420T200036
CREATED:20240119T084738Z
LAST-MODIFIED:20241009T020135Z
UID:12881-1733536800-1733544000@www.santeelakes.com
SUMMARY:CAMPER'S Santa in the Campground
DESCRIPTION:Crafts\, the Big Guy and more! \n 
URL:https://www.santeelakes.com/event/santa-in-the-campground-3/
CATEGORIES:Campground Events
END:VEVENT
BEGIN:VEVENT
DTSTART;TZID=America/Los_Angeles:20241206T090000
DTEND;TZID=America/Los_Angeles:20241206T120000
DTSTAMP:20260420T200036
CREATED:20241108T005123Z
LAST-MODIFIED:20241109T070808Z
UID:13477-1733475600-1733486400@www.santeelakes.com
SUMMARY:CAMPER MOVIE TIME - A Christmas Story + Cocoa & Crafts
DESCRIPTION:Enjoy a movie in the Clubhouse! You are welcome to wear your PJs and bring a blanket…just get comfy. \nMovie starts at 6:00PM. We will also have cocoa and a special craft from 5:00PM-8:00PM. \nWe will have some snacks or you are welcome to bring your own. \nChildren must be accompanied by an adult.
URL:https://www.santeelakes.com/event/camper-movie-time-a-christmas-story/
CATEGORIES:Campground Events
END:VEVENT
BEGIN:VEVENT
DTSTART;TZID=America/Los_Angeles:20241201T090000
DTEND;TZID=America/Los_Angeles:20241231T120000
DTSTAMP:20260420T200036
CREATED:20240725T034146Z
LAST-MODIFIED:20241211T014104Z
UID:13231-1733043600-1735646400@www.santeelakes.com
SUMMARY:Lights at the Lakes - Campground Edition + loads of family fun!
DESCRIPTION:Lights will be lit all December long in the Campground! You will be able to walk alongside beautiful holiday displays and drive your golf cart (or walk) under the tunnel of lights. It looks to be one of the best holiday seasons ever in our Campground! Make those reservations for cabins or a site and enjoy the lights! \nThe Clubhouse will be open every Friday and Saturday evening from 5PM-8PM through the month of December with hot cocoa\, holiday crafts\, and super-fun activities!
URL:https://www.santeelakes.com/event/lights-at-the-lakes-campground-edition/
LOCATION:Santee Lakes Campground\, 9310 Fanita Parkway\, SANTEE\, CA\, 92071
CATEGORIES:Campground Events
END:VEVENT
BEGIN:VEVENT
DTSTART;TZID=America/Los_Angeles:20241130T060000
DTEND;TZID=America/Los_Angeles:20241130T080000
DTSTAMP:20260420T200036
CREATED:20240118T070253Z
LAST-MODIFIED:20241009T020352Z
UID:12872-1732946400-1732953600@www.santeelakes.com
SUMMARY:CAMPER'S Letters to Santa
DESCRIPTION:Get your letters all ready to go for Santa! \nYou can mail them or hand them to him personally at our Santa in the Campground (December 7 at the Clubhouse). \nAll children must be accompanied by an adult.
URL:https://www.santeelakes.com/event/letters-to-santa/
CATEGORIES:Campground Events
END:VEVENT
BEGIN:VEVENT
DTSTART;TZID=America/Los_Angeles:20241130T020000
DTEND;TZID=America/Los_Angeles:20241130T030000
DTSTAMP:20260420T200036
CREATED:20241029T023136Z
LAST-MODIFIED:20241029T023136Z
UID:13444-1732932000-1732935600@www.santeelakes.com
SUMMARY:CAMPERS - Flag Football
DESCRIPTION:Join us for fun game of flag football on the Campground Lawn! All campers welcome\, all ages welcome.
URL:https://www.santeelakes.com/event/campers-flag-football/
CATEGORIES:Campground Events
END:VEVENT
END:VCALENDAR