BEGIN:VCALENDAR
VERSION:2.0
PRODID:-//Santee Lakes - ECPv6.15.20//NONSGML v1.0//EN
CALSCALE:GREGORIAN
METHOD:PUBLISH
X-WR-CALNAME:Santee Lakes
X-ORIGINAL-URL:https://www.santeelakes.com
X-WR-CALDESC:Events for Santee Lakes
REFRESH-INTERVAL;VALUE=DURATION:PT1H
X-Robots-Tag:noindex
X-PUBLISHED-TTL:PT1H
BEGIN:VTIMEZONE
TZID:America/Los_Angeles
BEGIN:DAYLIGHT
TZOFFSETFROM:-0800
TZOFFSETTO:-0700
TZNAME:PDT
DTSTART:20240310T100000
END:DAYLIGHT
BEGIN:STANDARD
TZOFFSETFROM:-0700
TZOFFSETTO:-0800
TZNAME:PST
DTSTART:20241103T090000
END:STANDARD
BEGIN:DAYLIGHT
TZOFFSETFROM:-0800
TZOFFSETTO:-0700
TZNAME:PDT
DTSTART:20250309T100000
END:DAYLIGHT
BEGIN:STANDARD
TZOFFSETFROM:-0700
TZOFFSETTO:-0800
TZNAME:PST
DTSTART:20251102T090000
END:STANDARD
BEGIN:DAYLIGHT
TZOFFSETFROM:-0800
TZOFFSETTO:-0700
TZNAME:PDT
DTSTART:20260308T100000
END:DAYLIGHT
BEGIN:STANDARD
TZOFFSETFROM:-0700
TZOFFSETTO:-0800
TZNAME:PST
DTSTART:20261101T090000
END:STANDARD
END:VTIMEZONE
BEGIN:VEVENT
DTSTART;TZID=America/Los_Angeles:20250503T100000
DTEND;TZID=America/Los_Angeles:20250503T120000
DTSTAMP:20260420T164008
CREATED:20250305T020155Z
LAST-MODIFIED:20250305T032603Z
UID:13740-1746266400-1746273600@www.santeelakes.com
SUMMARY:CAMPERS - Almost Cinco de Mayo
DESCRIPTION:It’s Nacho Night along with some games! Join us in the Clubhouse.
URL:https://www.santeelakes.com/event/almost-cinco-de-mayo/
CATEGORIES:Campground Events
END:VEVENT
BEGIN:VEVENT
DTSTART;TZID=America/Los_Angeles:20250503T020000
DTEND;TZID=America/Los_Angeles:20250503T030000
DTSTAMP:20260420T164008
CREATED:20250305T020358Z
LAST-MODIFIED:20250305T032448Z
UID:13742-1746237600-1746241200@www.santeelakes.com
SUMMARY:CAMPERS - Sports on the Lawn
DESCRIPTION:Join us for some fun & games on the Campground lawn! All ages welcome.
URL:https://www.santeelakes.com/event/sports-on-the-lawn/
CATEGORIES:Campground Events
END:VEVENT
BEGIN:VEVENT
DTSTART;TZID=America/Los_Angeles:20250426T050000
DTEND;TZID=America/Los_Angeles:20250426T060000
DTSTAMP:20260420T164008
CREATED:20241115T084331Z
LAST-MODIFIED:20241115T084331Z
UID:13549-1745643600-1745647200@www.santeelakes.com
SUMMARY:CAMPER'S - Spring Social - Ice Cream that is!
DESCRIPTION:Let’s get social! Come on get some ice cream…until it’s gone.
URL:https://www.santeelakes.com/event/campers-spring-social-ice-cream-that-is/
CATEGORIES:Campground Events
END:VEVENT
BEGIN:VEVENT
DTSTART;TZID=America/Los_Angeles:20250426T000000
DTEND;TZID=America/Los_Angeles:20250426T023000
DTSTAMP:20260420T164008
CREATED:20241115T084126Z
LAST-MODIFIED:20241115T084126Z
UID:13547-1745625600-1745634600@www.santeelakes.com
SUMMARY:Lion's Club Breakfast
DESCRIPTION:Come enjoy a yummy pancake breakfast at the Campground Clubhouse for a great cause! \n$10 | Adults \n$5 | 12 & Under
URL:https://www.santeelakes.com/event/lions-club-breakfast-3/
LOCATION:Clubhouse
CATEGORIES:Campground Events,Park Events
END:VEVENT
BEGIN:VEVENT
DTSTART;TZID=America/Los_Angeles:20250419T020000
DTEND;TZID=America/Los_Angeles:20250419T040000
DTSTAMP:20260420T164008
CREATED:20241115T083916Z
LAST-MODIFIED:20250305T033810Z
UID:13545-1745028000-1745035200@www.santeelakes.com
SUMMARY:CAMPERS -  Meet THE Bunny and find some eggs!
DESCRIPTION:THE Bunny will be at the Clubhouse ready to meet you and take a photo AND our famous egg hunt will return! \nThere will be crafts\, of course.
URL:https://www.santeelakes.com/event/campers-meet-the-bunny/
LOCATION:Clubhouse
CATEGORIES:Campground Events
END:VEVENT
BEGIN:VEVENT
DTSTART;TZID=America/Los_Angeles:20250412T220000
DTEND;TZID=America/Los_Angeles:20250413T110000
DTSTAMP:20260420T164008
CREATED:20250305T030145Z
LAST-MODIFIED:20250306T032345Z
UID:13772-1744495200-1744542000@www.santeelakes.com
SUMMARY:Catfish Opener
DESCRIPTION:We will be stocking 3\,000 lbs. this year\, so book your site if you camp\, or mark your calendar for this great fishing event! \nWe will be having some great giveaways each day of the event: Campground Stay\, Camping Equipment Kit\, Fishing Equipment
URL:https://www.santeelakes.com/event/catfish-opener-6/
CATEGORIES:Campground Events,Park Events
END:VEVENT
BEGIN:VEVENT
DTSTART;TZID=America/Los_Angeles:20250412T060000
DTEND;TZID=America/Los_Angeles:20250412T080000
DTSTAMP:20260420T164008
CREATED:20241115T083705Z
LAST-MODIFIED:20250305T033821Z
UID:13543-1744437600-1744444800@www.santeelakes.com
SUMMARY:CAMPERS -  Spring Crafts
DESCRIPTION:We will be making some super-fun springtime crafts\, so join us! \n 
URL:https://www.santeelakes.com/event/campers-spring-crafts/
LOCATION:Clubhouse
END:VEVENT
BEGIN:VEVENT
DTSTART;TZID=America/Los_Angeles:20250411T220000
DTEND;TZID=America/Los_Angeles:20250412T110000
DTSTAMP:20260420T164008
CREATED:20250305T030053Z
LAST-MODIFIED:20250306T032059Z
UID:13770-1744408800-1744455600@www.santeelakes.com
SUMMARY:Catfish Opener
DESCRIPTION:We will be stocking 3\,000 lbs. this year\, so book your site if you camp\, or mark your calendar for this great fishing event! \nWe will be having some great giveaways each day of the event: Campground Stay\, Camping Equipment Kit\, Fishing Equipment
URL:https://www.santeelakes.com/event/catfish-opener-5/
CATEGORIES:Campground Events,Park Events
END:VEVENT
BEGIN:VEVENT
DTSTART;TZID=America/Los_Angeles:20250405T100000
DTEND;TZID=America/Los_Angeles:20250405T120000
DTSTAMP:20260420T164008
CREATED:20241115T083304Z
LAST-MODIFIED:20250305T033830Z
UID:13541-1743847200-1743854400@www.santeelakes.com
SUMMARY:CAMPERS - Campfire & S'mores
DESCRIPTION:Join us and your fellow s’more loving campers! \nEvent is at the Lakeshore Fire Ring. Bring a flashlight and walk to the site. \nAll children must be accompanied by an adult.
URL:https://www.santeelakes.com/event/campers-campfire-smores-3/
LOCATION:Lakeshore Fire Ring
CATEGORIES:Campground Events
END:VEVENT
BEGIN:VEVENT
DTSTART;TZID=America/Los_Angeles:20250329T020000
DTEND;TZID=America/Los_Angeles:20250329T030000
DTSTAMP:20260420T164008
CREATED:20250305T032316Z
LAST-MODIFIED:20250305T033841Z
UID:13786-1743213600-1743217200@www.santeelakes.com
SUMMARY:CAMPERS - Sports on the Lawn
DESCRIPTION:Join us for some fun & games on the Campground lawn! All ages welcome.
URL:https://www.santeelakes.com/event/campers-sports-on-the-lawn-4/
CATEGORIES:Campground Events
END:VEVENT
BEGIN:VEVENT
DTSTART;TZID=America/Los_Angeles:20250329T000000
DTEND;TZID=America/Los_Angeles:20250329T023000
DTSTAMP:20260420T164008
CREATED:20241115T083016Z
LAST-MODIFIED:20241115T083016Z
UID:13539-1743206400-1743215400@www.santeelakes.com
SUMMARY:Lion's Club Breakfast
DESCRIPTION:Come enjoy a yummy pancake breakfast at the Campground Clubhouse for a great cause! \n$10 | Adults \n$5 | 12 & Under
URL:https://www.santeelakes.com/event/lions-club-breakfast-2/
LOCATION:Clubhouse
CATEGORIES:Campground Events,Park Events
END:VEVENT
BEGIN:VEVENT
DTSTART;TZID=America/Los_Angeles:20250329T000000
DTEND;TZID=America/Los_Angeles:20250329T013000
DTSTAMP:20260420T164008
CREATED:20250312T014105Z
LAST-MODIFIED:20250315T052554Z
UID:13924-1743206400-1743211800@www.santeelakes.com
SUMMARY:EVERYONE - Fish with a Ranger!
DESCRIPTION:Need some tips or refresher on catching fish at Santee Lakes? You are in luck. Ranger Chris will be on site to help everyone from beginner to seasoned anglers. \nMeet at the General Store on Saturday\, March 29 at 8:00AM. \nPurchase your permit from Chris or at the Gatehouse\, bait and lures are provided.
URL:https://www.santeelakes.com/event/everyone-fish-with-a-ranger/
CATEGORIES:Campground Events,Park Events
END:VEVENT
BEGIN:VEVENT
DTSTART;TZID=America/Los_Angeles:20250322T080000
DTEND;TZID=America/Los_Angeles:20250322T100000
DTSTAMP:20260420T164008
CREATED:20241115T061829Z
LAST-MODIFIED:20250305T033850Z
UID:13537-1742630400-1742637600@www.santeelakes.com
SUMMARY:CAMPERS -  "Lego" Brick Building
DESCRIPTION:All ages welcome to come and build some great projects! \nEach guest will take home their creations. \nBe sure to RSVP so we know you are coming.  $5 per builder. \nAll kiddos must be accompanied by an adult.
URL:https://www.santeelakes.com/event/campers-lego-brick-building/
LOCATION:Clubhouse
CATEGORIES:Campground Events
END:VEVENT
BEGIN:VEVENT
DTSTART;TZID=America/Los_Angeles:20250322T020000
DTEND;TZID=America/Los_Angeles:20250322T030000
DTSTAMP:20260420T164008
CREATED:20250305T032229Z
LAST-MODIFIED:20250305T033900Z
UID:13784-1742608800-1742612400@www.santeelakes.com
SUMMARY:CAMPERS - Sports on the Lawn
DESCRIPTION:Join us for some fun & games on the Campground lawn! All ages welcome.
URL:https://www.santeelakes.com/event/campers-sports-on-the-lawn-3/
CATEGORIES:Campground Events
END:VEVENT
BEGIN:VEVENT
DTSTART;TZID=America/Los_Angeles:20250315T080000
DTEND;TZID=America/Los_Angeles:20250315T100000
DTSTAMP:20260420T164008
CREATED:20241115T061537Z
LAST-MODIFIED:20250305T033518Z
UID:13535-1742025600-1742032800@www.santeelakes.com
SUMMARY:CAMPERS - Green BINGO!
DESCRIPTION:Wear some green and win some green! \nAll kiddos must be accompanied by an adult.
URL:https://www.santeelakes.com/event/campers-green-bingo/
LOCATION:Clubhouse
CATEGORIES:Campground Events
END:VEVENT
BEGIN:VEVENT
DTSTART;TZID=America/Los_Angeles:20250315T020000
DTEND;TZID=America/Los_Angeles:20250315T030000
DTSTAMP:20260420T164008
CREATED:20250305T032134Z
LAST-MODIFIED:20250305T033244Z
UID:13782-1742004000-1742007600@www.santeelakes.com
SUMMARY:CAMPERS - Sports on the Lawn
DESCRIPTION:Join us for some fun & games on the Campground lawn! All ages welcome.
URL:https://www.santeelakes.com/event/campers-sports-on-the-lawn-2/
CATEGORIES:Campground Events
END:VEVENT
BEGIN:VEVENT
DTSTART;TZID=America/Los_Angeles:20250310T020000
DTEND;TZID=America/Los_Angeles:20250310T040000
DTSTAMP:20260420T164008
CREATED:20250226T030051Z
LAST-MODIFIED:20250307T034948Z
UID:13723-1741572000-1741579200@www.santeelakes.com
SUMMARY:Senior Art Class - Wooden Circle Creations
DESCRIPTION:Hey Seniors! Join us in the Clubhouse for a great day of art! \nParking is $4 and you can follow the park road to the Clubhouse. \nAll materials are included and the cost is $30 per person.  You can sign up at the link. \nSIGN UP \n 
URL:https://www.santeelakes.com/event/senior-art-class-wooden-circle-creations/
LOCATION:Dining Deck over Lake 4
CATEGORIES:Campground Events,Park Events
END:VEVENT
BEGIN:VEVENT
DTSTART;TZID=America/Los_Angeles:20250308T100000
DTEND;TZID=America/Los_Angeles:20250308T120000
DTSTAMP:20260420T164008
CREATED:20241115T061326Z
LAST-MODIFIED:20250305T033336Z
UID:13533-1741428000-1741435200@www.santeelakes.com
SUMMARY:CAMPERS - Campfire & S'mores
DESCRIPTION:Join us and your fellow s’more loving campers! \nEvent is at the Lakeshore Fire Ring. Bring a flashlight and walk to the site. \nAll children must be accompanied by an adult.
URL:https://www.santeelakes.com/event/campers-campfire-smores-2/
LOCATION:Lakeshore Fire Ring
CATEGORIES:Campground Events
END:VEVENT
BEGIN:VEVENT
DTSTART;TZID=America/Los_Angeles:20250308T020000
DTEND;TZID=America/Los_Angeles:20250308T030000
DTSTAMP:20260420T164008
CREATED:20250305T032043Z
LAST-MODIFIED:20250305T033055Z
UID:13780-1741399200-1741402800@www.santeelakes.com
SUMMARY:CAMPERS - Sports on the Lawn
DESCRIPTION:Join us for some fun & games on the Campground lawn! All ages welcome.
URL:https://www.santeelakes.com/event/campers-sports-on-the-lawn/
CATEGORIES:Campground Events
END:VEVENT
BEGIN:VEVENT
DTSTART;TZID=America/Los_Angeles:20250301T060000
DTEND;TZID=America/Los_Angeles:20250301T080000
DTSTAMP:20260420T164008
CREATED:20241115T045842Z
LAST-MODIFIED:20250305T033911Z
UID:13531-1740808800-1740816000@www.santeelakes.com
SUMMARY:CAMPERS - Fat Saturday Mardi Gras Pet Parade!
DESCRIPTION:Join us and everyone’s favorite furry friends for our very first pet parade! \nPrizes for different categories like: Best Dressed\, Best Hair\, Happiest Tail-Wag. \nMore fun to come! \n 
URL:https://www.santeelakes.com/event/campers-fat-saturday-mardi-gras-pet-parade/
LOCATION:Clubhouse Lawn
CATEGORIES:Campground Events
END:VEVENT
BEGIN:VEVENT
DTSTART;TZID=America/Los_Angeles:20250222T080000
DTEND;TZID=America/Los_Angeles:20250222T100000
DTSTAMP:20260420T164008
CREATED:20250207T030453Z
LAST-MODIFIED:20250207T030453Z
UID:13709-1740211200-1740218400@www.santeelakes.com
SUMMARY:CAMPERS - PJ's & Popcorn & A Movie - IF | PG
DESCRIPTION:Enjoy a family friendly movie in your PJs!  All kiddos need adult supervision 🙂\nParamount Pictures IF is rated PG\nClubhouse\n4PM-6PM
URL:https://www.santeelakes.com/event/campers-pjs-popcorn-a-movie-if-pg/
LOCATION:Clubhouse
CATEGORIES:Campground Events
END:VEVENT
BEGIN:VEVENT
DTSTART;TZID=America/Los_Angeles:20250215T080000
DTEND;TZID=America/Los_Angeles:20250215T100000
DTSTAMP:20260420T164008
CREATED:20241115T041252Z
LAST-MODIFIED:20250305T033924Z
UID:13527-1739606400-1739613600@www.santeelakes.com
SUMMARY:CAMPERS - Painting (by numbers) Time
DESCRIPTION:We have some beautiful painting choices for you! \nRSVP | $12 per person HERE \nBest for adults & teens\, but we will have something for the kiddos too (no charge for kiddo craft).
URL:https://www.santeelakes.com/event/campers-painting-by-numbers-time/
LOCATION:Clubhouse
CATEGORIES:Campground Events
END:VEVENT
BEGIN:VEVENT
DTSTART;TZID=America/Los_Angeles:20250215T000000
DTEND;TZID=America/Los_Angeles:20250215T023000
DTSTAMP:20260420T164008
CREATED:20250108T064733Z
LAST-MODIFIED:20250108T064733Z
UID:13633-1739577600-1739586600@www.santeelakes.com
SUMMARY:Lion's Club Pancake Breakfast - Everyone Welcome
DESCRIPTION:Everyone is invited to join the Lion’s for a delicious breakfast in the Clubhouse. $10 Adults | $8 Children
URL:https://www.santeelakes.com/event/lions-club-pancake-breakfast-everyone-welcome/
LOCATION:Clubhouse
CATEGORIES:Campground Events,Park Events
END:VEVENT
BEGIN:VEVENT
DTSTART;TZID=America/Los_Angeles:20250209T073000
DTEND;TZID=America/Los_Angeles:20250209T110000
DTSTAMP:20260420T164008
CREATED:20241115T040751Z
LAST-MODIFIED:20241115T040751Z
UID:13525-1739086200-1739098800@www.santeelakes.com
SUMMARY:Super Bowl Viewing
DESCRIPTION:We will open the Clubhouse for campers to watch the Super Bowl. \nWe will also bring the chips and salsa. \nKickoff is at 3:30PM\, the Clubhouse will be open at 2:00PM.
URL:https://www.santeelakes.com/event/super-bowl-viewing/
LOCATION:Clubhouse
CATEGORIES:Campground Events
END:VEVENT
BEGIN:VEVENT
DTSTART;TZID=America/Los_Angeles:20250208T060000
DTEND;TZID=America/Los_Angeles:20250208T080000
DTSTAMP:20260420T164008
CREATED:20241115T040337Z
LAST-MODIFIED:20241115T040337Z
UID:13523-1738994400-1739001600@www.santeelakes.com
SUMMARY:CAMPER'S - Valentine Day Craft
DESCRIPTION:Make a craft for that special someone! \nThere will be a craft for the kiddos and the adults. \nAll children must be accompanied by an adult.
URL:https://www.santeelakes.com/event/campers-valentine-day-craft/
LOCATION:Clubhouse
CATEGORIES:Campground Events
END:VEVENT
BEGIN:VEVENT
DTSTART;TZID=America/Los_Angeles:20250201T100000
DTEND;TZID=America/Los_Angeles:20250201T120000
DTSTAMP:20260420T164008
CREATED:20241115T035954Z
LAST-MODIFIED:20241115T040035Z
UID:13520-1738404000-1738411200@www.santeelakes.com
SUMMARY:CAMPER'S - Campfire & S'mores
DESCRIPTION:Join us and your fellow s’more loving campers! \nEvent is at the Lakeshore Fire Ring. \nBring a flashlight and walk to the site. \nAll children must be accompanied by an adult.
URL:https://www.santeelakes.com/event/campers-campfire-smores/
LOCATION:Lakeshore Fire Ring
CATEGORIES:Campground Events
END:VEVENT
BEGIN:VEVENT
DTSTART;TZID=America/Los_Angeles:20250125T080000
DTEND;TZID=America/Los_Angeles:20250125T100000
DTSTAMP:20260420T164008
CREATED:20241115T034335Z
LAST-MODIFIED:20241115T034335Z
UID:13516-1737792000-1737799200@www.santeelakes.com
SUMMARY:CAMPERS - Board Game Night
DESCRIPTION:Come join us and play some board games! \nAll children must be accompanied by an adult.
URL:https://www.santeelakes.com/event/campers-board-game-night/
LOCATION:Clubhouse
CATEGORIES:Campground Events
END:VEVENT
BEGIN:VEVENT
DTSTART;TZID=America/Los_Angeles:20250125T000000
DTEND;TZID=America/Los_Angeles:20250125T023000
DTSTAMP:20260420T164008
CREATED:20241115T035546Z
LAST-MODIFIED:20241115T035546Z
UID:13518-1737763200-1737772200@www.santeelakes.com
SUMMARY:Lion's Club Breakfast
DESCRIPTION:Everyone is invited to join the Lion’s for a delicious breakfast in the Clubhouse. \n$10 Adults | $8 Children
URL:https://www.santeelakes.com/event/lions-club-breakfast/
LOCATION:Clubhouse
CATEGORIES:Campground Events,Park Events
END:VEVENT
BEGIN:VEVENT
DTSTART;TZID=America/Los_Angeles:20250118T080000
DTEND;TZID=America/Los_Angeles:20250118T100000
DTSTAMP:20260420T164008
CREATED:20241115T034005Z
LAST-MODIFIED:20241115T034005Z
UID:13513-1737187200-1737194400@www.santeelakes.com
SUMMARY:CAMPER - Friendship Bracelet Night!
DESCRIPTION:Build some beautiful bracelets for your friends or yourself! \nRSVP – $5 per person to make as many as you like. \nAll children must be accompanied by an adult.
URL:https://www.santeelakes.com/event/camper-friendship-bracelet-night/
LOCATION:Clubhouse
CATEGORIES:Campground Events
END:VEVENT
BEGIN:VEVENT
DTSTART;TZID=America/Los_Angeles:20250111T080000
DTEND;TZID=America/Los_Angeles:20250111T100000
DTSTAMP:20260420T164008
CREATED:20241115T033656Z
LAST-MODIFIED:20250311T023502Z
UID:13511-1736582400-1736589600@www.santeelakes.com
SUMMARY:CAMPER - Throwback Candy BINGO!
DESCRIPTION:Revisit your favorite candies (if you win) at BINGO! \nChildren must be accompanied by an adult.
URL:https://www.santeelakes.com/event/throwback-candy-bingo/
LOCATION:Clubhouse
CATEGORIES:Campground Events
END:VEVENT
END:VCALENDAR