BEGIN:VCALENDAR
VERSION:2.0
PRODID:-//Santee Lakes - ECPv6.15.20//NONSGML v1.0//EN
CALSCALE:GREGORIAN
METHOD:PUBLISH
X-WR-CALNAME:Santee Lakes
X-ORIGINAL-URL:https://www.santeelakes.com
X-WR-CALDESC:Events for Santee Lakes
REFRESH-INTERVAL;VALUE=DURATION:PT1H
X-Robots-Tag:noindex
X-PUBLISHED-TTL:PT1H
BEGIN:VTIMEZONE
TZID:America/Los_Angeles
BEGIN:DAYLIGHT
TZOFFSETFROM:-0800
TZOFFSETTO:-0700
TZNAME:PDT
DTSTART:20230312T100000
END:DAYLIGHT
BEGIN:STANDARD
TZOFFSETFROM:-0700
TZOFFSETTO:-0800
TZNAME:PST
DTSTART:20231105T090000
END:STANDARD
BEGIN:DAYLIGHT
TZOFFSETFROM:-0800
TZOFFSETTO:-0700
TZNAME:PDT
DTSTART:20240310T100000
END:DAYLIGHT
BEGIN:STANDARD
TZOFFSETFROM:-0700
TZOFFSETTO:-0800
TZNAME:PST
DTSTART:20241103T090000
END:STANDARD
BEGIN:DAYLIGHT
TZOFFSETFROM:-0800
TZOFFSETTO:-0700
TZNAME:PDT
DTSTART:20250309T100000
END:DAYLIGHT
BEGIN:STANDARD
TZOFFSETFROM:-0700
TZOFFSETTO:-0800
TZNAME:PST
DTSTART:20251102T090000
END:STANDARD
END:VTIMEZONE
BEGIN:VEVENT
DTSTART;TZID=America/Los_Angeles:20241123T060000
DTEND;TZID=America/Los_Angeles:20241123T080000
DTSTAMP:20260420T220938
CREATED:20240118T070013Z
LAST-MODIFIED:20241009T020422Z
UID:12870-1732341600-1732348800@www.santeelakes.com
SUMMARY:CAMPER'S  Pie Social & Thanksgiving Craft
DESCRIPTION:What’s better than some yummy pie and fun Thanksgiving craft! \nAll children must be accompanied by an adult.
URL:https://www.santeelakes.com/event/pie-social-thanksgiving-craft/
CATEGORIES:Campground Events
END:VEVENT
BEGIN:VEVENT
DTSTART;TZID=America/Los_Angeles:20241123T020000
DTEND;TZID=America/Los_Angeles:20241123T030000
DTSTAMP:20260420T220938
CREATED:20241029T023325Z
LAST-MODIFIED:20241029T023325Z
UID:13446-1732327200-1732330800@www.santeelakes.com
SUMMARY:CAMPERS - Dodgeball
DESCRIPTION:Join us for fun game of dodgeball on the Campground Lawn! All campers welcome\, all ages welcome.
URL:https://www.santeelakes.com/event/campers-dodgeball-2/
CATEGORIES:Campground Events
END:VEVENT
BEGIN:VEVENT
DTSTART;TZID=America/Los_Angeles:20241116T020000
DTEND;TZID=America/Los_Angeles:20241116T040000
DTSTAMP:20260420T220938
CREATED:20241101T070655Z
LAST-MODIFIED:20241101T070655Z
UID:13458-1731722400-1731729600@www.santeelakes.com
SUMMARY:Explore with a Ranger!
DESCRIPTION:Meet at the General Store and get ready for an adventure! Wear comfy shoes\, hat and don’t forget your water. \nBe sure to RSVP at the link so we know you are coming! This event is open to everyone and all ages. \nRSVP Here!
URL:https://www.santeelakes.com/event/explore-with-a-ranger/
CATEGORIES:Campground Events,Park Events
END:VEVENT
BEGIN:VEVENT
DTSTART;TZID=America/Los_Angeles:20241116T020000
DTEND;TZID=America/Los_Angeles:20241116T030000
DTSTAMP:20260420T220938
CREATED:20241029T023012Z
LAST-MODIFIED:20241029T023012Z
UID:13442-1731722400-1731726000@www.santeelakes.com
SUMMARY:CAMPERS - Capture the Flag
DESCRIPTION:Join us for fun game of Capture the Flag on the Campground Lawn! All campers welcome\, all ages welcome.
URL:https://www.santeelakes.com/event/campers-capture-the-flag/
CATEGORIES:Campground Events
END:VEVENT
BEGIN:VEVENT
DTSTART;TZID=America/Los_Angeles:20241113T200000
DTEND;TZID=America/Los_Angeles:20241114T100000
DTSTAMP:20260420T220938
CREATED:20241115T045215Z
LAST-MODIFIED:20241115T045322Z
UID:13529-1731528000-1731578400@www.santeelakes.com
SUMMARY:CAMPER's - PJs & a Movie
DESCRIPTION:Come join us for a movie night in your comfy pjs! \nMovie: IF | PG
URL:https://www.santeelakes.com/event/campers-pjs-a-movie/
LOCATION:Clubhouse
CATEGORIES:Campground Events
END:VEVENT
BEGIN:VEVENT
DTSTART;TZID=America/Los_Angeles:20241109T080000
DTEND;TZID=America/Los_Angeles:20241109T100000
DTSTAMP:20260420T220938
CREATED:20240118T065306Z
LAST-MODIFIED:20241029T023452Z
UID:12866-1731139200-1731146400@www.santeelakes.com
SUMMARY:CAMPER'S  PJs\, Cocoa & BINGO!
DESCRIPTION:Adults and kids\, wear your PJs! \nDrink some cocoa. \nPlay some BINGO! \nAll children must be accompanied by an adult.
URL:https://www.santeelakes.com/event/pjs-cocoa-bingo/
CATEGORIES:Campground Events
END:VEVENT
BEGIN:VEVENT
DTSTART;TZID=America/Los_Angeles:20241109T020000
DTEND;TZID=America/Los_Angeles:20241109T030000
DTSTAMP:20260420T220938
CREATED:20241029T022902Z
LAST-MODIFIED:20241029T022902Z
UID:13439-1731117600-1731121200@www.santeelakes.com
SUMMARY:CAMPERS - Wiffle Ball
DESCRIPTION:Join us for fun game of wiffle ball on the Campground Lawn! All campers welcome\, all ages welcome.
URL:https://www.santeelakes.com/event/campers-wiffle-ball/
CATEGORIES:Campground Events
END:VEVENT
BEGIN:VEVENT
DTSTART;TZID=America/Los_Angeles:20241102T100000
DTEND;TZID=America/Los_Angeles:20241102T120000
DTSTAMP:20260420T220938
CREATED:20240118T065129Z
LAST-MODIFIED:20241009T020418Z
UID:12864-1730541600-1730548800@www.santeelakes.com
SUMMARY:CAMPER'S Campfire & S'mores
DESCRIPTION:Join us and your fellow s’more loving campers! \nEvent is at the Lakeshore Fire Ring. \nBring a flashlight and walk to the site. \nAll children must be accompanied by an adult.
URL:https://www.santeelakes.com/event/campfire-smores-12/
CATEGORIES:Campground Events
END:VEVENT
BEGIN:VEVENT
DTSTART;TZID=America/Los_Angeles:20241102T020000
DTEND;TZID=America/Los_Angeles:20241102T030000
DTSTAMP:20260420T220938
CREATED:20241029T022725Z
LAST-MODIFIED:20241029T022725Z
UID:13437-1730512800-1730516400@www.santeelakes.com
SUMMARY:CAMPER'S - Dodgeball
DESCRIPTION:Join us for fun game of dodgeball on the Campground Lawn! All campers welcome\, all ages welcome.
URL:https://www.santeelakes.com/event/campers-dodgeball/
CATEGORIES:Campground Events
END:VEVENT
BEGIN:VEVENT
DTSTART;TZID=America/Los_Angeles:20241101T220000
DTEND;TZID=America/Los_Angeles:20241103T090000
DTSTAMP:20260420T220938
CREATED:20231213T053907Z
LAST-MODIFIED:20231213T053907Z
UID:12723-1730498400-1730624400@www.santeelakes.com
SUMMARY:Trout Opener
DESCRIPTION:3\,000 lbs. of Rainbows stocked for our season opener! \nA permit is all you need. No state license is required.
URL:https://www.santeelakes.com/event/trout-opener-4/
LOCATION:Santee Lakes Recreation Preserve\, 9310 Fanita Parkway\, Santee\, CA\, 92071\, United States
CATEGORIES:Campground Events,Park Events
END:VEVENT
BEGIN:VEVENT
DTSTART;TZID=America/Los_Angeles:20241026T100000
DTEND;TZID=America/Los_Angeles:20241026T110000
DTSTAMP:20260420T220938
CREATED:20240118T063532Z
LAST-MODIFIED:20241009T020458Z
UID:12851-1729936800-1729940400@www.santeelakes.com
SUMMARY:CAMPER'S  Trick-or-Treat Saturdays
DESCRIPTION:Join all of the other little monsters as we trick-or-treat EVERY Saturday in October! \nCompletely up to you as a camper if you would like to participate. \nWe have special door hangers for participants.
URL:https://www.santeelakes.com/event/trick-or-treat-saturdays-4/
CATEGORIES:Campground Events
END:VEVENT
BEGIN:VEVENT
DTSTART;TZID=America/Los_Angeles:20241026T020000
DTEND;TZID=America/Los_Angeles:20241026T060000
DTSTAMP:20260420T220938
CREATED:20231213T040615Z
LAST-MODIFIED:20241022T073947Z
UID:12709-1729908000-1729922400@www.santeelakes.com
SUMMARY:Spooktacular
DESCRIPTION:Let’s boo  this – Jack Skellington & Sally will be our special guests at our 2nd Annual Spooktacular & Trunk-or-Treat – Coming Saturday\, October 26\, from 10:00AM-2:00PM at Lake 1 and Lake 2. EVENT DETAILS: This will be a ghoulish day of trunk-or-treating\, food trucks\, games\, inflatables\, face painting\, DJ\, photo opportunities\, and much more. There will be a Mary’s Donut walk and local businesses will be decorating their trunks/booths and handing out tons of candy  to our little monsters. Dress in your best costume and join us! Parking is $10 and the event is FREE.\n\n\n\n\nA BIG thanks to our Activity Sponsors. We couldn’t do this without you! \n 
URL:https://www.santeelakes.com/event/spooktacular/
LOCATION:Santee Lakes Recreation Preserve\, 9310 Fanita Parkway\, Santee\, CA\, 92071\, United States
CATEGORIES:Campground Events,Park Events
END:VEVENT
BEGIN:VEVENT
DTSTART;TZID=America/Los_Angeles:20241026T000000
DTEND;TZID=America/Los_Angeles:20241026T143000
DTSTAMP:20260420T220938
CREATED:20240125T033647Z
LAST-MODIFIED:20240125T033647Z
UID:12934-1729900800-1729953000@www.santeelakes.com
SUMMARY:Lion's Club Pancake Breakfast
DESCRIPTION:Come enjoy a yummy pancake breakfast at the Campground Clubhouse for a great cause! \n$10 | Adults \n$5 | 12 & Under \n 
URL:https://www.santeelakes.com/event/lions-club-pancake-breakfast-22/
CATEGORIES:Campground Events,Park Events
END:VEVENT
BEGIN:VEVENT
DTSTART;TZID=America/Los_Angeles:20241025T100000
DTEND;TZID=America/Los_Angeles:20241025T120000
DTSTAMP:20260420T220938
CREATED:20240118T064825Z
LAST-MODIFIED:20241023T000150Z
UID:12862-1729850400-1729857600@www.santeelakes.com
SUMMARY:CAMPERS ONLY - Outdoor Movie Fright Night: Nightmare Before Christmas
DESCRIPTION:CAMPERS ONLY – Join us for a ghoulishly fun movie night outside! \nNightmare Before Christmas | PG \nClubhouse Lawn \n6:00PMish (sundown) \nGOODY BAGS AT EVERY MOVIE!
URL:https://www.santeelakes.com/event/outdoor-movie-fright-night-nightmare-before-christmas/
CATEGORIES:Campground Events
END:VEVENT
BEGIN:VEVENT
DTSTART;TZID=America/Los_Angeles:20241019T100000
DTEND;TZID=America/Los_Angeles:20241019T110000
DTSTAMP:20260420T220938
CREATED:20240118T063447Z
LAST-MODIFIED:20241009T020622Z
UID:12849-1729332000-1729335600@www.santeelakes.com
SUMMARY:CAMPER'S Trick-or-Treat Saturdays
DESCRIPTION:Join all of the other little monsters as we trick-or-treat EVERY Saturday in October! \nCompletely up to you as a camper if you would like to participate. \nWe have special door hangers for participants.
URL:https://www.santeelakes.com/event/trick-or-treat-saturdays-3/
CATEGORIES:Campground Events
END:VEVENT
BEGIN:VEVENT
DTSTART;TZID=America/Los_Angeles:20241019T060000
DTEND;TZID=America/Los_Angeles:20241019T080000
DTSTAMP:20260420T220938
CREATED:20240118T064414Z
LAST-MODIFIED:20241009T015723Z
UID:12858-1729317600-1729324800@www.santeelakes.com
SUMMARY:CAMPER'S Gingerbread Haunted Houses
DESCRIPTION:We will be making Gingerbread Haunted Houses in the Clubhouse! \n$6 to participate. \nAll children must be accompanied by an adult.
URL:https://www.santeelakes.com/event/gingerbread-haunted-houses/
CATEGORIES:Campground Events
END:VEVENT
BEGIN:VEVENT
DTSTART;TZID=America/Los_Angeles:20241018T100000
DTEND;TZID=America/Los_Angeles:20241018T123000
DTSTAMP:20260420T220938
CREATED:20240118T064704Z
LAST-MODIFIED:20241009T020642Z
UID:12860-1729245600-1729254600@www.santeelakes.com
SUMMARY:CAMPER'S  Outdoor Movie Fright Night: Beetlejuice
DESCRIPTION:Join us for a ghoulishly fun movie night outside! \nBeetlejuice | PG-13 \nClubhouse Lawn \n6:00PMish (sundown) \nGOODY BAGS AT EVERY MOVIE!
URL:https://www.santeelakes.com/event/outdoor-movie-fright-night/
CATEGORIES:Campground Events
END:VEVENT
BEGIN:VEVENT
DTSTART;TZID=America/Los_Angeles:20241012T100000
DTEND;TZID=America/Los_Angeles:20241012T110000
DTSTAMP:20260420T220938
CREATED:20240118T063401Z
LAST-MODIFIED:20241009T015845Z
UID:12847-1728727200-1728730800@www.santeelakes.com
SUMMARY:CAMPER'S Trick-or-Treat Saturdays
DESCRIPTION:Join all of the other little monsters as we trick-or-treat EVERY Saturday in October! \nCompletely up to you as a camper if you would like to participate. \nWe have special door hangers for participants.
URL:https://www.santeelakes.com/event/trick-or-treat-saturdays-2/
CATEGORIES:Campground Events
END:VEVENT
BEGIN:VEVENT
DTSTART;TZID=America/Los_Angeles:20241012T020000
DTEND;TZID=America/Los_Angeles:20241012T070000
DTSTAMP:20260420T220938
CREATED:20231213T053106Z
LAST-MODIFIED:20231213T053106Z
UID:12721-1728698400-1728716400@www.santeelakes.com
SUMMARY:Ladies at the Lake Fall Market
DESCRIPTION:Shop from a variety of vendors at one of our favorite events!
URL:https://www.santeelakes.com/event/ladies-at-the-lake-fall-market-3/
LOCATION:Santee Lakes Recreation Preserve\, 9310 Fanita Parkway\, Santee\, CA\, 92071\, United States
CATEGORIES:Campground Events,Park Events
END:VEVENT
BEGIN:VEVENT
DTSTART;TZID=America/Los_Angeles:20241011T102000
DTEND;TZID=America/Los_Angeles:20241011T123000
DTSTAMP:20260420T220938
CREATED:20240930T235919Z
LAST-MODIFIED:20241009T015444Z
UID:13369-1728642000-1728649800@www.santeelakes.com
SUMMARY:CAMPER'S Outdoor Movie Fright Night - Disney's Haunted Mansion
DESCRIPTION:Join us for a ghoulishly fun movie night outside! \nDisney’s Haunted Mansion| PG-13 \nClubhouse Lawn \n6:20PMish (sundown) \nGOODY BAGS AT EVERY MOVIE!!
URL:https://www.santeelakes.com/event/outdoor-movie-fright-night-disneys-haunted-mansion/
LOCATION:Clubhouse Lawn
CATEGORIES:Park Events
END:VEVENT
BEGIN:VEVENT
DTSTART;TZID=America/Los_Angeles:20241005T100000
DTEND;TZID=America/Los_Angeles:20241005T110000
DTSTAMP:20260420T220938
CREATED:20240118T063258Z
LAST-MODIFIED:20241009T020714Z
UID:12845-1728122400-1728126000@www.santeelakes.com
SUMMARY:CAMPER'S Trick-or-Treat Saturdays
DESCRIPTION:Join all of the other little monsters as we trick-or-treat EVERY Saturday in October! \nCompletely up to you as a camper if you would like to participate. \nWe have special door hangers for participants.
URL:https://www.santeelakes.com/event/trick-or-treat-saturdays/
CATEGORIES:Campground Events
END:VEVENT
BEGIN:VEVENT
DTSTART;TZID=America/Los_Angeles:20241004T102000
DTEND;TZID=America/Los_Angeles:20241004T123000
DTSTAMP:20260420T220938
CREATED:20240930T235435Z
LAST-MODIFIED:20240930T235435Z
UID:13367-1728037200-1728045000@www.santeelakes.com
SUMMARY:Outdoor Movie Fright Night: Addams Family
DESCRIPTION:Join us for a ghoulishly fun movie night outside! \nAddams Family| PG-13 \nClubhouse Lawn \n6:20PMish (sundown) \nGOODY BAGS AT EVERY MOVIE!!
URL:https://www.santeelakes.com/event/outdoor-movie-fright-night-addams-family/
LOCATION:Clubhouse Lawn
CATEGORIES:Park Events
END:VEVENT
BEGIN:VEVENT
DTSTART;TZID=America/Los_Angeles:20240928T090000
DTEND;TZID=America/Los_Angeles:20240928T110000
DTSTAMP:20260420T220938
CREATED:20240412T054419Z
LAST-MODIFIED:20240412T054419Z
UID:13044-1727514000-1727521200@www.santeelakes.com
SUMMARY:Summer Jams on Deck - Jacob Schwartz
DESCRIPTION:Enjoy a great concert and great food on the beautiful deck at Lake 4 on select Saturdays this summer! \nPerfect sounds of Bluegrass\, Folk\, and Classic Country.
URL:https://www.santeelakes.com/event/summer-jams-on-deck-jacob-schwartz/
CATEGORIES:Campground Events,Park Events
END:VEVENT
BEGIN:VEVENT
DTSTART;TZID=America/Los_Angeles:20240928T060000
DTEND;TZID=America/Los_Angeles:20240928T080000
DTSTAMP:20260420T220938
CREATED:20240119T083946Z
LAST-MODIFIED:20240921T024309Z
UID:12878-1727503200-1727510400@www.santeelakes.com
SUMMARY:Fall Craft Time
DESCRIPTION:Join us for a fall craft! All ages welcome.
URL:https://www.santeelakes.com/event/fall-craft-time/
CATEGORIES:Campground Events
END:VEVENT
BEGIN:VEVENT
DTSTART;TZID=America/Los_Angeles:20240928T020000
DTEND;TZID=America/Los_Angeles:20240928T030000
DTSTAMP:20260420T220938
CREATED:20240808T060334Z
LAST-MODIFIED:20240808T060458Z
UID:13271-1727488800-1727492400@www.santeelakes.com
SUMMARY:Capture the Flag
DESCRIPTION:Can you capture the flag? Join us on the lawn for a fun time!
URL:https://www.santeelakes.com/event/outdoor-games-flag-football/
CATEGORIES:Campground Events
END:VEVENT
BEGIN:VEVENT
DTSTART;TZID=America/Los_Angeles:20240928T000000
DTEND;TZID=America/Los_Angeles:20240928T023000
DTSTAMP:20260420T220938
CREATED:20240125T033552Z
LAST-MODIFIED:20240125T033552Z
UID:12932-1727481600-1727490600@www.santeelakes.com
SUMMARY:Lion's Club Pancake Breakfast
DESCRIPTION:Come enjoy a yummy pancake breakfast at the Campground Clubhouse for a great cause!\n$10 | Adults\n$5 | 12 & Under
URL:https://www.santeelakes.com/event/lions-club-pancake-breakfast-21/
CATEGORIES:Campground Events,Park Events
END:VEVENT
BEGIN:VEVENT
DTSTART;TZID=America/Los_Angeles:20240921T090000
DTEND;TZID=America/Los_Angeles:20240921T110000
DTSTAMP:20260420T220938
CREATED:20240409T035224Z
LAST-MODIFIED:20240409T035224Z
UID:13038-1726909200-1726916400@www.santeelakes.com
SUMMARY:Summer Jams on Deck - Jason Mann
DESCRIPTION:Enjoy a great concert and great food on the beautiful deck at Lake 4 on select Saturdays this summer. \nJason will be delivering some easy listening in all the genres!
URL:https://www.santeelakes.com/event/summer-jams-on-deck-jason-mann/
CATEGORIES:Campground Events,Park Events
END:VEVENT
BEGIN:VEVENT
DTSTART;TZID=America/Los_Angeles:20240921T020000
DTEND;TZID=America/Los_Angeles:20240921T030000
DTSTAMP:20260420T220938
CREATED:20240808T061736Z
LAST-MODIFIED:20240808T061736Z
UID:13276-1726884000-1726887600@www.santeelakes.com
SUMMARY:Outdoor Games - Flag Football
DESCRIPTION:Join us for flag football on the lawn!
URL:https://www.santeelakes.com/event/outdoor-games-flag-football-2/
CATEGORIES:Campground Events
END:VEVENT
BEGIN:VEVENT
DTSTART;TZID=America/Los_Angeles:20240914T090000
DTEND;TZID=America/Los_Angeles:20240914T110000
DTSTAMP:20260420T220938
CREATED:20240709T033123Z
LAST-MODIFIED:20240725T033023Z
UID:13188-1726304400-1726311600@www.santeelakes.com
SUMMARY:Summer Jams on Deck - AddieRose
DESCRIPTION:Enjoy a great concert and food on the beautiful deck at Lake 4 on select Saturdays this summer featuring\, AddieRose!
URL:https://www.santeelakes.com/event/summer-jams-on-deck-john-bowe/
CATEGORIES:Campground Events,Park Events
END:VEVENT
BEGIN:VEVENT
DTSTART;TZID=America/Los_Angeles:20240914T020000
DTEND;TZID=America/Los_Angeles:20240914T040000
DTSTAMP:20260420T220938
CREATED:20240405T023125Z
LAST-MODIFIED:20240405T023125Z
UID:13004-1726279200-1726286400@www.santeelakes.com
SUMMARY:Paint & Sip on Deck - Fall
DESCRIPTION:Paint & Sip on Deck is back by popular demand! We now have our series dates and times all set.  You will need to register when each date becomes available at https://www.paintingmakesperfect.com/ \n$35 per participant\, which includes all supplies.
URL:https://www.santeelakes.com/event/paint-sip-on-deck-fall/
CATEGORIES:Campground Events,Park Events
END:VEVENT
END:VCALENDAR