BEGIN:VCALENDAR
VERSION:2.0
PRODID:-//Santee Lakes - ECPv6.15.20//NONSGML v1.0//EN
CALSCALE:GREGORIAN
METHOD:PUBLISH
X-WR-CALNAME:Santee Lakes
X-ORIGINAL-URL:https://www.santeelakes.com
X-WR-CALDESC:Events for Santee Lakes
REFRESH-INTERVAL;VALUE=DURATION:PT1H
X-Robots-Tag:noindex
X-PUBLISHED-TTL:PT1H
BEGIN:VTIMEZONE
TZID:America/Los_Angeles
BEGIN:DAYLIGHT
TZOFFSETFROM:-0800
TZOFFSETTO:-0700
TZNAME:PDT
DTSTART:20240310T100000
END:DAYLIGHT
BEGIN:STANDARD
TZOFFSETFROM:-0700
TZOFFSETTO:-0800
TZNAME:PST
DTSTART:20241103T090000
END:STANDARD
BEGIN:DAYLIGHT
TZOFFSETFROM:-0800
TZOFFSETTO:-0700
TZNAME:PDT
DTSTART:20250309T100000
END:DAYLIGHT
BEGIN:STANDARD
TZOFFSETFROM:-0700
TZOFFSETTO:-0800
TZNAME:PST
DTSTART:20251102T090000
END:STANDARD
BEGIN:DAYLIGHT
TZOFFSETFROM:-0800
TZOFFSETTO:-0700
TZNAME:PDT
DTSTART:20260308T100000
END:DAYLIGHT
BEGIN:STANDARD
TZOFFSETFROM:-0700
TZOFFSETTO:-0800
TZNAME:PST
DTSTART:20261101T090000
END:STANDARD
END:VTIMEZONE
BEGIN:VEVENT
DTSTART;TZID=America/Los_Angeles:20251231T190000
DTEND;TZID=America/Los_Angeles:20251231T210000
DTSTAMP:20260420T001440
CREATED:20251219T002938Z
LAST-MODIFIED:20251219T003153Z
UID:14632-1767207600-1767214800@www.santeelakes.com
SUMMARY:CAMPER'S - New Year's Eve Party!
DESCRIPTION:Hey CAMPERS! Our annual New Year’s Eve Party  is coming! \nBring a snack to share and we will provide some great food too! \nThere will be BINGO! with prizes  so come ready to win and enjoy incoming 2026
URL:https://www.santeelakes.com/event/campers-new-years-eve-party-2/
LOCATION:Clubhouse
CATEGORIES:Campground Events
END:VEVENT
BEGIN:VEVENT
DTSTART;TZID=America/Los_Angeles:20251227T163000
DTEND;TZID=America/Los_Angeles:20251227T183000
DTSTAMP:20260420T001440
CREATED:20251103T231010Z
LAST-MODIFIED:20251103T231010Z
UID:14516-1766853000-1766860200@www.santeelakes.com
SUMMARY:Campers: PJs Cocoa & a Movie - Kid's choice!
DESCRIPTION:Join us in your PJs at the Clubhouse for some hot cocoa and a movie the kids get to choose!
URL:https://www.santeelakes.com/event/campers-pjs-cocoa-a-movie-kids-choice/
LOCATION:Clubhouse
CATEGORIES:Campground Events
END:VEVENT
BEGIN:VEVENT
DTSTART;TZID=America/Los_Angeles:20251227T080000
DTEND;TZID=America/Los_Angeles:20251227T103000
DTSTAMP:20260420T001440
CREATED:20251103T191550Z
LAST-MODIFIED:20251103T191550Z
UID:14512-1766822400-1766831400@www.santeelakes.com
SUMMARY:Lion's Club Breakfast
DESCRIPTION:Join the Lion’s as they serve up a delicious breakfast for all!
URL:https://www.santeelakes.com/event/lions-club-breakfast-6/
LOCATION:Clubhouse
CATEGORIES:Campground Events,Park Events
END:VEVENT
BEGIN:VEVENT
DTSTART;TZID=America/Los_Angeles:20251220T100000
DTEND;TZID=America/Los_Angeles:20251220T120000
DTSTAMP:20260420T001440
CREATED:20251103T190317Z
LAST-MODIFIED:20251105T190020Z
UID:14510-1766224800-1766232000@www.santeelakes.com
SUMMARY:Christmas Craft - RSVP
DESCRIPTION:Make a special gift for your person. We will have a few to choose from! \n$10 will make sure you have all the supplies you need to create a masterpiece! \nRSVP HERE
URL:https://www.santeelakes.com/event/christmas-craft-2/
LOCATION:Clubhouse
CATEGORIES:Campground Events
END:VEVENT
BEGIN:VEVENT
DTSTART;TZID=America/Los_Angeles:20251213T140000
DTEND;TZID=America/Los_Angeles:20251213T190000
DTSTAMP:20260420T001440
CREATED:20251030T183907Z
LAST-MODIFIED:20251030T192050Z
UID:14497-1765634400-1765652400@www.santeelakes.com
SUMMARY:Water Lantern Festival - Holiday Edition
DESCRIPTION:Water Lantern Festival is filled with fun\, happiness\, hope\, and great memories that you’ll cherish for a lifetime. This is a family-friendly event that can be shared by everyone. Friends\, families\, neighbors\, and lots of people that you haven’t met can come together to create a peaceful\, memorable experience. You can purchase your tickets now at the link. \n‍What to bring: \n\nEvent Ticket\nBlanket/Warm Clothes\nCamping Chair\nCamera\nBug Spray\n\nSchedule of events beginning at 2:00 PM \nGates Open \n2:00 – 7:00PM  \nEnjoy Food Trucks / Music / Fun \n4:30PM  \nDesign your Lantern \n5:00 – 7:00PM \nLantern Launch \n7:00PM \nEvent Ends \n‍
URL:https://www.santeelakes.com/event/water-lantern-festival-holiday-edition/
LOCATION:Santee Lakes Recreation Preserve\, 9310 Fanita Parkway\, Santee\, CA\, 92071\, United States
CATEGORIES:Campground Events,Park Events
END:VEVENT
BEGIN:VEVENT
DTSTART;TZID=America/Los_Angeles:20251213T100000
DTEND;TZID=America/Los_Angeles:20251213T120000
DTSTAMP:20260420T001440
CREATED:20251103T190032Z
LAST-MODIFIED:20251103T190400Z
UID:14508-1765620000-1765627200@www.santeelakes.com
SUMMARY:Camper's Plastic Wrap Game and more games!
DESCRIPTION:Enjoy our famous Plastic Wrap Game\, fun for all ages in the clubhouse. This ball of plastic will be filled with surprises!
URL:https://www.santeelakes.com/event/campers-plastic-wrap-game-and-more-games/
LOCATION:Clubhouse
CATEGORIES:Campground Events
END:VEVENT
BEGIN:VEVENT
DTSTART;TZID=America/Los_Angeles:20251206T150000
DTEND;TZID=America/Los_Angeles:20251206T170000
DTSTAMP:20260420T001440
CREATED:20251029T235336Z
LAST-MODIFIED:20251029T235416Z
UID:14493-1765033200-1765040400@www.santeelakes.com
SUMMARY:Paint & Sip on Deck | Merry Grinchmas
DESCRIPTION:Come join us for a jolly good time at our Merry Grinchmas Paint & Sip on The Deck! Get into the holiday spirit at Santee Lakes as we sip and unleash our inner artists in this guided step by step paint session. Whether you’re a beginner or a seasoned painter\, this event is perfect for everyone – family & friends. Let’s spread some holiday cheer together while creating beautiful artwork on the deck. Don’t miss out on this fun and creative experience! Drinks & food available for purchase – table service & promotional drinks available!
URL:https://www.santeelakes.com/event/paint-sip-on-deck-merry-grinchmas/
END:VEVENT
BEGIN:VEVENT
DTSTART;TZID=America/Los_Angeles:20251206T140000
DTEND;TZID=America/Los_Angeles:20251206T160000
DTSTAMP:20260420T001440
CREATED:20251103T185543Z
LAST-MODIFIED:20251104T172558Z
UID:14504-1765029600-1765036800@www.santeelakes.com
SUMMARY:Camper's Gingerbread Houses - RSVP
DESCRIPTION:Join us in building some holiday gingerbread houses! \nThese super cute houses are made in Germany (so\, real gingerbread!). The cost is $12 per house. \nThere are a limited number of houses\, so please let us know you are coming! \nRSVP HERE
URL:https://www.santeelakes.com/event/campers-gingerbread-houses-rsvp/
LOCATION:Clubhouse
CATEGORIES:Campground Events
END:VEVENT
BEGIN:VEVENT
DTSTART;TZID=America/Los_Angeles:20251129T140000
DTEND;TZID=America/Los_Angeles:20251129T160000
DTSTAMP:20260420T001440
CREATED:20250312T071207Z
LAST-MODIFIED:20250827T000322Z
UID:13951-1764424800-1764432000@www.santeelakes.com
SUMMARY:CAMPERS - Letters to Santa
DESCRIPTION:He wants to know exactly what you want for Christmas! Come write a letter to Santa and enjoy some cocoa. \nAll children must be accompanied by an adult.
URL:https://www.santeelakes.com/event/campers-letters-to-santa/
CATEGORIES:Campground Events
END:VEVENT
BEGIN:VEVENT
DTSTART;TZID=America/Los_Angeles:20251129T100000
DTEND;TZID=America/Los_Angeles:20251129T110000
DTSTAMP:20260420T001440
CREATED:20250312T070407Z
LAST-MODIFIED:20250827T000126Z
UID:13941-1764410400-1764414000@www.santeelakes.com
SUMMARY:CAMPERS - Sports on the Lawn
DESCRIPTION:Join us for some fun & games! \nCampground Lawn \n10:00AM-11:00AM
URL:https://www.santeelakes.com/event/campers-sports-on-the-lawn-21/
CATEGORIES:Campground Events
END:VEVENT
BEGIN:VEVENT
DTSTART;TZID=America/Los_Angeles:20251129T080000
DTEND;TZID=America/Los_Angeles:20251129T103000
DTSTAMP:20260420T001440
CREATED:20250312T071417Z
LAST-MODIFIED:20250826T235954Z
UID:13953-1764403200-1764412200@www.santeelakes.com
SUMMARY:Lion's Club Pancake Breakfast
DESCRIPTION:Join the local Lion’s Club for a delicious breakfast for a great cause in the Clubhouse. \nEveryone is welcome. \n$10
URL:https://www.santeelakes.com/event/lions-club-pancake-breakfast-26/
CATEGORIES:Campground Events,Park Events
END:VEVENT
BEGIN:VEVENT
DTSTART;TZID=America/Los_Angeles:20251122T140000
DTEND;TZID=America/Los_Angeles:20251122T160000
DTSTAMP:20260420T001440
CREATED:20250312T071037Z
LAST-MODIFIED:20250826T235851Z
UID:13949-1763820000-1763827200@www.santeelakes.com
SUMMARY:CAMPERS - Thanksgiving Craft
DESCRIPTION:Let’s get thankful with some Thanksgiving crafts! \nAll children must be accompanied by an adult.
URL:https://www.santeelakes.com/event/campers-thanksgiving-craft/
CATEGORIES:Campground Events
END:VEVENT
BEGIN:VEVENT
DTSTART;TZID=America/Los_Angeles:20251122T100000
DTEND;TZID=America/Los_Angeles:20251122T110000
DTSTAMP:20260420T001440
CREATED:20250312T070301Z
LAST-MODIFIED:20250826T235636Z
UID:13939-1763805600-1763809200@www.santeelakes.com
SUMMARY:CAMPERS - Sports on the Lawn
DESCRIPTION:Join us for some fun & games! \nCampground Lawn \n10:00AM-11:00AM
URL:https://www.santeelakes.com/event/campers-sports-on-the-lawn-20/
CATEGORIES:Campground Events
END:VEVENT
BEGIN:VEVENT
DTSTART;TZID=America/Los_Angeles:20251115T160000
DTEND;TZID=America/Los_Angeles:20251115T173000
DTSTAMP:20260420T001440
CREATED:20250528T040655Z
LAST-MODIFIED:20250826T235536Z
UID:14184-1763222400-1763227800@www.santeelakes.com
SUMMARY:CAMPERS - Cocoa & BINGO!
DESCRIPTION:Hey Campers\, get ready for some late-afternoon BINGO! (Cocoa too).
URL:https://www.santeelakes.com/event/campers-cocoa-bingo/
CATEGORIES:Campground Events
END:VEVENT
BEGIN:VEVENT
DTSTART;TZID=America/Los_Angeles:20251115T100000
DTEND;TZID=America/Los_Angeles:20251115T110000
DTSTAMP:20260420T001440
CREATED:20250312T070201Z
LAST-MODIFIED:20251113T234553Z
UID:13937-1763200800-1763204400@www.santeelakes.com
SUMMARY:CAMPERS - Sports on the Lawn (actually in the Clubhouse)
DESCRIPTION:Join us for some fun & games in the Clubhouse due to inclement weather! \nClubhouse \n10:00AM-11:00AM
URL:https://www.santeelakes.com/event/campers-sports-on-the-lawn-19/
CATEGORIES:Campground Events
END:VEVENT
BEGIN:VEVENT
DTSTART;TZID=America/Los_Angeles:20251108T170000
DTEND;TZID=America/Los_Angeles:20251108T193000
DTSTAMP:20260420T001440
CREATED:20250312T070745Z
LAST-MODIFIED:20250826T235237Z
UID:13945-1762621200-1762630200@www.santeelakes.com
SUMMARY:CAMPERS - Golf Cart Drive-in Movie for the Grownups | Planes\, Trains and Automobiles
DESCRIPTION:Hey grownups! Bring your golf carts and join us for a hilarious movie behind the Clubhouse\, on the lawn. \nMovie begins at sundown (5:00PMish).
URL:https://www.santeelakes.com/event/pjs-popcorn-bingo/
CATEGORIES:Campground Events
END:VEVENT
BEGIN:VEVENT
DTSTART;TZID=America/Los_Angeles:20251108T100000
DTEND;TZID=America/Los_Angeles:20251108T120000
DTSTAMP:20260420T001440
CREATED:20250729T031417Z
LAST-MODIFIED:20250826T235147Z
UID:14337-1762596000-1762603200@www.santeelakes.com
SUMMARY:Paint & Sip on Deck | Pumpkin Tote Bag Session
DESCRIPTION:It’s pumpkin season! Come enjoy a beautiful day of painting on a tote bag that you can use all year long. \nSign up HERE.
URL:https://www.santeelakes.com/event/paint-sip-on-deck-pumpkin-tote-bag-session/
CATEGORIES:Campground Events,Park Events
END:VEVENT
BEGIN:VEVENT
DTSTART;TZID=America/Los_Angeles:20251108T100000
DTEND;TZID=America/Los_Angeles:20251108T110000
DTSTAMP:20260420T001440
CREATED:20250312T070052Z
LAST-MODIFIED:20250826T235052Z
UID:13935-1762596000-1762599600@www.santeelakes.com
SUMMARY:CAMPERS - Sports on the Lawn
DESCRIPTION:Join us for some fun & games! \nCampground Lawn \n10:00AM-11:00AM
URL:https://www.santeelakes.com/event/campers-sports-on-the-lawn-18/
CATEGORIES:Campground Events
END:VEVENT
BEGIN:VEVENT
DTSTART;TZID=America/Los_Angeles:20251101T180000
DTEND;TZID=America/Los_Angeles:20251101T200000
DTSTAMP:20260420T001440
CREATED:20250312T070649Z
LAST-MODIFIED:20250826T234943Z
UID:13943-1762020000-1762027200@www.santeelakes.com
SUMMARY:CAMPERS - Campfire & S'mores
DESCRIPTION:Join us at Lakeshore Fire Ring for some fun and s’mores! We will bring the s’mores. Bring your flashlight and best to walk to site due to limited parking. \nAll children must be accompanied by an adult.
URL:https://www.santeelakes.com/event/campers-campfire-smores-4/
CATEGORIES:Campground Events
END:VEVENT
BEGIN:VEVENT
DTSTART;TZID=America/Los_Angeles:20251101T100000
DTEND;TZID=America/Los_Angeles:20251101T110000
DTSTAMP:20260420T001440
CREATED:20250312T065943Z
LAST-MODIFIED:20250826T234839Z
UID:13933-1761991200-1761994800@www.santeelakes.com
SUMMARY:CAMPERS - Sports on the Lawn
DESCRIPTION:Join us for some fun & games! \nCampground Lawn \n10:00AM-11:00AM
URL:https://www.santeelakes.com/event/campers-sports-on-the-lawn-17/
CATEGORIES:Campground Events
END:VEVENT
BEGIN:VEVENT
DTSTART;TZID=America/Los_Angeles:20251031T170000
DTEND;TZID=America/Los_Angeles:20251031T210000
DTSTAMP:20260420T001440
CREATED:20250506T022113Z
LAST-MODIFIED:20250826T234743Z
UID:14061-1761930000-1761944400@www.santeelakes.com
SUMMARY:Campers - Trick or Treating in the Campground
DESCRIPTION:Hey all registered campers! There will be trick or treating in the campground on Halloween.  If you do not want to participate in handing out candy\, please go to the Park Office and grab a door hanger that will let the trick or treaters know not to make a stop at your site.
URL:https://www.santeelakes.com/event/campers-trick-or-treating-in-the-campground/
CATEGORIES:Campground Events
END:VEVENT
BEGIN:VEVENT
DTSTART;TZID=America/Los_Angeles:20251025T180000
DTEND;TZID=America/Los_Angeles:20251025T190000
DTSTAMP:20260420T001440
CREATED:20250502T043849Z
LAST-MODIFIED:20250826T234449Z
UID:14027-1761415200-1761418800@www.santeelakes.com
SUMMARY:Trick or Treating every Saturday in October before Halloween!
DESCRIPTION:Your kiddos will be able to get some use out of that costume! Every Saturday evening they have the opportunity to trick or treat in the campground!\nIf you do not want to participate in handing out candy\, let the office know\, and they will get you a door hanger to scare off the little ghouls.
URL:https://www.santeelakes.com/event/trick-or-treating-every-saturday-in-october-before-halloween-2/
CATEGORIES:Campground Events
END:VEVENT
BEGIN:VEVENT
DTSTART;TZID=America/Los_Angeles:20251025T100000
DTEND;TZID=America/Los_Angeles:20251025T140000
DTSTAMP:20260420T001440
CREATED:20250327T073323Z
LAST-MODIFIED:20250911T194604Z
UID:13960-1761386400-1761400800@www.santeelakes.com
SUMMARY:Spooktacular
DESCRIPTION:Let’s boo  this – Dorothy\, Scarecrow\, Tin Man and the Lion will be our special guests at our 3rd Annual Spooktacular & Trunk-or-Treat – Coming Saturday\, October 25\, from 10:00AM-2:00PM at Lake 1 and Lake 2. EVENT DETAILS: This will be a ghoulish day of trunk-or-treating\, food trucks\, games\, inflatables\, face painting\, DJ\, photo opportunities\, and much more. There will be a Mary’s Donut walk and local businesses will be decorating their trunks/booths and handing out tons of candy  to our little monsters. Dress in your best costume and join us! Parking is $10 and the event is FREE.  A big THANKS to our 2025 Spooktacular Sponsors\, we could not do this without their generous support!
URL:https://www.santeelakes.com/event/spooktacular-2/
CATEGORIES:Campground Events,Park Events
END:VEVENT
BEGIN:VEVENT
DTSTART;TZID=America/Los_Angeles:20251024T170000
DTEND;TZID=America/Los_Angeles:20251024T190000
DTSTAMP:20260420T001440
CREATED:20250908T173907Z
LAST-MODIFIED:20250908T173907Z
UID:14433-1761325200-1761332400@www.santeelakes.com
SUMMARY:Campground BOO BASH👻
DESCRIPTION:Join us and other ghostly ghouls for our Campground BOO BASH! Goodie bags and snacks for all as well as costume contest and prizes for best costume. \nWe will be partying each Friday before Halloween\, so join us every time! \n 
URL:https://www.santeelakes.com/event/campground-boo-bash%f0%9f%91%bb-4/
LOCATION:Santee Lakes Campground\, 9310 Fanita Parkway\, SANTEE\, CA\, 92071
CATEGORIES:Campground Events
END:VEVENT
BEGIN:VEVENT
DTSTART;TZID=America/Los_Angeles:20251018T180000
DTEND;TZID=America/Los_Angeles:20251018T190000
DTSTAMP:20260420T001440
CREATED:20250502T043752Z
LAST-MODIFIED:20250826T234329Z
UID:14025-1760810400-1760814000@www.santeelakes.com
SUMMARY:Trick or Treating every Saturday in October before Halloween!
DESCRIPTION:Your kiddos will be able to get some use out of that costume! Every Saturday evening they have the opportunity to trick or treat in the campground!\nIf you do not want to participate in handing out candy\, let the office know\, and they will get you a door hanger to scare off the little ghouls.
URL:https://www.santeelakes.com/event/trick-or-treating-every-saturday-in-october-before-halloween/
CATEGORIES:Campground Events
END:VEVENT
BEGIN:VEVENT
DTSTART;TZID=America/Los_Angeles:20251018T140000
DTEND;TZID=America/Los_Angeles:20251018T160000
DTSTAMP:20260420T001440
CREATED:20250312T065736Z
LAST-MODIFIED:20250916T224800Z
UID:13931-1760796000-1760803200@www.santeelakes.com
SUMMARY:CAMPERS - Gingerbread Haunted Houses
DESCRIPTION:A fan favorite is back! Come make a gingerbread house that may or may not be haunted. \nYou must RSVP so we have enough houses for everyone (link details to follow). $6 per person to participate. \nAll children must be accompanied by an adult. \nSIGN UP HERE
URL:https://www.santeelakes.com/event/campers-gingerbread-haunted-houses/
CATEGORIES:Campground Events
END:VEVENT
BEGIN:VEVENT
DTSTART;TZID=America/Los_Angeles:20251018T100000
DTEND;TZID=America/Los_Angeles:20251018T120000
DTSTAMP:20260420T001440
CREATED:20250729T030440Z
LAST-MODIFIED:20250911T194358Z
UID:14331-1760781600-1760788800@www.santeelakes.com
SUMMARY:Tim Burton Self Portrait Workshop - SOLD OUT
DESCRIPTION:Welcome to the Tim Burton Self Portrait Workshop! Join us for a fun and creative event where you can unleash your inner artist and create a unique self-portrait inspired by the iconic style of Tim Burton. This in-person workshop will take place at the beautiful Santee Lakes Recreation Preserve\, providing the perfect backdrop for a day of artistic expression. Whether you’re a seasoned artist or just looking to try something new\, this workshop is perfect for all skill levels. Don’t miss out on this opportunity to channel your creativity and create a one-of-a-kind self-portrait in the style of Tim Burton! Food & drinks available for purchase at Topwater Grill restaurant on the deck! $7 parking in park. \nSign up HERE
URL:https://www.santeelakes.com/event/tim-burton-self-portrait-workshop/
CATEGORIES:Campground Events,Park Events
END:VEVENT
BEGIN:VEVENT
DTSTART;TZID=America/Los_Angeles:20251017T170000
DTEND;TZID=America/Los_Angeles:20251017T190000
DTSTAMP:20260420T001440
CREATED:20250908T173819Z
LAST-MODIFIED:20250908T173819Z
UID:14431-1760720400-1760727600@www.santeelakes.com
SUMMARY:Campground BOO BASH👻
DESCRIPTION:Join us and other ghostly ghouls for our Campground BOO BASH! Goodie bags and snacks for all as well as costume contest and prizes for best costume. \nWe will be partying each Friday before Halloween\, so join us every time! \n 
URL:https://www.santeelakes.com/event/campground-boo-bash%f0%9f%91%bb-3/
LOCATION:Santee Lakes Campground\, 9310 Fanita Parkway\, SANTEE\, CA\, 92071
CATEGORIES:Campground Events
END:VEVENT
BEGIN:VEVENT
DTSTART;TZID=America/Los_Angeles:20251011T180000
DTEND;TZID=America/Los_Angeles:20251011T190000
DTSTAMP:20260420T001440
CREATED:20250502T043657Z
LAST-MODIFIED:20250826T234543Z
UID:14022-1760205600-1760209200@www.santeelakes.com
SUMMARY:Trick or Treating every Saturday evening in October before Halloween!
DESCRIPTION:Your kiddos will be able to get some use out of that costume! Every Saturday evening they have the opportunity to trick or treat in the campground!\nIf you do not want to participate in handing out candy\, let the office know\, and they will get you a door hanger to scare off the little ghouls.
URL:https://www.santeelakes.com/event/trick-or-treating-every-saturday-evening-in-october-before-halloween/
CATEGORIES:Campground Events
END:VEVENT
BEGIN:VEVENT
DTSTART;TZID=America/Los_Angeles:20251011T170000
DTEND;TZID=America/Los_Angeles:20251011T190000
DTSTAMP:20260420T001440
CREATED:20250520T025941Z
LAST-MODIFIED:20250826T234241Z
UID:14163-1760202000-1760209200@www.santeelakes.com
SUMMARY:Summer Jams on Deck - Bonnieville Seven
DESCRIPTION:Kick back and soak up the summer vibes with live music on the deck! Join us from 5 PM to 7 PM for great tunes\, good company\, and a perfect evening by the lake. All are welcome—bring a friend\, grab a drink\, and enjoy the rhythm of summer. We will be having Summer Jams on Deck every Saturday (and some Fridays) throughout the summer. \n 
URL:https://www.santeelakes.com/event/summer-jams-on-deck-bonnieville-seven/
CATEGORIES:Campground Events,Park Events
END:VEVENT
END:VCALENDAR