BEGIN:VCALENDAR
VERSION:2.0
PRODID:-//Santee Lakes - ECPv6.15.20//NONSGML v1.0//EN
CALSCALE:GREGORIAN
METHOD:PUBLISH
X-WR-CALNAME:Santee Lakes
X-ORIGINAL-URL:https://www.santeelakes.com
X-WR-CALDESC:Events for Santee Lakes
REFRESH-INTERVAL;VALUE=DURATION:PT1H
X-Robots-Tag:noindex
X-PUBLISHED-TTL:PT1H
BEGIN:VTIMEZONE
TZID:America/Los_Angeles
BEGIN:DAYLIGHT
TZOFFSETFROM:-0800
TZOFFSETTO:-0700
TZNAME:PDT
DTSTART:20230312T100000
END:DAYLIGHT
BEGIN:STANDARD
TZOFFSETFROM:-0700
TZOFFSETTO:-0800
TZNAME:PST
DTSTART:20231105T090000
END:STANDARD
BEGIN:DAYLIGHT
TZOFFSETFROM:-0800
TZOFFSETTO:-0700
TZNAME:PDT
DTSTART:20240310T100000
END:DAYLIGHT
BEGIN:STANDARD
TZOFFSETFROM:-0700
TZOFFSETTO:-0800
TZNAME:PST
DTSTART:20241103T090000
END:STANDARD
BEGIN:DAYLIGHT
TZOFFSETFROM:-0800
TZOFFSETTO:-0700
TZNAME:PDT
DTSTART:20250309T100000
END:DAYLIGHT
BEGIN:STANDARD
TZOFFSETFROM:-0700
TZOFFSETTO:-0800
TZNAME:PST
DTSTART:20251102T090000
END:STANDARD
END:VTIMEZONE
BEGIN:VEVENT
DTSTART;TZID=America/Los_Angeles:20240608T090000
DTEND;TZID=America/Los_Angeles:20240608T110000
DTSTAMP:20260421T090007
CREATED:20240409T023436Z
LAST-MODIFIED:20240409T030329Z
UID:13019-1717837200-1717844400@www.santeelakes.com
SUMMARY:Summer Jams on Deck - The Traveling Nobodys
DESCRIPTION:Enjoy a great concert and great food on the beautiful deck at Lake 4 on select Saturdays this summer. \nDo you like the Eagles\, Doobie Bros.\, Cosby\, Stills and Nash?  You will love the Traveling Nobodys!
URL:https://www.santeelakes.com/event/summer-jams-on-deck-the-traveling-nobodys/
CATEGORIES:Campground Events,Park Events
END:VEVENT
BEGIN:VEVENT
DTSTART;TZID=America/Los_Angeles:20240608T050000
DTEND;TZID=America/Los_Angeles:20240608T060000
DTSTAMP:20260421T090007
CREATED:20240521T031153Z
LAST-MODIFIED:20240521T031153Z
UID:13137-1717822800-1717826400@www.santeelakes.com
SUMMARY:Campground Sports Hour - Wiffle Ball
DESCRIPTION:Come join the fun with a new event\, Campground Sports Hour! Ranger Nick will be hosting this active hour in the campground regularly\, so stay tuned for times and dates. This event is open to all ages.
URL:https://www.santeelakes.com/event/campground-sports-hour-wiffle-ball/
LOCATION:Clubhouse Lawn
CATEGORIES:Campground Events
END:VEVENT
BEGIN:VEVENT
DTSTART;TZID=America/Los_Angeles:20240608T020000
DTEND;TZID=America/Los_Angeles:20240608T040000
DTSTAMP:20260421T090007
CREATED:20240112T061320Z
LAST-MODIFIED:20240605T034634Z
UID:12806-1717812000-1717819200@www.santeelakes.com
SUMMARY:Fish & Explore Wildlife with a Ranger - THIS EVENT IS FULL
DESCRIPTION:Join our Ranger in front of the General Store at 10:00AM and do some fishing and exploring! \nWe will provide fish permits to kids 15 and under. Please bring your own fishing equipment\, our supply is very limited. \n 
URL:https://www.santeelakes.com/event/fish-explore-wildlife-with-a-ranger/
CATEGORIES:Campground Events
END:VEVENT
BEGIN:VEVENT
DTSTART;TZID=America/Los_Angeles:20240607T050000
DTEND;TZID=America/Los_Angeles:20240607T060000
DTSTAMP:20260421T090007
CREATED:20240607T063100Z
LAST-MODIFIED:20240607T063100Z
UID:13168-1717736400-1717740000@www.santeelakes.com
SUMMARY:Impact Melanoma Sunscreen Dispensers Ribbon Cutting
DESCRIPTION:Santee Lakes has collaborated with IMPACT Melanoma and its anchor program\, Practice Safe Skin\, to provide access to free sunscreen throughout communities including 3 locations at Santee Lakes. This project was initiated by two medical students\, Savannah Fakhouri\, UCSD School of Medicine\, a local San Diegan\, and Stephanie Javadi\, UCLA School of Medicine\, and Grace Woodruff\, a local survivor of melanoma. “Through this initiative\, we plan to install free sunscreen dispensers in public outdoor spaces across San Diego County\, making this vital preventive health measure more accessible and raising awareness about the dangers of skin cancer. Our goal is to reduce barriers that prevent families from protecting themselves and their loved ones from UV light exposure. We are grateful to the City of Santee\, Grossmont Health Care District\, Santee Lakes\, and the YMCA for supporting this public health project.” \nThe public is welcome to attend.
URL:https://www.santeelakes.com/event/impact-melanoma-sunscreen-dispensers-ribbon-cutting/
CATEGORIES:Park Events
END:VEVENT
BEGIN:VEVENT
DTSTART;TZID=America/Los_Angeles:20240601T090000
DTEND;TZID=America/Los_Angeles:20240601T110000
DTSTAMP:20260421T090007
CREATED:20240112T060805Z
LAST-MODIFIED:20240511T052816Z
UID:12804-1717232400-1717239600@www.santeelakes.com
SUMMARY:Campground Concert - Bayou Brothers
DESCRIPTION:If you have never experienced the sweet sounds and great times with the Bayou Brothers\, now is your chance! Most likely this will be on the Campground Lawn\, but it may be at another location\, so stay tuned!
URL:https://www.santeelakes.com/event/campfire-smores-10/
CATEGORIES:Campground Events
END:VEVENT
BEGIN:VEVENT
DTSTART;TZID=America/Los_Angeles:20240601T040000
DTEND;TZID=America/Los_Angeles:20240601T050000
DTSTAMP:20260421T090007
CREATED:20240521T031038Z
LAST-MODIFIED:20240521T031038Z
UID:13134-1717214400-1717218000@www.santeelakes.com
SUMMARY:Campground Sports Hour - Dodgeball
DESCRIPTION:Come join the fun with a new event\, Campground Sports Hour! Ranger Nick will be hosting this active hour in the campground regularly\, so stay tuned for times and dates. This event is open to all ages.
URL:https://www.santeelakes.com/event/campground-sports-hour-dodgeball/
LOCATION:Clubhouse Lawn
CATEGORIES:Campground Events
END:VEVENT
BEGIN:VEVENT
DTSTART;TZID=America/Los_Angeles:20240525T020000
DTEND;TZID=America/Los_Angeles:20240525T040000
DTSTAMP:20260421T090007
CREATED:20240112T055345Z
LAST-MODIFIED:20240112T060538Z
UID:12797-1716602400-1716609600@www.santeelakes.com
SUMMARY:Outdoor Games\, Rootbeer Floats and Outdoor Movie - Captain America: The Winter Soldier | PG 13
DESCRIPTION:Since Memorial Day is around the corner\, we will celebrate by playing some great games outside\, like cornhole\, volleyball and more! \nWe will end the festivities with rootbeer floats and an outdoor movie\, Captain America: The Winter Soldier – PG 13. Movie starts at 7:45PM \nMeet on the Campground Lawn.
URL:https://www.santeelakes.com/event/outdoor-games-rootbeer-floats-and-outdoor-movie-captain-america-the-first-avenger/
CATEGORIES:Campground Events
END:VEVENT
BEGIN:VEVENT
DTSTART;TZID=America/Los_Angeles:20240525T000000
DTEND;TZID=America/Los_Angeles:20240525T023000
DTSTAMP:20260421T090007
CREATED:20240125T033119Z
LAST-MODIFIED:20240125T033119Z
UID:12924-1716595200-1716604200@www.santeelakes.com
SUMMARY:Lion's Club Pancake Breakfast
DESCRIPTION:Come enjoy a yummy pancake breakfast at the Campground Clubhouse for a great cause!\n$10 | Adults\n$5 | 12 & Under
URL:https://www.santeelakes.com/event/lions-club-pancake-breakfast-17/
CATEGORIES:Campground Events,Park Events
END:VEVENT
BEGIN:VEVENT
DTSTART;TZID=America/Los_Angeles:20240518T100000
DTEND;TZID=America/Los_Angeles:20240518T120000
DTSTAMP:20260421T090007
CREATED:20240112T054832Z
LAST-MODIFIED:20240112T054832Z
UID:12795-1716026400-1716033600@www.santeelakes.com
SUMMARY:Campfire & S'mores
DESCRIPTION:Join us and your fellow s’more loving campers! Event is at the Lakeshore Fire Ring. Bring a flashlight and walk to the site. \nAll children must have a parent/guardian present. \n 
URL:https://www.santeelakes.com/event/campfire-smores-9/
CATEGORIES:Campground Events
END:VEVENT
BEGIN:VEVENT
DTSTART;TZID=America/Los_Angeles:20240511T020000
DTEND;TZID=America/Los_Angeles:20240511T040000
DTSTAMP:20260421T090007
CREATED:20240112T054522Z
LAST-MODIFIED:20240112T054522Z
UID:12792-1715392800-1715400000@www.santeelakes.com
SUMMARY:Mother's Day Craft
DESCRIPTION:Make something wonderful for the one that does it all!
URL:https://www.santeelakes.com/event/mothers-day-craft-2/
CATEGORIES:Campground Events
END:VEVENT
BEGIN:VEVENT
DTSTART;TZID=America/Los_Angeles:20240504T080000
DTEND;TZID=America/Los_Angeles:20240504T100000
DTSTAMP:20260421T090007
CREATED:20240112T054319Z
LAST-MODIFIED:20240112T054319Z
UID:12790-1714809600-1714816800@www.santeelakes.com
SUMMARY:Cinco de Mayo Weekend - Nacho Night
DESCRIPTION:It’s almost Cinco de Mayo and we want to celebrate a little ahead of time with Nacho Night!
URL:https://www.santeelakes.com/event/cinco-de-mayo-weekend-nacho-night/
CATEGORIES:Campground Events
END:VEVENT
BEGIN:VEVENT
DTSTART;TZID=America/Los_Angeles:20240504T020000
DTEND;TZID=America/Los_Angeles:20240504T040000
DTSTAMP:20260421T090007
CREATED:20240405T020122Z
LAST-MODIFIED:20240405T020122Z
UID:12992-1714788000-1714795200@www.santeelakes.com
SUMMARY:Paint & Sip on Deck - Tatooine Sunset
DESCRIPTION:Paint & Sip on Deck is back by popular demand! We now have our series dates and times all set. May 4 registration is now open. You will need to register when each date becomes available at https://www.paintingmakesperfect.com/ \n$35 per participant\, which includes all supplies.
URL:https://www.santeelakes.com/event/paint-sip-on-deck-tatooine-sunset/
CATEGORIES:Campground Events,Park Events
END:VEVENT
BEGIN:VEVENT
DTSTART;TZID=America/Los_Angeles:20240427T000000
DTEND;TZID=America/Los_Angeles:20240427T023000
DTSTAMP:20260421T090007
CREATED:20240125T033014Z
LAST-MODIFIED:20240125T033014Z
UID:12922-1714176000-1714185000@www.santeelakes.com
SUMMARY:Lion's Club Pancake Breakfast
DESCRIPTION:Come enjoy a yummy pancake breakfast at the Campground Clubhouse for a great cause!\n$10 | Adults\n$5 | 12 & Under
URL:https://www.santeelakes.com/event/lions-club-pancake-breakfast-16/
CATEGORIES:Campground Events,Park Events
END:VEVENT
BEGIN:VEVENT
DTSTART;TZID=America/Los_Angeles:20240419T220000
DTEND;TZID=America/Los_Angeles:20240421T090000
DTSTAMP:20260421T090007
CREATED:20231213T040106Z
LAST-MODIFIED:20231213T040242Z
UID:12705-1713564000-1713690000@www.santeelakes.com
SUMMARY:Catfish Opener
DESCRIPTION:2\,500 lbs. of catfish stocked for this opening event! \nAll you need is a permit from out General Store\, no state license required.
URL:https://www.santeelakes.com/event/catfish-opener-4/
LOCATION:Santee Lakes Recreation Preserve\, 9310 Fanita Parkway\, Santee\, CA\, 92071\, United States
CATEGORIES:Campground Events,Park Events
END:VEVENT
BEGIN:VEVENT
DTSTART;TZID=America/Los_Angeles:20240406T100000
DTEND;TZID=America/Los_Angeles:20240406T120000
DTSTAMP:20260421T090007
CREATED:20231212T083927Z
LAST-MODIFIED:20231212T083927Z
UID:12703-1712397600-1712404800@www.santeelakes.com
SUMMARY:Campfire & S'mores
DESCRIPTION:Join us and your fellow s’more loving campers! \nEvent is at the Lakeshore Fire Ring. \nBring a flashlight and walk to the site.
URL:https://www.santeelakes.com/event/campfire-smores-8/
CATEGORIES:Campground Events
END:VEVENT
BEGIN:VEVENT
DTSTART;TZID=America/Los_Angeles:20240330T020000
DTEND;TZID=America/Los_Angeles:20240330T040000
DTSTAMP:20260421T090007
CREATED:20231212T083729Z
LAST-MODIFIED:20231212T083729Z
UID:12701-1711764000-1711771200@www.santeelakes.com
SUMMARY:Camper's Egg Hunt
DESCRIPTION:The bunny will be here and there will be egg hunts\, crafts in the Clubhouse and an Easter Bunny & Kids VS. Parents tug-0-war. Join us at the Clubhouse for some springtime fun from 10:00AM-12:00PM.
URL:https://www.santeelakes.com/event/campers-egg-hunt/
LOCATION:Clubhouse
CATEGORIES:Campground Events
END:VEVENT
BEGIN:VEVENT
DTSTART;TZID=America/Los_Angeles:20240323T080000
DTEND;TZID=America/Los_Angeles:20240323T100000
DTSTAMP:20260421T090007
CREATED:20231212T083450Z
LAST-MODIFIED:20231212T083450Z
UID:12699-1711180800-1711188000@www.santeelakes.com
SUMMARY:Crafts & Cookies
DESCRIPTION:What is better than doing some crafty crafts and eating cookies?
URL:https://www.santeelakes.com/event/crafts-cookies/
LOCATION:Clubhouse
CATEGORIES:Campground Events
END:VEVENT
BEGIN:VEVENT
DTSTART;TZID=America/Los_Angeles:20240323T000000
DTEND;TZID=America/Los_Angeles:20240323T023000
DTSTAMP:20260421T090007
CREATED:20240125T032912Z
LAST-MODIFIED:20240125T032912Z
UID:12920-1711152000-1711161000@www.santeelakes.com
SUMMARY:Lion's Club Pancake Breakfast
DESCRIPTION:Come enjoy a yummy pancake breakfast at the Campground Clubhouse for a great cause! \n$10 | Adults \n$5 | 12 & Under \n 
URL:https://www.santeelakes.com/event/lions-club-pancake-breakfast-15/
CATEGORIES:Campground Events,Park Events
END:VEVENT
BEGIN:VEVENT
DTSTART;TZID=America/Los_Angeles:20240316T080000
DTEND;TZID=America/Los_Angeles:20240316T100000
DTSTAMP:20260421T090007
CREATED:20231212T083323Z
LAST-MODIFIED:20231212T083336Z
UID:12696-1710576000-1710583200@www.santeelakes.com
SUMMARY:BINGO!
DESCRIPTION:Come play one of our favorite games! \nThere will be prizes.
URL:https://www.santeelakes.com/event/bingo-3/
LOCATION:Clubhouse
CATEGORIES:Campground Events
END:VEVENT
BEGIN:VEVENT
DTSTART;TZID=America/Los_Angeles:20240309T020000
DTEND;TZID=America/Los_Angeles:20240309T040000
DTSTAMP:20260421T090007
CREATED:20231212T083144Z
LAST-MODIFIED:20231212T083144Z
UID:12694-1709949600-1709956800@www.santeelakes.com
SUMMARY:Scavenger Hunt
DESCRIPTION:Meet at the Clubhouse and get ready for a scavenger hunt around the park and campground. \nBring your phone to take photos of items on the list!
URL:https://www.santeelakes.com/event/scavenger-hunt/
LOCATION:Clubhouse
CATEGORIES:Campground Events
END:VEVENT
BEGIN:VEVENT
DTSTART;TZID=America/Los_Angeles:20240302T100000
DTEND;TZID=America/Los_Angeles:20240302T120000
DTSTAMP:20260421T090007
CREATED:20231212T082723Z
LAST-MODIFIED:20231212T082723Z
UID:12690-1709373600-1709380800@www.santeelakes.com
SUMMARY:Campfire & S’mores
DESCRIPTION:Join us and your fellow s’more loving campers! \nEvent is at the Lakeshore Fire Ring. Bring a flashlight and walk to the site.
URL:https://www.santeelakes.com/event/campfire-smores-7/
LOCATION:Lakeshore Fire Ring
CATEGORIES:Campground Events
END:VEVENT
BEGIN:VEVENT
DTSTART;TZID=America/Los_Angeles:20240224T080000
DTEND;TZID=America/Los_Angeles:20240224T100000
DTSTAMP:20260421T090007
CREATED:20231212T082208Z
LAST-MODIFIED:20231212T082208Z
UID:12685-1708761600-1708768800@www.santeelakes.com
SUMMARY:BINGO!
DESCRIPTION:Let’s play some BINGO! Join us in the Clubhouse.
URL:https://www.santeelakes.com/event/bingo-2/
LOCATION:Clubhouse
CATEGORIES:Campground Events
END:VEVENT
BEGIN:VEVENT
DTSTART;TZID=America/Los_Angeles:20240217T100000
DTEND;TZID=America/Los_Angeles:20240217T120000
DTSTAMP:20260421T090007
CREATED:20240113T055954Z
LAST-MODIFIED:20240113T060749Z
UID:12838-1708164000-1708171200@www.santeelakes.com
SUMMARY:PJs\, Popcorn & A Movie: Be My Valentine Charlie Brown
DESCRIPTION:Get those jammies on and join us for a classic Valentine’s Day movie (yes we know it was in the middle of the week)…and popcorn! \n 
URL:https://www.santeelakes.com/event/pjs-popcorn-a-movie-be-my-valentine-charlie-brown/
CATEGORIES:Campground Events
END:VEVENT
BEGIN:VEVENT
DTSTART;TZID=America/Los_Angeles:20240211T073000
DTEND;TZID=America/Los_Angeles:20240211T110000
DTSTAMP:20260421T090007
CREATED:20231212T082438Z
LAST-MODIFIED:20231212T082524Z
UID:12687-1707636600-1707649200@www.santeelakes.com
SUMMARY:Superbowl Viewing Party!
DESCRIPTION:Come cheer on your favorite team in the Clubhouse! \nJoin us for kickoff at 3:30PM. \nBring your favorite drink and we will bring some snacks.
URL:https://www.santeelakes.com/event/superbowl-viewing-party/
LOCATION:Clubhouse
CATEGORIES:Campground Events
END:VEVENT
BEGIN:VEVENT
DTSTART;TZID=America/Los_Angeles:20240210T060000
DTEND;TZID=America/Los_Angeles:20240210T080000
DTSTAMP:20260421T090007
CREATED:20231212T081840Z
LAST-MODIFIED:20231212T081840Z
UID:12681-1707544800-1707552000@www.santeelakes.com
SUMMARY:Valentine's Day Craft - Adult Craft & Kid Craft
DESCRIPTION:Join us for some crafty creations full of love of fun!
URL:https://www.santeelakes.com/event/valentines-day-craft-adult-craft-kid-craft/
LOCATION:Clubhouse
CATEGORIES:Campground Events
END:VEVENT
BEGIN:VEVENT
DTSTART;TZID=America/Los_Angeles:20240203T100000
DTEND;TZID=America/Los_Angeles:20240203T120000
DTSTAMP:20260421T090007
CREATED:20231212T081615Z
LAST-MODIFIED:20231212T082855Z
UID:12677-1706954400-1706961600@www.santeelakes.com
SUMMARY:Campfire & S'mores
DESCRIPTION:Join us and your fellow s’more loving campers! \nEvent is at the Lakeshore Fire Ring. Bring a flashlight and walk to the site.
URL:https://www.santeelakes.com/event/campfire-smores-6/
LOCATION:Lakeshore Fire Ring
CATEGORIES:Campground Events
END:VEVENT
BEGIN:VEVENT
DTSTART;TZID=America/Los_Angeles:20240127T080000
DTEND;TZID=America/Los_Angeles:20240127T100000
DTSTAMP:20260421T090007
CREATED:20231212T080948Z
LAST-MODIFIED:20231212T080948Z
UID:12672-1706342400-1706349600@www.santeelakes.com
SUMMARY:Nacho Ordinary Game Night
DESCRIPTION:Let us help you spoil your dinner! Enjoy some yummy nachos and play some games!
URL:https://www.santeelakes.com/event/nacho-ordinary-game-night/
LOCATION:Clubhouse
CATEGORIES:Campground Events
END:VEVENT
BEGIN:VEVENT
DTSTART;TZID=America/Los_Angeles:20240127T000000
DTEND;TZID=America/Los_Angeles:20240127T023000
DTSTAMP:20260421T090007
CREATED:20240125T032555Z
LAST-MODIFIED:20240125T032555Z
UID:12916-1706313600-1706322600@www.santeelakes.com
SUMMARY:Lion's Club Pancake Breakfast
DESCRIPTION:Come enjoy a yummy pancake breakfast at the Campground Clubhouse for a great cause! \n$10 | Adults \n$5 | 12 & Under
URL:https://www.santeelakes.com/event/lions-club-pancake-breakfast-13/
CATEGORIES:Campground Events,Park Events
END:VEVENT
BEGIN:VEVENT
DTSTART;TZID=America/Los_Angeles:20240120T100000
DTEND;TZID=America/Los_Angeles:20240120T120000
DTSTAMP:20260421T090007
CREATED:20231212T081404Z
LAST-MODIFIED:20231213T062736Z
UID:12675-1705744800-1705752000@www.santeelakes.com
SUMMARY:PJs & Popcorn with a MOVIE
DESCRIPTION:Wear your PJs and join us for popcorn and a movie! \nMovie: Abominable | PG
URL:https://www.santeelakes.com/event/pjs-popcorn-with-a-movie/
LOCATION:Clubhouse
CATEGORIES:Campground Events
END:VEVENT
BEGIN:VEVENT
DTSTART;TZID=America/Los_Angeles:20240117T020000
DTEND;TZID=America/Los_Angeles:20240117T040000
DTSTAMP:20260421T090007
CREATED:20240118T065806Z
LAST-MODIFIED:20240118T065806Z
UID:12868-1705456800-1705464000@www.santeelakes.com
SUMMARY:Explore Wildlife with a Ranger
DESCRIPTION:Time to explore Santee Lakes and some of the wonderful wildlife that live here. \nMeet at the General Store. \nAll children must be accompanied by an adult. \n 
URL:https://www.santeelakes.com/event/explore-wildlife-with-a-ranger/
CATEGORIES:Campground Events
END:VEVENT
END:VCALENDAR