BEGIN:VCALENDAR
VERSION:2.0
PRODID:-//Santee Lakes - ECPv6.15.20//NONSGML v1.0//EN
CALSCALE:GREGORIAN
METHOD:PUBLISH
X-WR-CALNAME:Santee Lakes
X-ORIGINAL-URL:https://www.santeelakes.com
X-WR-CALDESC:Events for Santee Lakes
REFRESH-INTERVAL;VALUE=DURATION:PT1H
X-Robots-Tag:noindex
X-PUBLISHED-TTL:PT1H
BEGIN:VTIMEZONE
TZID:America/Los_Angeles
BEGIN:DAYLIGHT
TZOFFSETFROM:-0800
TZOFFSETTO:-0700
TZNAME:PDT
DTSTART:20220313T100000
END:DAYLIGHT
BEGIN:STANDARD
TZOFFSETFROM:-0700
TZOFFSETTO:-0800
TZNAME:PST
DTSTART:20221106T090000
END:STANDARD
BEGIN:DAYLIGHT
TZOFFSETFROM:-0800
TZOFFSETTO:-0700
TZNAME:PDT
DTSTART:20230312T100000
END:DAYLIGHT
BEGIN:STANDARD
TZOFFSETFROM:-0700
TZOFFSETTO:-0800
TZNAME:PST
DTSTART:20231105T090000
END:STANDARD
BEGIN:DAYLIGHT
TZOFFSETFROM:-0800
TZOFFSETTO:-0700
TZNAME:PDT
DTSTART:20240310T100000
END:DAYLIGHT
BEGIN:STANDARD
TZOFFSETFROM:-0700
TZOFFSETTO:-0800
TZNAME:PST
DTSTART:20241103T090000
END:STANDARD
END:VTIMEZONE
BEGIN:VEVENT
DTSTART;TZID=America/Los_Angeles:20231118T100000
DTEND;TZID=America/Los_Angeles:20231118T120000
DTSTAMP:20260421T145647
CREATED:20230620T051912Z
LAST-MODIFIED:20231109T081751Z
UID:12019-1700301600-1700308800@www.santeelakes.com
SUMMARY:Nacho Ordinary Game Night!
DESCRIPTION:There will be nachos\, games and more! \nClubhouse | 6:00PM-8:00PM
URL:https://www.santeelakes.com/event/campsgiving-potluck-meal/
CATEGORIES:Campground Events
END:VEVENT
BEGIN:VEVENT
DTSTART;TZID=America/Los_Angeles:20231111T020000
DTEND;TZID=America/Los_Angeles:20231111T040000
DTSTAMP:20260421T145647
CREATED:20230620T051455Z
LAST-MODIFIED:20231108T040939Z
UID:12017-1699668000-1699675200@www.santeelakes.com
SUMMARY:CAMPER'S Explore Wildlife w/ the Rangers
DESCRIPTION:Back by popular demand\, Explore Wildlife! This is an excellent opportunity to learn more about the wildlife that surrounds us at Santee Lakes. \nPlease bring water\, a hat and comfy shoes. \nMeet at the General Store| 10:00AM-12:00PM
URL:https://www.santeelakes.com/event/explore-wildlife-w-the-rangers/
CATEGORIES:Campground Events
END:VEVENT
BEGIN:VEVENT
DTSTART;TZID=America/Los_Angeles:20231104T220000
DTEND;TZID=America/Los_Angeles:20231105T090000
DTSTAMP:20260421T145647
CREATED:20230105T022617Z
LAST-MODIFIED:20230105T022617Z
UID:11254-1699135200-1699174800@www.santeelakes.com
SUMMARY:Trout Opener
DESCRIPTION:2\,500 lbs. of rainbows stocked for this event!
URL:https://www.santeelakes.com/event/trout-opener-2023-11-05/
CATEGORIES:Park Events
END:VEVENT
BEGIN:VEVENT
DTSTART;TZID=America/Los_Angeles:20231104T100000
DTEND;TZID=America/Los_Angeles:20231104T120000
DTSTAMP:20260421T145647
CREATED:20230620T050952Z
LAST-MODIFIED:20230721T022431Z
UID:12013-1699092000-1699099200@www.santeelakes.com
SUMMARY:CAMPER'S Campfire & S'mores
DESCRIPTION:Join your fellow campers at Lakeshore Fire Ring for some yummy s’mores and fun! \nWe will provide the s’mores\, fun is up to you. \n6:00PM-8:00PM \nBring your flashlights and please walk (don’t drive) to the site\, due to limited parking.
URL:https://www.santeelakes.com/event/campfire-smores-4/
CATEGORIES:Campground Events
END:VEVENT
BEGIN:VEVENT
DTSTART;TZID=America/Los_Angeles:20231103T220000
DTEND;TZID=America/Los_Angeles:20231104T090000
DTSTAMP:20260421T145647
CREATED:20230105T022617Z
LAST-MODIFIED:20230105T022617Z
UID:11252-1699048800-1699088400@www.santeelakes.com
SUMMARY:Trout Opener
DESCRIPTION:2\,500 lbs. of rainbows stocked for this event!
URL:https://www.santeelakes.com/event/trout-opener/
CATEGORIES:Park Events
END:VEVENT
BEGIN:VEVENT
DTSTART;TZID=America/Los_Angeles:20231102T230000
DTEND;TZID=America/Los_Angeles:20231103T000000
DTSTAMP:20260421T145647
CREATED:20230620T050427Z
LAST-MODIFIED:20230721T022447Z
UID:12011-1698966000-1698969600@www.santeelakes.com
SUMMARY:CAMPER'S Fishing with the Rangers!
DESCRIPTION:Join our Rangers for a lesson in fishing! \nThey will show you how to bait a hook\, cast and other basics of fishing. You will be a pro in no time:) \nMeet at Lake ___ TBA\, bait provided. \n7:00AM-8:00AM
URL:https://www.santeelakes.com/event/fishing-with-the-rangers/
CATEGORIES:Campground Events
END:VEVENT
BEGIN:VEVENT
DTSTART;TZID=America/Los_Angeles:20231028T100000
DTEND;TZID=America/Los_Angeles:20231028T110000
DTSTAMP:20260421T145647
CREATED:20230929T011053Z
LAST-MODIFIED:20230929T011053Z
UID:12377-1698487200-1698490800@www.santeelakes.com
SUMMARY:Saturday Night Trick-Or-Treating
DESCRIPTION:There will be trick or treating in the Campground every Saturday evening in October\, beginning October 7 from 6:00PM-7:00PM.\nIf you would like to participate\, grab a door hanger from the Park Office\, hang on your RV door\, and keep your light on.
URL:https://www.santeelakes.com/event/saturday-night-trick-or-treating-4/
CATEGORIES:Campground Events
END:VEVENT
BEGIN:VEVENT
DTSTART;TZID=America/Los_Angeles:20231028T080000
DTEND;TZID=America/Los_Angeles:20231028T100000
DTSTAMP:20260421T145647
CREATED:20230620T045806Z
LAST-MODIFIED:20230721T022458Z
UID:12008-1698480000-1698487200@www.santeelakes.com
SUMMARY:CAMPER'S Spooky Saturdays - Ghostly Games
DESCRIPTION:Let’s play some Ghostly Games! \nBe sure to wear your costumes\, there will be prizes for best costume. \nClubhouse or Clubhouse Lawn 2:00PM-4:00PM
URL:https://www.santeelakes.com/event/spooky-saturdays-ghostly-games/
CATEGORIES:Campground Events
END:VEVENT
BEGIN:VEVENT
DTSTART;TZID=America/Los_Angeles:20231028T000000
DTEND;TZID=America/Los_Angeles:20231028T090000
DTSTAMP:20260421T145647
CREATED:20230620T061211Z
LAST-MODIFIED:20230620T061412Z
UID:12037-1698451200-1698483600@www.santeelakes.com
SUMMARY:Lion's Club Pancake Breakfast
DESCRIPTION:Come enjoy some breakfast for a great cause! \nAdults $10 | 12 & under $5 \nClubhouse | 8:00AM-10:30AM
URL:https://www.santeelakes.com/event/lioins-club-pancake-breakfast/
CATEGORIES:Campground Events
END:VEVENT
BEGIN:VEVENT
DTSTART;TZID=America/Los_Angeles:20231027T113000
DTEND;TZID=America/Los_Angeles:20231027T133000
DTSTAMP:20260421T145647
CREATED:20230620T043915Z
LAST-MODIFIED:20230721T022017Z
UID:12000-1698406200-1698413400@www.santeelakes.com
SUMMARY:CAMPER'S Outdoor Movie Fright-days - Ghostbusters | PG
DESCRIPTION:Join us on the Clubhouse Lawn every Friday night in October for a fun Halloween movie!\nClubhouse Lawn | 7:30PMish (sundown)
URL:https://www.santeelakes.com/event/outdoor-movie-fright-days-ghostbusters-pg/
CATEGORIES:Campground Events
END:VEVENT
BEGIN:VEVENT
DTSTART;TZID=America/Los_Angeles:20231021T100000
DTEND;TZID=America/Los_Angeles:20231021T110000
DTSTAMP:20260421T145647
CREATED:20230929T010952Z
LAST-MODIFIED:20230929T010952Z
UID:12375-1697882400-1697886000@www.santeelakes.com
SUMMARY:Saturday Night Trick-Or-Treating
DESCRIPTION:There will be trick or treating in the Campground every Saturday evening in October\, beginning October 7 from 6:00PM-7:00PM.\nIf you would like to participate\, grab a door hanger from the Park Office\, hang on your RV door\, and keep your light on.
URL:https://www.santeelakes.com/event/saturday-night-trick-or-treating-3/
CATEGORIES:Campground Events
END:VEVENT
BEGIN:VEVENT
DTSTART;TZID=America/Los_Angeles:20231021T060000
DTEND;TZID=America/Los_Angeles:20231021T080000
DTSTAMP:20260421T145647
CREATED:20230620T045217Z
LAST-MODIFIED:20230721T022120Z
UID:12006-1697868000-1697875200@www.santeelakes.com
SUMMARY:CAMPER'S Spooky Saturdays - Haunted Gingerbread Houses
DESCRIPTION:We will be making haunted gingerbread houses! \nPlease be sure that children are accompanied by an adult. \nIt will be $5 per person to participate. \nClubhouse or Clubhouse Lawn 2:00PM-4:00PM
URL:https://www.santeelakes.com/event/spooky-saturdays-haunted-gingerbread-houses/
CATEGORIES:Campground Events
END:VEVENT
BEGIN:VEVENT
DTSTART;TZID=America/Los_Angeles:20231020T113000
DTEND;TZID=America/Los_Angeles:20231020T133000
DTSTAMP:20260421T145647
CREATED:20230620T043758Z
LAST-MODIFIED:20230721T021845Z
UID:11998-1697801400-1697808600@www.santeelakes.com
SUMMARY:CAMPER'S Outdoor Movie Fright-days - Goosebumps | PG
DESCRIPTION:Join us on the Clubhouse Lawn every Friday night in October for a fun Halloween movie!\nClubhouse Lawn | 7:30PMish (sundown)
URL:https://www.santeelakes.com/event/outdoor-movie-fright-days-goosebumps-pg/
CATEGORIES:Campground Events
END:VEVENT
BEGIN:VEVENT
DTSTART;TZID=America/Los_Angeles:20231014T100000
DTEND;TZID=America/Los_Angeles:20231014T110000
DTSTAMP:20260421T145647
CREATED:20230929T010624Z
LAST-MODIFIED:20230929T010829Z
UID:12371-1697277600-1697281200@www.santeelakes.com
SUMMARY:Saturday Night Trick-Or-Treating
DESCRIPTION:There will be trick or treating in the Campground every Saturday evening in October\, beginning October 7 from 6:00PM-7:00PM.\nIf you would like to participate\, grab a door hanger from the Park Office\, hang on your RV door\, and keep your light on.
URL:https://www.santeelakes.com/event/saturday-night-trick-or-treating-2/
CATEGORIES:Campground Events
END:VEVENT
BEGIN:VEVENT
DTSTART;TZID=America/Los_Angeles:20231014T020000
DTEND;TZID=America/Los_Angeles:20231014T070000
DTSTAMP:20260421T145647
CREATED:20230105T021316Z
LAST-MODIFIED:20230809T010549Z
UID:11247-1697248800-1697266800@www.santeelakes.com
SUMMARY:Ladies at the Lake Fall Market
DESCRIPTION:Shop from a variety of awesome local vendors! \nBig thanks to Sycuan for being a sponsor for this event.
URL:https://www.santeelakes.com/event/ladies-at-the-lake-fall-market-2/
CATEGORIES:Park Events
END:VEVENT
BEGIN:VEVENT
DTSTART;TZID=America/Los_Angeles:20231013T113000
DTEND;TZID=America/Los_Angeles:20231013T133000
DTSTAMP:20260421T145647
CREATED:20230620T043130Z
LAST-MODIFIED:20230721T021644Z
UID:11992-1697196600-1697203800@www.santeelakes.com
SUMMARY:CAMPER'S Outdoor Movie Fright-days - Beetlejuice | PG
DESCRIPTION:Join us on the Clubhouse Lawn every Friday night in October for a fun Halloween movie! \nClubhouse Lawn | 7:30PMish (sundown)
URL:https://www.santeelakes.com/event/outdoor-movie-night-nightmare-before-christmas-pg/
CATEGORIES:Campground Events
END:VEVENT
BEGIN:VEVENT
DTSTART;TZID=America/Los_Angeles:20231007T220000
DTEND;TZID=America/Los_Angeles:20231008T100000
DTSTAMP:20260421T145647
CREATED:20230105T022244Z
LAST-MODIFIED:20230105T022244Z
UID:11251-1696716000-1696759200@www.santeelakes.com
SUMMARY:Stockzilla
DESCRIPTION:3\,500 lbs. of catfish will be stocked for this event!
URL:https://www.santeelakes.com/event/stockzilla-3-2023-10-08/
CATEGORIES:Park Events
END:VEVENT
BEGIN:VEVENT
DTSTART;TZID=America/Los_Angeles:20231007T100000
DTEND;TZID=America/Los_Angeles:20231007T110000
DTSTAMP:20260421T145647
CREATED:20230929T010452Z
LAST-MODIFIED:20230929T010732Z
UID:12368-1696672800-1696676400@www.santeelakes.com
SUMMARY:Saturday Night Trick-Or-Treating
DESCRIPTION:There will be trick or treating in the Campground every Saturday evening in October\, beginning October 7 from 6:00PM-7:00PM. \n\nIf you would like to participate\, grab a door hanger from the Park Office\, hang on your RV door\, and keep your light on.
URL:https://www.santeelakes.com/event/saturday-night-trick-or-treating/
CATEGORIES:Campground Events
END:VEVENT
BEGIN:VEVENT
DTSTART;TZID=America/Los_Angeles:20231006T220000
DTEND;TZID=America/Los_Angeles:20231007T100000
DTSTAMP:20260421T145647
CREATED:20230105T022244Z
LAST-MODIFIED:20230105T022244Z
UID:11249-1696629600-1696672800@www.santeelakes.com
SUMMARY:Stockzilla
DESCRIPTION:3\,500 lbs. of catfish will be stocked for this event!
URL:https://www.santeelakes.com/event/stockzilla-3/
CATEGORIES:Park Events
END:VEVENT
BEGIN:VEVENT
DTSTART;TZID=America/Los_Angeles:20231006T120000
DTEND;TZID=America/Los_Angeles:20231006T140000
DTSTAMP:20260421T145647
CREATED:20230620T043530Z
LAST-MODIFIED:20230721T021020Z
UID:11995-1696593600-1696600800@www.santeelakes.com
SUMMARY:CAMPER'S Outdoor Movie Fright-days - The Nightmare Before Christmas | PG
DESCRIPTION:Join us on the Clubhouse Lawn every Friday night in October for a fun Halloween movie! \nClubhouse Lawn | 8:00PMish (sundown)
URL:https://www.santeelakes.com/event/outdoor-movie-fright-days-the-nightmare-before-christmas-pg/
CATEGORIES:Campground Events
END:VEVENT
BEGIN:VEVENT
DTSTART;TZID=America/Los_Angeles:20231001T000000
DTEND;TZID=America/Los_Angeles:20231031T153000
DTSTAMP:20260421T145647
CREATED:20230620T065231Z
LAST-MODIFIED:20230620T070927Z
UID:12044-1696118400-1698766200@www.santeelakes.com
SUMMARY:Decorate Your Halloween Site All Month Long!
DESCRIPTION:Bring those ghouls and goblins\, along with any other Halloween decor\, and decorate your site for Halloween all month long! \nSend in your site photos to santeelakes@padre.org by November 1\, 2023 and we will notify the winners by November 2\, 2023 via email.
URL:https://www.santeelakes.com/event/decorate-your-halloween-site-all-month-long/
CATEGORIES:Campground Events
END:VEVENT
BEGIN:VEVENT
DTSTART;TZID=America/Los_Angeles:20230930T090000
DTEND;TZID=America/Los_Angeles:20230930T110000
DTSTAMP:20260421T145647
CREATED:20230727T080446Z
LAST-MODIFIED:20230819T073604Z
UID:12135-1696064400-1696071600@www.santeelakes.com
SUMMARY:Summer Jams on Deck - Greg Drilling
DESCRIPTION:Join us on the deck with Greg Drilling and listen to San Diego’s finest guitar cover music!\nGrab something tasty at Angry Petes Pizza\, pull up a seat\, enjoy the musicand the view.
URL:https://www.santeelakes.com/event/summer-jams-on-deck-greg-drilling/
CATEGORIES:Park Events
END:VEVENT
BEGIN:VEVENT
DTSTART;TZID=America/Los_Angeles:20230923T100000
DTEND;TZID=America/Los_Angeles:20230923T120000
DTSTAMP:20260421T145647
CREATED:20230620T040355Z
LAST-MODIFIED:20230721T020916Z
UID:11984-1695463200-1695470400@www.santeelakes.com
SUMMARY:CAMPER'S Campfire & S'mores
DESCRIPTION:Meet us at the Lakeshore Loop Fire Ring for some yummy s’mores! \nBring your flashlight and walk to site due to parking constraints. \n6:00PM-8:00PM
URL:https://www.santeelakes.com/event/outdoor-games/
CATEGORIES:Campground Events
END:VEVENT
BEGIN:VEVENT
DTSTART;TZID=America/Los_Angeles:20230915T100000
DTEND;TZID=America/Los_Angeles:20230915T120000
DTSTAMP:20260421T145647
CREATED:20230620T040049Z
LAST-MODIFIED:20230721T020619Z
UID:11982-1694772000-1694779200@www.santeelakes.com
SUMMARY:CAMPER'S PJs & Popcorn - Robots | PG
DESCRIPTION:Throw on your PJs and come enjoy a movie and popcorn! \nClubhouse 6:00PM – 8:00PM
URL:https://www.santeelakes.com/event/pjs-popcorn-robots-pg/
CATEGORIES:Campground Events
END:VEVENT
BEGIN:VEVENT
DTSTART;TZID=America/Los_Angeles:20230908T100000
DTEND;TZID=America/Los_Angeles:20230908T120000
DTSTAMP:20260421T145647
CREATED:20230620T035805Z
LAST-MODIFIED:20230721T020452Z
UID:11980-1694167200-1694174400@www.santeelakes.com
SUMMARY:CAMPER'S Nacho Night & Games
DESCRIPTION:Join us for some yummy nachos and some great games! \nClubhouse | 6:00PM – 8:00PM
URL:https://www.santeelakes.com/event/nacho-night-games-4/
CATEGORIES:Campground Events
END:VEVENT
BEGIN:VEVENT
DTSTART;TZID=America/Los_Angeles:20230902T080000
DTEND;TZID=America/Los_Angeles:20230902T100000
DTSTAMP:20260421T145647
CREATED:20230620T035442Z
LAST-MODIFIED:20230822T020411Z
UID:11978-1693641600-1693648800@www.santeelakes.com
SUMMARY:Camper Concert - Street Heart & Pork Belly BBQ Food Cart
DESCRIPTION:Almost Labor Day\, so celebrate! Street Heart will be here along with Pork Belly BBQ food cart. \n4:00PM-6:00PM Clubhouse Lawn
URL:https://www.santeelakes.com/event/camper-concert-street-heart-food-truck/
CATEGORIES:Campground Events
END:VEVENT
BEGIN:VEVENT
DTSTART;TZID=America/Los_Angeles:20230826T100000
DTEND;TZID=America/Los_Angeles:20230826T120000
DTSTAMP:20260421T145647
CREATED:20230620T033732Z
LAST-MODIFIED:20230721T020328Z
UID:11972-1693044000-1693051200@www.santeelakes.com
SUMMARY:CAMPER'S Campfire & S'mores
DESCRIPTION:Meet us at the Lakeshore Loop Fire Ring for some tasty s’mores! \nBring a flashlight and walk to the site\, due to parking constraints. \n6:00PM-8:00PM
URL:https://www.santeelakes.com/event/bingo/
CATEGORIES:Campground Events
END:VEVENT
BEGIN:VEVENT
DTSTART;TZID=America/Los_Angeles:20230826T000000
DTEND;TZID=America/Los_Angeles:20230826T023000
DTSTAMP:20260421T145647
CREATED:20230223T073439Z
LAST-MODIFIED:20230620T032030Z
UID:11510-1693008000-1693017000@www.santeelakes.com
SUMMARY:Lion's Club Pancake Breakfast
DESCRIPTION:Come enjoy some breakfast for a great cause! \nAdults $10 | 12 & under $5 \nClubhouse | 8:00AM-10:30AM
URL:https://www.santeelakes.com/event/lions-club-pancake-breakfast-7/
CATEGORIES:Campground Events,Park Events
END:VEVENT
BEGIN:VEVENT
DTSTART;TZID=America/Los_Angeles:20230819T100000
DTEND;TZID=America/Los_Angeles:20230819T133000
DTSTAMP:20260421T145647
CREATED:20230620T033617Z
LAST-MODIFIED:20230819T073733Z
UID:11970-1692439200-1692451800@www.santeelakes.com
SUMMARY:CAMPER Dive-in Movie - JAWS
DESCRIPTION:WE WILL LET YOU KNOW BY 4:00PM IF THIS IS STILL HAPPENING DUE TO WEATHER. \nGet ready for a classic. \nMovie: JAWS | PG \nMovie at sundown: 7:30PMish
URL:https://www.santeelakes.com/event/pool-games-dive-in-movie/
CATEGORIES:Campground Events
END:VEVENT
BEGIN:VEVENT
DTSTART;TZID=America/Los_Angeles:20230817T090000
DTEND;TZID=America/Los_Angeles:20230817T153000
DTSTAMP:20260421T145647
CREATED:20230105T020944Z
LAST-MODIFIED:20230105T021039Z
UID:11245-1692262800-1692286200@www.santeelakes.com
SUMMARY:Night Fishing
DESCRIPTION:Join us under the stars for some fishing!  Bring your lanterns\, not your radios. \nThis is the last Night Fishing event of the season.  5:00PM – 11:30PM \n 
URL:https://www.santeelakes.com/event/night-fishing-6/
CATEGORIES:Park Events
END:VEVENT
END:VCALENDAR