BEGIN:VCALENDAR
VERSION:2.0
PRODID:-//Santee Lakes - ECPv6.15.20//NONSGML v1.0//EN
CALSCALE:GREGORIAN
METHOD:PUBLISH
X-WR-CALNAME:Santee Lakes
X-ORIGINAL-URL:https://www.santeelakes.com
X-WR-CALDESC:Events for Santee Lakes
REFRESH-INTERVAL;VALUE=DURATION:PT1H
X-Robots-Tag:noindex
X-PUBLISHED-TTL:PT1H
BEGIN:VTIMEZONE
TZID:America/Los_Angeles
BEGIN:DAYLIGHT
TZOFFSETFROM:-0800
TZOFFSETTO:-0700
TZNAME:PDT
DTSTART:20210314T100000
END:DAYLIGHT
BEGIN:STANDARD
TZOFFSETFROM:-0700
TZOFFSETTO:-0800
TZNAME:PST
DTSTART:20211107T090000
END:STANDARD
BEGIN:DAYLIGHT
TZOFFSETFROM:-0800
TZOFFSETTO:-0700
TZNAME:PDT
DTSTART:20220313T100000
END:DAYLIGHT
BEGIN:STANDARD
TZOFFSETFROM:-0700
TZOFFSETTO:-0800
TZNAME:PST
DTSTART:20221106T090000
END:STANDARD
BEGIN:DAYLIGHT
TZOFFSETFROM:-0800
TZOFFSETTO:-0700
TZNAME:PDT
DTSTART:20230312T100000
END:DAYLIGHT
BEGIN:STANDARD
TZOFFSETFROM:-0700
TZOFFSETTO:-0800
TZNAME:PST
DTSTART:20231105T090000
END:STANDARD
BEGIN:DAYLIGHT
TZOFFSETFROM:-0800
TZOFFSETTO:-0700
TZNAME:PDT
DTSTART:20240310T100000
END:DAYLIGHT
BEGIN:STANDARD
TZOFFSETFROM:-0700
TZOFFSETTO:-0800
TZNAME:PST
DTSTART:20241103T090000
END:STANDARD
END:VTIMEZONE
BEGIN:VEVENT
DTSTART;TZID=America/Los_Angeles:20230225T020000
DTEND;TZID=America/Los_Angeles:20230225T040000
DTSTAMP:20260423T033053
CREATED:20230118T062642Z
LAST-MODIFIED:20230118T064634Z
UID:11343-1677290400-1677297600@www.santeelakes.com
SUMMARY:Camper Potluck Brunch
DESCRIPTION:We will bring the bagels! Join your fellow campers on Saturday morning\, for brunch.
URL:https://www.santeelakes.com/event/camper-potluck-brunch/
CATEGORIES:Campground Events
END:VEVENT
BEGIN:VEVENT
DTSTART;TZID=America/Los_Angeles:20230217T100000
DTEND;TZID=America/Los_Angeles:20230217T120000
DTSTAMP:20260423T033053
CREATED:20230118T062431Z
LAST-MODIFIED:20230118T062936Z
UID:11340-1676628000-1676635200@www.santeelakes.com
SUMMARY:Campers PJs & Popcorn - Dog - PG13
DESCRIPTION:It’s movie night!  Wear your PJs and we will bring the popcorn. \nThis night features Dog\, rated PG-13
URL:https://www.santeelakes.com/event/campers-pjs-popcorn/
CATEGORIES:Campground Events
END:VEVENT
BEGIN:VEVENT
DTSTART;TZID=America/Los_Angeles:20230212T073000
DTEND;TZID=America/Los_Angeles:20230212T130000
DTSTAMP:20260423T033053
CREATED:20230118T062242Z
LAST-MODIFIED:20230119T050441Z
UID:11338-1676187000-1676206800@www.santeelakes.com
SUMMARY:Campers Superbowl Party
DESCRIPTION:No matter which team you are cheering for\, it’s always fun to watch the game together! \nWe will bring a snack and would love it\, if you would too. \nKickoff is at 3:30PM
URL:https://www.santeelakes.com/event/camper-superbowl-party/
CATEGORIES:Campground Events
END:VEVENT
BEGIN:VEVENT
DTSTART;TZID=America/Los_Angeles:20230211T080000
DTEND;TZID=America/Los_Angeles:20230211T100000
DTSTAMP:20260423T033053
CREATED:20230118T060831Z
LAST-MODIFIED:20230118T061015Z
UID:11332-1676102400-1676109600@www.santeelakes.com
SUMMARY:Campers Valentine Craft
DESCRIPTION:Calling all crafty (and not so crafty) campers! Come make a Valentine craft for your special someone.
URL:https://www.santeelakes.com/event/camper-game-night/
CATEGORIES:Campground Events
END:VEVENT
BEGIN:VEVENT
DTSTART;TZID=America/Los_Angeles:20230203T100000
DTEND;TZID=America/Los_Angeles:20230203T120000
DTSTAMP:20260423T033053
CREATED:20230118T061751Z
LAST-MODIFIED:20230118T062846Z
UID:11336-1675418400-1675425600@www.santeelakes.com
SUMMARY:Campers Game Night
DESCRIPTION:Come join other campers for a night of fun and games!
URL:https://www.santeelakes.com/event/camper-game-night-2/
CATEGORIES:Campground Events
END:VEVENT
BEGIN:VEVENT
DTSTART;TZID=America/Los_Angeles:20230129T000000
DTEND;TZID=America/Los_Angeles:20230129T143000
DTSTAMP:20260423T033053
CREATED:20230106T042914Z
LAST-MODIFIED:20230107T030227Z
UID:11279-1674950400-1675002600@www.santeelakes.com
SUMMARY:Rancho Santee Lion's Club Pancake Breakfast
DESCRIPTION:Join the Lion’s Club at the Clubhouse for a yummy breakfast! \n$10 Adult  |  $5 Children 12 and younger \nAdult’s plate includes: 3 pancakes\, 2 sausage patties\, scrambled eggs\, orange juice\, coffee or tea or cocoa. \nChild’s plate includes: 2 pancakes\, 1 sausage patty\, scrambled eggs and orange juice. Parents can lessen the amount on the child’s plate depending upon the age of the child. \nThe Lion’s Club’s main purpose is to aid those that are sight and hearing impaired. Proceeds from the breakfast will benefit children in the Lakeside School District in need of glasses.
URL:https://www.santeelakes.com/event/rancho-santee-lions-club-pancake-breakfast/
CATEGORIES:Campground Events
ORGANIZER;CN="Rancho Santee Lion's Club":MAILTO:pdgbrand@cox.net
END:VEVENT
BEGIN:VEVENT
DTSTART;TZID=America/Los_Angeles:20230127T100000
DTEND;TZID=America/Los_Angeles:20230127T120000
DTSTAMP:20260423T033053
CREATED:20230105T012203Z
LAST-MODIFIED:20230118T062917Z
UID:11221-1674813600-1674820800@www.santeelakes.com
SUMMARY:Campers PJs & Popcorn - Wonder PG
DESCRIPTION:CAMPERS ONLY \nEnjoy some popcorn in your pjs and watch the award winning movie\, Wonder.
URL:https://www.santeelakes.com/event/pjs-popcorn-wonder-pg/
CATEGORIES:Campground Events
END:VEVENT
BEGIN:VEVENT
DTSTART;TZID=America/Los_Angeles:20230121T110000
DTEND;TZID=America/Los_Angeles:20230121T123000
DTSTAMP:20260423T033053
CREATED:20230105T011805Z
LAST-MODIFIED:20230105T011805Z
UID:11219-1674298800-1674304200@www.santeelakes.com
SUMMARY:Campfire & S'mores
DESCRIPTION:Join your camping friends at the Lakeshore fire ring for some yummy s’mores! Don’t forget to bring your guitar or other instrument and show off your talents.
URL:https://www.santeelakes.com/event/campfire-smores-3/
CATEGORIES:Campground Events
END:VEVENT
BEGIN:VEVENT
DTSTART;TZID=America/Los_Angeles:20230114T100000
DTEND;TZID=America/Los_Angeles:20230114T120000
DTSTAMP:20260423T033053
CREATED:20230105T011600Z
LAST-MODIFIED:20230105T011600Z
UID:11217-1673690400-1673697600@www.santeelakes.com
SUMMARY:Potluck
DESCRIPTION:A great way to meet your camping neighbors\, and eat their food! Stick around and play some games\, too.
URL:https://www.santeelakes.com/event/potluck/
CATEGORIES:Campground Events
END:VEVENT
BEGIN:VEVENT
DTSTART;TZID=America/Los_Angeles:20230107T100000
DTEND;TZID=America/Los_Angeles:20230107T120000
DTSTAMP:20260423T033053
CREATED:20230105T010626Z
LAST-MODIFIED:20230105T010626Z
UID:11214-1673085600-1673092800@www.santeelakes.com
SUMMARY:Game Night
DESCRIPTION:CAMPERS ONLY \nJoin other campers and play the amazing Plastic Wrap Game as well as other games that are sure to be a great time!
URL:https://www.santeelakes.com/event/game-night/
CATEGORIES:Campground Events
END:VEVENT
BEGIN:VEVENT
DTSTART;TZID=America/Los_Angeles:20221231T110000
DTEND;TZID=America/Los_Angeles:20221231T130000
DTSTAMP:20260423T033053
CREATED:20221119T035453Z
LAST-MODIFIED:20221119T035453Z
UID:11131-1672484400-1672491600@www.santeelakes.com
SUMMARY:New Year's Eve Karaoke & Ball Drop Bash!
DESCRIPTION:Join your fellow campers to ring in the New Year (New York time)!  There will be karaoke\, games\, and more. We will provide the desserts\, coffee\, and cocoa.
URL:https://www.santeelakes.com/event/new-years-eve-karaoke-ball-drop-bash/
CATEGORIES:Campground Events
END:VEVENT
BEGIN:VEVENT
DTSTART;TZID=America/Los_Angeles:20221223T100000
DTEND;TZID=America/Los_Angeles:20221223T120000
DTSTAMP:20260423T033053
CREATED:20221119T034757Z
LAST-MODIFIED:20221119T034757Z
UID:11129-1671789600-1671796800@www.santeelakes.com
SUMMARY:PJs & Popcorn Movie Night - Elf
DESCRIPTION:Everyone loves Elf! Come grab some popcorn in your pjs and enjoy the show. \n 
URL:https://www.santeelakes.com/event/pjs-popcorn-movie-night-elf/
CATEGORIES:Campground Events
END:VEVENT
BEGIN:VEVENT
DTSTART;TZID=America/Los_Angeles:20221217T110000
DTEND;TZID=America/Los_Angeles:20221217T123000
DTSTAMP:20260423T033053
CREATED:20221119T034604Z
LAST-MODIFIED:20221119T034604Z
UID:11127-1671274800-1671280200@www.santeelakes.com
SUMMARY:Campfire & S'mores
DESCRIPTION:Join us at the Lakeshore Campfire Ring for some s’mores! We provide everything\, so just bring a flashlight (for the walk) and your sweet tooth!
URL:https://www.santeelakes.com/event/campfire-smores-2/
CATEGORIES:Campground Events
END:VEVENT
BEGIN:VEVENT
DTSTART;TZID=America/Los_Angeles:20221210T040000
DTEND;TZID=America/Los_Angeles:20221210T060000
DTSTAMP:20260423T033053
CREATED:20221108T043117Z
LAST-MODIFIED:20221108T043117Z
UID:11102-1670644800-1670652000@www.santeelakes.com
SUMMARY:Santa in the Campground
DESCRIPTION:CAMPERS! Come see Santa as he visits the Campground between 12:00PM-2:00PM on Saturday\, December 10. \nThere will be crafts and photo ops with the Big Guy. There will also be a food truck\, Birrieria Y Tacos El Pariente\, so bring your appetite!
URL:https://www.santeelakes.com/event/santa-in-the-campground/
CATEGORIES:Campground Events
END:VEVENT
BEGIN:VEVENT
DTSTART;TZID=America/Los_Angeles:20221203T060000
DTEND;TZID=America/Los_Angeles:20221203T080000
DTSTAMP:20260423T033053
CREATED:20221119T034138Z
LAST-MODIFIED:20221119T034138Z
UID:11124-1670047200-1670054400@www.santeelakes.com
SUMMARY:Letters to Santa\, Word Searches\, Craft & Cocoa
DESCRIPTION:Join us in the Clubhouse and write your letter to Santa (we will deliver to him when he comes the following weekend)\, do a cute snowman craft\, search for some words and drink the cocoa!
URL:https://www.santeelakes.com/event/letters-to-santa-word-searches-craft-cocoa/
CATEGORIES:Campground Events
END:VEVENT
BEGIN:VEVENT
DTSTART;TZID=America/Los_Angeles:20221126T000000
DTEND;TZID=America/Los_Angeles:20221126T023000
DTSTAMP:20260423T033053
CREATED:20221101T071248Z
LAST-MODIFIED:20221101T071248Z
UID:11024-1669420800-1669429800@www.santeelakes.com
SUMMARY:Lion's Club Pancake Breakfast
DESCRIPTION:Enjoy some yummy pancakes and more at the pancake breakfast!
URL:https://www.santeelakes.com/event/lions-club-pancake-breakfast-4/
CATEGORIES:Campground Events
END:VEVENT
BEGIN:VEVENT
DTSTART;TZID=America/Los_Angeles:20221125T100000
DTEND;TZID=America/Los_Angeles:20221224T113000
DTSTAMP:20260423T033053
CREATED:20220824T012009Z
LAST-MODIFIED:20221124T064348Z
UID:10613-1669370400-1671881400@www.santeelakes.com
SUMMARY:Lights at the Lakes
DESCRIPTION:Join us this holiday season\, for a dazzling drive-thru light show event!\nThursdays-Sundays\, 6:00PM-7:30PM (7:30PM is our last time slot available).\nGet your tickets HERE. \nVisit santeelakes.com for details.
URL:https://www.santeelakes.com/event/lights-at-the-lakes/
CATEGORIES:Campground Events,Park Events
END:VEVENT
BEGIN:VEVENT
DTSTART;TZID=America/Los_Angeles:20221119T100000
DTEND;TZID=America/Los_Angeles:20221119T120000
DTSTAMP:20260423T033053
CREATED:20221101T070939Z
LAST-MODIFIED:20221101T071021Z
UID:11021-1668852000-1668859200@www.santeelakes.com
SUMMARY:PJs & Popcorn Movie Night - The Grinch
DESCRIPTION:Get ready for The Grinch! Wear your comfiest PJs and enjoy some popcorn.
URL:https://www.santeelakes.com/event/pjs-popcorn-movie-night-the-grinch/
CATEGORIES:Campground Events
END:VEVENT
BEGIN:VEVENT
DTSTART;TZID=America/Los_Angeles:20221113T100000
DTEND;TZID=America/Los_Angeles:20221113T120000
DTSTAMP:20260423T033053
CREATED:20221101T070745Z
LAST-MODIFIED:20221101T070745Z
UID:11019-1668333600-1668340800@www.santeelakes.com
SUMMARY:Camper Potluck & Games
DESCRIPTION:Bring a dish to share and then hang around for some fun games!
URL:https://www.santeelakes.com/event/camper-potluck-games/
CATEGORIES:Campground Events
END:VEVENT
BEGIN:VEVENT
DTSTART;TZID=America/Los_Angeles:20221112T110000
DTEND;TZID=America/Los_Angeles:20221112T123000
DTSTAMP:20260423T033053
CREATED:20220823T181038Z
LAST-MODIFIED:20221101T070620Z
UID:9554-1668250800-1668256200@www.santeelakes.com
SUMMARY:Camper Campfire & S'mores
DESCRIPTION:Meet at the Lakeshore Loop giant campfire ring for some s’mores!  Bring your flashlight and please walk to the site\, due to limited parking. \nS’mores provided. \n7:00PM-8:30PM
URL:https://www.santeelakes.com/event/campfire-smores/
LOCATION:Santee Lakes Recreation Preserve\, 9310 Fanita Parkway\, Santee\, CA\, 92071\, United States
CATEGORIES:Campground Events
END:VEVENT
BEGIN:VEVENT
DTSTART;TZID=America/Los_Angeles:20221111T100000
DTEND;TZID=America/Los_Angeles:20221111T120000
DTSTAMP:20260423T033053
CREATED:20221016T020231Z
LAST-MODIFIED:20221101T070524Z
UID:10544-1668160800-1668168000@www.santeelakes.com
SUMMARY:Candy Bar BINGO!
DESCRIPTION:Bring a candy bar to play!
URL:https://www.santeelakes.com/event/campers-pedal-boat-bingo/
CATEGORIES:Campground Events
ORGANIZER;CN="Santee Lakes Recreation Preserve":MAILTO:santeelakes@padre.org
END:VEVENT
BEGIN:VEVENT
DTSTART;TZID=America/Los_Angeles:20221105T220000
DTEND;TZID=America/Los_Angeles:20221106T090000
DTSTAMP:20260423T033053
CREATED:20210109T091621Z
LAST-MODIFIED:20211221T013831Z
UID:8609-1667685600-1667725200@www.santeelakes.com
SUMMARY:Trout Opener
DESCRIPTION:2\,000 lbs. Rainbow Trout!
URL:https://www.santeelakes.com/event/trout-opener-2/
CATEGORIES:Campground Events,Park Events
END:VEVENT
BEGIN:VEVENT
DTSTART;TZID=America/Los_Angeles:20221104T220000
DTEND;TZID=America/Los_Angeles:20221105T090000
DTSTAMP:20260423T033053
CREATED:20210109T091817Z
LAST-MODIFIED:20211221T013740Z
UID:8611-1667599200-1667638800@www.santeelakes.com
SUMMARY:Trout Opener
DESCRIPTION:2\,000 lbs. Rainbow Trout!
URL:https://www.santeelakes.com/event/trout-opener-3/
CATEGORIES:Campground Events,Park Events
END:VEVENT
BEGIN:VEVENT
DTSTART;TZID=America/Los_Angeles:20221015T020000
DTEND;TZID=America/Los_Angeles:20221015T070000
DTSTAMP:20260423T033053
CREATED:20200313T025853Z
LAST-MODIFIED:20220707T010317Z
UID:7528-1665799200-1665817200@www.santeelakes.com
SUMMARY:Ladies at the Lake Fall Market
DESCRIPTION:Shop from a variety of unique vendors including crafts\, health/beauty\, jewelry\, and more!\nInterested in becoming a vendor?  Send your contact info. and a description of what you sell to sfakhouri@padre.org to get on the interest list.
URL:https://www.santeelakes.com/event/ladies-at-the-lake-fall-market/
LOCATION:Santee Lakes Recreation Preserve\, 9310 Fanita Parkway\, Santee\, CA\, 92071\, United States
CATEGORIES:Campground Events,Park Events
ORGANIZER;CN="Santee Lakes Recreation Preserve":MAILTO:santeelakes@padre.org
END:VEVENT
BEGIN:VEVENT
DTSTART;TZID=America/Los_Angeles:20221008T060000
DTEND;TZID=America/Los_Angeles:20221008T080000
DTSTAMP:20260423T033053
CREATED:20221009T015756Z
LAST-MODIFIED:20220920T025128Z
UID:10540-1665208800-1665216000@www.santeelakes.com
SUMMARY:Camper Pool Games
DESCRIPTION:Cool off in the pool and race some ducks!
URL:https://www.santeelakes.com/event/camper-pool-games/
CATEGORIES:Campground Events
ORGANIZER;CN="Santee Lakes Recreation Preserve":MAILTO:santeelakes@padre.org
END:VEVENT
BEGIN:VEVENT
DTSTART;TZID=America/Los_Angeles:20221001T220000
DTEND;TZID=America/Los_Angeles:20221002T090000
DTSTAMP:20260423T033053
CREATED:20210723T012902Z
LAST-MODIFIED:20220920T033730Z
UID:9577-1664661600-1664701200@www.santeelakes.com
SUMMARY:STOCKZILLA
DESCRIPTION:All 7 Lakes | 3\,500 lbs. \nAdult | $10 \nJr. & Senior | $6 \nExtra pole stamp | $4 \n 
URL:https://www.santeelakes.com/event/stockzilla/
LOCATION:Santee Lakes Recreation Preserve\, 9310 Fanita Parkway\, Santee\, CA\, 92071\, United States
CATEGORIES:Campground Events,Park Events
END:VEVENT
BEGIN:VEVENT
DTSTART;TZID=America/Los_Angeles:20220930T220000
DTEND;TZID=America/Los_Angeles:20221001T090000
DTSTAMP:20260423T033053
CREATED:20210723T012956Z
LAST-MODIFIED:20220920T023935Z
UID:9579-1664575200-1664614800@www.santeelakes.com
SUMMARY:STOCKZILLA
DESCRIPTION:All 7 Lakes | 3\,500 lbs. \nParking | $6 \nFishing Permit is required (No State license needed). \nAdults | $10 \nJuniors & Seniors | $6 \nExtra Pole Stamp | $4
URL:https://www.santeelakes.com/event/stockzilla-2/
LOCATION:Santee Lakes Recreation Preserve\, 9310 Fanita Parkway\, Santee\, CA\, 92071\, United States
CATEGORIES:Campground Events,Park Events
END:VEVENT
BEGIN:VEVENT
DTSTART;TZID=America/Los_Angeles:20220917T060000
DTEND;TZID=America/Los_Angeles:20220917T060000
DTSTAMP:20260423T033053
CREATED:20220823T180010Z
LAST-MODIFIED:20220824T011035Z
UID:10542-1663394400-1663394400@www.santeelakes.com
SUMMARY:Camper Root Beer Floats
DESCRIPTION:Nothing beats a great Root Beer Float!
URL:https://www.santeelakes.com/event/camper-root-beer-floats/
CATEGORIES:Campground Events
ORGANIZER;CN="Santee Lakes Recreation Preserve":MAILTO:santeelakes@padre.org
END:VEVENT
BEGIN:VEVENT
DTSTART;TZID=America/Los_Angeles:20220903T090000
DTEND;TZID=America/Los_Angeles:20220903T110000
DTSTAMP:20260423T033053
CREATED:20220712T003639Z
LAST-MODIFIED:20220712T024108Z
UID:10534-1662195600-1662202800@www.santeelakes.com
SUMMARY:Camper Campground Concert
DESCRIPTION:Enjoy the sounds of Bobbie Detroit at the last concert of the season! \nMeet us on the Clubhouse Lawn with your beach chairs/blankets and get ready to dance!
URL:https://www.santeelakes.com/event/camper-campground-concert/
CATEGORIES:Campground Events
ORGANIZER;CN="Santee Lakes Recreation Preserve":MAILTO:santeelakes@padre.org
END:VEVENT
BEGIN:VEVENT
DTSTART;TZID=America/Los_Angeles:20220820T110000
DTEND;TZID=America/Los_Angeles:20220820T130000
DTSTAMP:20260423T033053
CREATED:20220427T073807Z
LAST-MODIFIED:20220707T010232Z
UID:10242-1660993200-1661000400@www.santeelakes.com
SUMMARY:CAMPER Campground Concert Series
DESCRIPTION:Join us for music under the stars with Halo Effect!\nMeet us on the Clubhouse Lawn with your beach chairs/blankets and get ready to dance!
URL:https://www.santeelakes.com/event/campground-concert-series-2/
CATEGORIES:Campground Events
END:VEVENT
END:VCALENDAR