BEGIN:VCALENDAR
VERSION:2.0
PRODID:-//Santee Lakes - ECPv6.15.20//NONSGML v1.0//EN
CALSCALE:GREGORIAN
METHOD:PUBLISH
X-WR-CALNAME:Santee Lakes
X-ORIGINAL-URL:https://www.santeelakes.com
X-WR-CALDESC:Events for Santee Lakes
REFRESH-INTERVAL;VALUE=DURATION:PT1H
X-Robots-Tag:noindex
X-PUBLISHED-TTL:PT1H
BEGIN:VTIMEZONE
TZID:America/Los_Angeles
BEGIN:DAYLIGHT
TZOFFSETFROM:-0800
TZOFFSETTO:-0700
TZNAME:PDT
DTSTART:20200308T100000
END:DAYLIGHT
BEGIN:STANDARD
TZOFFSETFROM:-0700
TZOFFSETTO:-0800
TZNAME:PST
DTSTART:20201101T090000
END:STANDARD
BEGIN:DAYLIGHT
TZOFFSETFROM:-0800
TZOFFSETTO:-0700
TZNAME:PDT
DTSTART:20210314T100000
END:DAYLIGHT
BEGIN:STANDARD
TZOFFSETFROM:-0700
TZOFFSETTO:-0800
TZNAME:PST
DTSTART:20211107T090000
END:STANDARD
BEGIN:DAYLIGHT
TZOFFSETFROM:-0800
TZOFFSETTO:-0700
TZNAME:PDT
DTSTART:20220313T100000
END:DAYLIGHT
BEGIN:STANDARD
TZOFFSETFROM:-0700
TZOFFSETTO:-0800
TZNAME:PST
DTSTART:20221106T090000
END:STANDARD
BEGIN:DAYLIGHT
TZOFFSETFROM:-0800
TZOFFSETTO:-0700
TZNAME:PDT
DTSTART:20230312T100000
END:DAYLIGHT
BEGIN:STANDARD
TZOFFSETFROM:-0700
TZOFFSETTO:-0800
TZNAME:PST
DTSTART:20231105T090000
END:STANDARD
END:VTIMEZONE
BEGIN:VEVENT
DTSTART;TZID=America/Los_Angeles:20221104T220000
DTEND;TZID=America/Los_Angeles:20221105T090000
DTSTAMP:20260423T022118
CREATED:20210109T091817Z
LAST-MODIFIED:20211221T013740Z
UID:8611-1667599200-1667638800@www.santeelakes.com
SUMMARY:Trout Opener
DESCRIPTION:2\,000 lbs. Rainbow Trout!
URL:https://www.santeelakes.com/event/trout-opener-3/
CATEGORIES:Campground Events,Park Events
END:VEVENT
BEGIN:VEVENT
DTSTART;TZID=America/Los_Angeles:20221015T020000
DTEND;TZID=America/Los_Angeles:20221015T070000
DTSTAMP:20260423T022118
CREATED:20200313T025853Z
LAST-MODIFIED:20220707T010317Z
UID:7528-1665799200-1665817200@www.santeelakes.com
SUMMARY:Ladies at the Lake Fall Market
DESCRIPTION:Shop from a variety of unique vendors including crafts\, health/beauty\, jewelry\, and more!\nInterested in becoming a vendor?  Send your contact info. and a description of what you sell to sfakhouri@padre.org to get on the interest list.
URL:https://www.santeelakes.com/event/ladies-at-the-lake-fall-market/
LOCATION:Santee Lakes Recreation Preserve\, 9310 Fanita Parkway\, Santee\, CA\, 92071\, United States
CATEGORIES:Campground Events,Park Events
ORGANIZER;CN="Santee Lakes Recreation Preserve":MAILTO:santeelakes@padre.org
END:VEVENT
BEGIN:VEVENT
DTSTART;TZID=America/Los_Angeles:20221008T060000
DTEND;TZID=America/Los_Angeles:20221008T080000
DTSTAMP:20260423T022118
CREATED:20221009T015756Z
LAST-MODIFIED:20220920T025128Z
UID:10540-1665208800-1665216000@www.santeelakes.com
SUMMARY:Camper Pool Games
DESCRIPTION:Cool off in the pool and race some ducks!
URL:https://www.santeelakes.com/event/camper-pool-games/
CATEGORIES:Campground Events
ORGANIZER;CN="Santee Lakes Recreation Preserve":MAILTO:santeelakes@padre.org
END:VEVENT
BEGIN:VEVENT
DTSTART;TZID=America/Los_Angeles:20221001T220000
DTEND;TZID=America/Los_Angeles:20221002T090000
DTSTAMP:20260423T022118
CREATED:20210723T012902Z
LAST-MODIFIED:20220920T033730Z
UID:9577-1664661600-1664701200@www.santeelakes.com
SUMMARY:STOCKZILLA
DESCRIPTION:All 7 Lakes | 3\,500 lbs. \nAdult | $10 \nJr. & Senior | $6 \nExtra pole stamp | $4 \n 
URL:https://www.santeelakes.com/event/stockzilla/
LOCATION:Santee Lakes Recreation Preserve\, 9310 Fanita Parkway\, Santee\, CA\, 92071\, United States
CATEGORIES:Campground Events,Park Events
END:VEVENT
BEGIN:VEVENT
DTSTART;TZID=America/Los_Angeles:20220930T220000
DTEND;TZID=America/Los_Angeles:20221001T090000
DTSTAMP:20260423T022118
CREATED:20210723T012956Z
LAST-MODIFIED:20220920T023935Z
UID:9579-1664575200-1664614800@www.santeelakes.com
SUMMARY:STOCKZILLA
DESCRIPTION:All 7 Lakes | 3\,500 lbs. \nParking | $6 \nFishing Permit is required (No State license needed). \nAdults | $10 \nJuniors & Seniors | $6 \nExtra Pole Stamp | $4
URL:https://www.santeelakes.com/event/stockzilla-2/
LOCATION:Santee Lakes Recreation Preserve\, 9310 Fanita Parkway\, Santee\, CA\, 92071\, United States
CATEGORIES:Campground Events,Park Events
END:VEVENT
BEGIN:VEVENT
DTSTART;TZID=America/Los_Angeles:20220917T060000
DTEND;TZID=America/Los_Angeles:20220917T060000
DTSTAMP:20260423T022118
CREATED:20220823T180010Z
LAST-MODIFIED:20220824T011035Z
UID:10542-1663394400-1663394400@www.santeelakes.com
SUMMARY:Camper Root Beer Floats
DESCRIPTION:Nothing beats a great Root Beer Float!
URL:https://www.santeelakes.com/event/camper-root-beer-floats/
CATEGORIES:Campground Events
ORGANIZER;CN="Santee Lakes Recreation Preserve":MAILTO:santeelakes@padre.org
END:VEVENT
BEGIN:VEVENT
DTSTART;TZID=America/Los_Angeles:20220903T090000
DTEND;TZID=America/Los_Angeles:20220903T110000
DTSTAMP:20260423T022118
CREATED:20220712T003639Z
LAST-MODIFIED:20220712T024108Z
UID:10534-1662195600-1662202800@www.santeelakes.com
SUMMARY:Camper Campground Concert
DESCRIPTION:Enjoy the sounds of Bobbie Detroit at the last concert of the season! \nMeet us on the Clubhouse Lawn with your beach chairs/blankets and get ready to dance!
URL:https://www.santeelakes.com/event/camper-campground-concert/
CATEGORIES:Campground Events
ORGANIZER;CN="Santee Lakes Recreation Preserve":MAILTO:santeelakes@padre.org
END:VEVENT
BEGIN:VEVENT
DTSTART;TZID=America/Los_Angeles:20220820T110000
DTEND;TZID=America/Los_Angeles:20220820T130000
DTSTAMP:20260423T022118
CREATED:20220427T073807Z
LAST-MODIFIED:20220707T010232Z
UID:10242-1660993200-1661000400@www.santeelakes.com
SUMMARY:CAMPER Campground Concert Series
DESCRIPTION:Join us for music under the stars with Halo Effect!\nMeet us on the Clubhouse Lawn with your beach chairs/blankets and get ready to dance!
URL:https://www.santeelakes.com/event/campground-concert-series-2/
CATEGORIES:Campground Events
END:VEVENT
BEGIN:VEVENT
DTSTART;TZID=America/Los_Angeles:20220818T090000
DTEND;TZID=America/Los_Angeles:20220818T153000
DTSTAMP:20260423T022118
CREATED:20210109T084809Z
LAST-MODIFIED:20220204T072324Z
UID:8590-1660813200-1660836600@www.santeelakes.com
SUMMARY:Summer Night Fishing
DESCRIPTION:Bring your lantern and join us for a night of fishing!
URL:https://www.santeelakes.com/event/summer-night-fishing-2/
CATEGORIES:Park Events
END:VEVENT
BEGIN:VEVENT
DTSTART;TZID=America/Los_Angeles:20220804T090000
DTEND;TZID=America/Los_Angeles:20220804T153000
DTSTAMP:20260423T022118
CREATED:20210109T085259Z
LAST-MODIFIED:20220204T072333Z
UID:8593-1659603600-1659627000@www.santeelakes.com
SUMMARY:Summer Night Fishing
DESCRIPTION:Bring your lanterns and join us for a night of fishing!
URL:https://www.santeelakes.com/event/summer-night-fishing-3/
CATEGORIES:Park Events
END:VEVENT
BEGIN:VEVENT
DTSTART;TZID=America/Los_Angeles:20220730T040000
DTEND;TZID=America/Los_Angeles:20220730T100000
DTSTAMP:20260423T022118
CREATED:20220427T074118Z
LAST-MODIFIED:20220707T010222Z
UID:10244-1659153600-1659175200@www.santeelakes.com
SUMMARY:CAMPER Cornhole Tournament
DESCRIPTION:Come join us on the Clubhouse Lawn for the 4th Annual Camper Cornhole Tournament!\nRegister & Practice 12:00PM \nTournament begins 1:00PM \n$20 per person | Bring your partner \n$40 per team | Cash prizes
URL:https://www.santeelakes.com/event/camper-cornhole-tournament/
LOCATION:Santee Lakes Recreation Preserve\, 9310 Fanita Parkway\, Santee\, CA\, 92071\, United States
CATEGORIES:Campground Events
END:VEVENT
BEGIN:VEVENT
DTSTART;TZID=America/Los_Angeles:20220723T110000
DTEND;TZID=America/Los_Angeles:20220723T130000
DTSTAMP:20260423T022118
CREATED:20220707T005837Z
LAST-MODIFIED:20220707T005837Z
UID:10497-1658574000-1658581200@www.santeelakes.com
SUMMARY:CAMPER Dive-in Movie  TOP GUN | PG
DESCRIPTION:Meet at the pool for an evening of fun with the OG TOP GUN! \nCampground Pool \n7:00PM – 9:00PM
URL:https://www.santeelakes.com/event/camper-dive-in-movie-top-gun-pg/
CATEGORIES:Campground Events
ORGANIZER;CN="Santee Lakes Recreation Preserve":MAILTO:santeelakes@padre.org
END:VEVENT
BEGIN:VEVENT
DTSTART;TZID=America/Los_Angeles:20220720T210000
DTEND;TZID=America/Los_Angeles:20220721T153000
DTSTAMP:20260423T022118
CREATED:20210109T084640Z
LAST-MODIFIED:20220707T010327Z
UID:8588-1658350800-1658417400@www.santeelakes.com
SUMMARY:Summer Night Fishing
DESCRIPTION:Bring your lanterns and join us for a night of fishing! \n 
URL:https://www.santeelakes.com/event/summer-night-fishing/
CATEGORIES:Campground Events,Park Events
END:VEVENT
BEGIN:VEVENT
DTSTART;TZID=America/Los_Angeles:20220716T060000
DTEND;TZID=America/Los_Angeles:20220716T080000
DTSTAMP:20260423T022118
CREATED:20220707T005537Z
LAST-MODIFIED:20220707T010142Z
UID:10495-1657951200-1657958400@www.santeelakes.com
SUMMARY:CAMPER Ice Cream Social
DESCRIPTION:Socialize AND eat ice cream! \n2:00PM – When the ice cream is gone \nClubhouse Lawn
URL:https://www.santeelakes.com/event/ice-cream-social/
CATEGORIES:Campground Events
ORGANIZER;CN="Santee Lakes Recreation Preserve":MAILTO:santeelakes@padre.org
END:VEVENT
BEGIN:VEVENT
DTSTART;TZID=America/Los_Angeles:20220708T100000
DTEND;TZID=America/Los_Angeles:20220708T120000
DTSTAMP:20260423T022118
CREATED:20220707T005209Z
LAST-MODIFIED:20220707T010153Z
UID:10492-1657274400-1657281600@www.santeelakes.com
SUMMARY:CAMPER Pedal Boat BINGO!
DESCRIPTION:Win a pedal boat ride! \nClubhouse \n6:00PM – 8:00PM
URL:https://www.santeelakes.com/event/pedal-boat-bingo-2/
CATEGORIES:Campground Events
ORGANIZER;CN="Santee Lakes Recreation Preserve":MAILTO:santeelakes@padre.org
END:VEVENT
BEGIN:VEVENT
DTSTART;TZID=America/Los_Angeles:20220707T090000
DTEND;TZID=America/Los_Angeles:20220707T153000
DTSTAMP:20260423T022118
CREATED:20210109T085507Z
LAST-MODIFIED:20220204T072351Z
UID:8595-1657184400-1657207800@www.santeelakes.com
SUMMARY:Summer Night Fishing
DESCRIPTION:Bring your lanterns and join us for a night of fishing!
URL:https://www.santeelakes.com/event/summer-night-fishing-4/
CATEGORIES:Park Events
END:VEVENT
BEGIN:VEVENT
DTSTART;TZID=America/Los_Angeles:20220704T080000
DTEND;TZID=America/Los_Angeles:20220704T110000
DTSTAMP:20260423T022118
CREATED:20220427T073650Z
LAST-MODIFIED:20220707T010206Z
UID:10240-1656921600-1656932400@www.santeelakes.com
SUMMARY:CAMPER Concert Series
DESCRIPTION:Join us for music under the stars with Old Skool!\nAfter the golf cart parade\, meet us on the Clubhouse Lawn with your beach chairs/blankets and get ready to dance!
URL:https://www.santeelakes.com/event/concert-series/
CATEGORIES:Campground Events
END:VEVENT
BEGIN:VEVENT
DTSTART;TZID=America/Los_Angeles:20220704T053000
DTEND;TZID=America/Los_Angeles:20220704T073000
DTSTAMP:20260423T022118
CREATED:20200421T031233Z
LAST-MODIFIED:20220204T072639Z
UID:7759-1656912600-1656919800@www.santeelakes.com
SUMMARY:4th of July Parade
DESCRIPTION:Hey registered campers! Join us for a celebration of our country’s independence! \nDecorate your golf-carts\, bikes\, or yourself and line up for fun in front of the Clubhouse at 1:30PM.  Parade starts at 2:00PM and there will be prizes! \nConcert on the lawn from 4:30PM-7:00PM.
URL:https://www.santeelakes.com/event/4th-of-july-parade/
CATEGORIES:Campground Events
END:VEVENT
BEGIN:VEVENT
DTSTART;TZID=America/Los_Angeles:20220624T220000
DTEND;TZID=America/Los_Angeles:20220625T030000
DTSTAMP:20260423T022118
CREATED:20220526T061555Z
LAST-MODIFIED:20220526T061937Z
UID:10371-1656108000-1656126000@www.santeelakes.com
SUMMARY:Santee Firefighter's Fishing Derby
DESCRIPTION:CLICK HERE FOR DETAILS
URL:https://www.santeelakes.com/event/santee-firefighters-fishing-derby/
CATEGORIES:Park Events
ORGANIZER;CN="Santee Firefighters":MAILTO:events@santeefirefighters.org
END:VEVENT
BEGIN:VEVENT
DTSTART;TZID=America/Los_Angeles:20220623T090000
DTEND;TZID=America/Los_Angeles:20220623T153000
DTSTAMP:20260423T022118
CREATED:20210109T090032Z
LAST-MODIFIED:20220204T072401Z
UID:8597-1655974800-1655998200@www.santeelakes.com
SUMMARY:Summer Night Fishing
DESCRIPTION:Bring your lanterns and enjoy a night of fishing!
URL:https://www.santeelakes.com/event/summer-night-fishing-5/
CATEGORIES:Park Events
END:VEVENT
BEGIN:VEVENT
DTSTART;TZID=America/Los_Angeles:20220618T110000
DTEND;TZID=America/Los_Angeles:20220618T130000
DTSTAMP:20260423T022118
CREATED:20220427T073533Z
LAST-MODIFIED:20220427T073533Z
UID:10236-1655550000-1655557200@www.santeelakes.com
SUMMARY:Campground Concert Series
DESCRIPTION:Join us for music under the stars with StreetHeart!\nMeet us on the Clubhouse Lawn with your beach chairs/blankets and get ready to dance!
URL:https://www.santeelakes.com/event/campground-concert-series/
LOCATION:Santee Lakes Recreation Preserve\, 9310 Fanita Parkway\, Santee\, CA\, 92071\, United States
CATEGORIES:Campground Events
ORGANIZER;CN="Santee Lakes Recreation Preserve":MAILTO:santeelakes@padre.org
END:VEVENT
BEGIN:VEVENT
DTSTART;TZID=America/Los_Angeles:20220609T090000
DTEND;TZID=America/Los_Angeles:20220609T153000
DTSTAMP:20260423T022118
CREATED:20210109T090228Z
LAST-MODIFIED:20211221T014010Z
UID:8599-1654765200-1654788600@www.santeelakes.com
SUMMARY:Summer Night Fishing
DESCRIPTION:Bring your lanterns and join us for a night of fishing!
URL:https://www.santeelakes.com/event/summer-night-fishing-6/
CATEGORIES:Park Events
END:VEVENT
BEGIN:VEVENT
DTSTART;TZID=America/Los_Angeles:20220423T220000
DTEND;TZID=America/Los_Angeles:20220424T110000
DTSTAMP:20260423T022118
CREATED:20210109T084355Z
LAST-MODIFIED:20220301T003525Z
UID:8586-1650751200-1650798000@www.santeelakes.com
SUMMARY:Catfish Opener
DESCRIPTION:2\,500 lbs. of Catfish!
URL:https://www.santeelakes.com/event/catfish-opener-2/
CATEGORIES:Park Events
END:VEVENT
BEGIN:VEVENT
DTSTART;TZID=America/Los_Angeles:20220422T220000
DTEND;TZID=America/Los_Angeles:20220423T110000
DTSTAMP:20260423T022118
CREATED:20200313T015944Z
LAST-MODIFIED:20220301T003604Z
UID:7500-1650664800-1650711600@www.santeelakes.com
SUMMARY:Catfish Opener
DESCRIPTION:2\,500 lbs. of Catfish for this weekend opener! \nParking $6 \nPermits:  $10 – Adult\, $6 – Junior/Seniors
URL:https://www.santeelakes.com/event/catfish-opener/
CATEGORIES:Park Events
ORGANIZER;CN="Santee Lakes Recreation Preserve":MAILTO:santeelakes@padre.org
END:VEVENT
BEGIN:VEVENT
DTSTART;TZID=America/Los_Angeles:20220114T220000
DTEND;TZID=America/Los_Angeles:20220116T090000
DTSTAMP:20260423T022118
CREATED:20220105T024145Z
LAST-MODIFIED:20220105T032909Z
UID:10019-1642197600-1642323600@www.santeelakes.com
SUMMARY:Trout Re-Opener
DESCRIPTION:Trout Re-Opening Weekend\nSaturday\, January 15 – Sunday\, January 16\n6:00AM- 5:00PM  \n2\,500 lbs. of Rainbow Trout will be stocked with large fish up to eight pounds in Lakes 2\, 3\, and 4 for our annual Trout Re-Opener.
URL:https://www.santeelakes.com/event/trout-re-opener/
END:VEVENT
BEGIN:VEVENT
DTSTART;TZID=America/Los_Angeles:20211231T100000
DTEND;TZID=America/Los_Angeles:20211231T130000
DTSTAMP:20260423T022118
CREATED:20211222T010531Z
LAST-MODIFIED:20211222T010559Z
UID:9956-1640944800-1640955600@www.santeelakes.com
SUMMARY:Campers - New Year's Eve!
DESCRIPTION:Join your fellow campers and ring in the New Year in the Clubhouse! \nThere will be games\, snacks\, and of course\, fun! \n6:00PM – 9:00PM (New York Time)
URL:https://www.santeelakes.com/event/9956/
CATEGORIES:Campground Events
END:VEVENT
BEGIN:VEVENT
DTSTART;TZID=America/Los_Angeles:20211220T000000
DTEND;TZID=America/Los_Angeles:20211229T090000
DTSTAMP:20260423T022118
CREATED:20201202T080636Z
LAST-MODIFIED:20211021T033352Z
UID:8532-1639958400-1640768400@www.santeelakes.com
SUMMARY:Campers Site Decoration Contest
DESCRIPTION:Campers\, let’s see your Holiday Spirit! Decorate your site for the holidays and win prizes. There will be prizes for: Merriest Decor\, 2021 Spirit\, and Ranger’s Choice. Prizes will be announced on December 30. Take some photos of your site and send to santeelakes@padre.org by December 29 at 5:o0PM. \nDon’t worry\, if you are not present on December 30\, we will mail your prize.
URL:https://www.santeelakes.com/event/8532/
LOCATION:Santee Lakes Recreation Preserve\, 9310 Fanita Parkway\, Santee\, CA\, 92071\, United States
CATEGORIES:Campground Events
ORGANIZER;CN="Santee Lakes Recreation Preserve":MAILTO:santeelakes@padre.org
END:VEVENT
BEGIN:VEVENT
DTSTART;TZID=America/Los_Angeles:20211211T020000
DTEND;TZID=America/Los_Angeles:20211211T060000
DTSTAMP:20260423T022118
CREATED:20211021T023159Z
LAST-MODIFIED:20211021T023729Z
UID:9757-1639188000-1639202400@www.santeelakes.com
SUMMARY:Santa at the Campground
DESCRIPTION:REGISTERED CAMPERS – The Big Guy will be here for some great photo ops along with the Bayou Bros with some spirited music to get you ready for the holidays! Decorate your cart or bike and be part of the golf cart parade with Santa in the lead to kick off this event. There will also be crafts for the kids. Event is 10:00AM-2:00PM and it is FREE.
URL:https://www.santeelakes.com/event/santa-at-the-campground/
CATEGORIES:Campground Events
END:VEVENT
BEGIN:VEVENT
DTSTART;TZID=America/Los_Angeles:20211127T000000
DTEND;TZID=America/Los_Angeles:20211127T023000
DTSTAMP:20260423T022118
CREATED:20210723T005936Z
LAST-MODIFIED:20211021T033629Z
UID:9563-1637971200-1637980200@www.santeelakes.com
SUMMARY:Lion's Club Pancake Breakfast
DESCRIPTION:Join the Lion’s Club for a good cause and some very good pancakes! \nEvent is Saturday\, November 27 from 8:00AM-10:30AM in the Clubhouse.
URL:https://www.santeelakes.com/event/lions-club-pancake-breakfast-3/
LOCATION:Santee Lakes Recreation Preserve\, 9310 Fanita Parkway\, Santee\, CA\, 92071\, United States
CATEGORIES:Campground Events
END:VEVENT
BEGIN:VEVENT
DTSTART;TZID=America/Los_Angeles:20211031T090000
DTEND;TZID=America/Los_Angeles:20211031T130000
DTSTAMP:20260423T022118
CREATED:20211021T030751Z
LAST-MODIFIED:20211021T030751Z
UID:9767-1635670800-1635685200@www.santeelakes.com
SUMMARY:Trick or Treat?
DESCRIPTION:Hey Campers\, it’s totally up to you whether or not you will allow trick-or-treaters to knock on your camper doors. \nWe have door hangers in the Park Office for either of your choices\, so please pick one up so the kiddos know whether or not to trick-or-treat at your site. \nThanks!
URL:https://www.santeelakes.com/event/trick-or-treat/
CATEGORIES:Campground Events
END:VEVENT
END:VCALENDAR