BEGIN:VCALENDAR
VERSION:2.0
PRODID:-//Santee Lakes - ECPv6.15.20//NONSGML v1.0//EN
CALSCALE:GREGORIAN
METHOD:PUBLISH
X-WR-CALNAME:Santee Lakes
X-ORIGINAL-URL:https://www.santeelakes.com
X-WR-CALDESC:Events for Santee Lakes
REFRESH-INTERVAL;VALUE=DURATION:PT1H
X-Robots-Tag:noindex
X-PUBLISHED-TTL:PT1H
BEGIN:VTIMEZONE
TZID:America/Los_Angeles
BEGIN:DAYLIGHT
TZOFFSETFROM:-0800
TZOFFSETTO:-0700
TZNAME:PDT
DTSTART:20190310T100000
END:DAYLIGHT
BEGIN:STANDARD
TZOFFSETFROM:-0700
TZOFFSETTO:-0800
TZNAME:PST
DTSTART:20191103T090000
END:STANDARD
BEGIN:DAYLIGHT
TZOFFSETFROM:-0800
TZOFFSETTO:-0700
TZNAME:PDT
DTSTART:20200308T100000
END:DAYLIGHT
BEGIN:STANDARD
TZOFFSETFROM:-0700
TZOFFSETTO:-0800
TZNAME:PST
DTSTART:20201101T090000
END:STANDARD
BEGIN:DAYLIGHT
TZOFFSETFROM:-0800
TZOFFSETTO:-0700
TZNAME:PDT
DTSTART:20210314T100000
END:DAYLIGHT
BEGIN:STANDARD
TZOFFSETFROM:-0700
TZOFFSETTO:-0800
TZNAME:PST
DTSTART:20211107T090000
END:STANDARD
BEGIN:DAYLIGHT
TZOFFSETFROM:-0800
TZOFFSETTO:-0700
TZNAME:PDT
DTSTART:20220313T100000
END:DAYLIGHT
BEGIN:STANDARD
TZOFFSETFROM:-0700
TZOFFSETTO:-0800
TZNAME:PST
DTSTART:20221106T090000
END:STANDARD
END:VTIMEZONE
BEGIN:VEVENT
DTSTART;TZID=America/Los_Angeles:20211220T000000
DTEND;TZID=America/Los_Angeles:20211229T090000
DTSTAMP:20260423T101902
CREATED:20201202T080636Z
LAST-MODIFIED:20211021T033352Z
UID:8532-1639958400-1640768400@www.santeelakes.com
SUMMARY:Campers Site Decoration Contest
DESCRIPTION:Campers\, let’s see your Holiday Spirit! Decorate your site for the holidays and win prizes. There will be prizes for: Merriest Decor\, 2021 Spirit\, and Ranger’s Choice. Prizes will be announced on December 30. Take some photos of your site and send to santeelakes@padre.org by December 29 at 5:o0PM. \nDon’t worry\, if you are not present on December 30\, we will mail your prize.
URL:https://www.santeelakes.com/event/8532/
LOCATION:Santee Lakes Recreation Preserve\, 9310 Fanita Parkway\, Santee\, CA\, 92071\, United States
CATEGORIES:Campground Events
ORGANIZER;CN="Santee Lakes Recreation Preserve":MAILTO:santeelakes@padre.org
END:VEVENT
BEGIN:VEVENT
DTSTART;TZID=America/Los_Angeles:20211211T020000
DTEND;TZID=America/Los_Angeles:20211211T060000
DTSTAMP:20260423T101902
CREATED:20211021T023159Z
LAST-MODIFIED:20211021T023729Z
UID:9757-1639188000-1639202400@www.santeelakes.com
SUMMARY:Santa at the Campground
DESCRIPTION:REGISTERED CAMPERS – The Big Guy will be here for some great photo ops along with the Bayou Bros with some spirited music to get you ready for the holidays! Decorate your cart or bike and be part of the golf cart parade with Santa in the lead to kick off this event. There will also be crafts for the kids. Event is 10:00AM-2:00PM and it is FREE.
URL:https://www.santeelakes.com/event/santa-at-the-campground/
CATEGORIES:Campground Events
END:VEVENT
BEGIN:VEVENT
DTSTART;TZID=America/Los_Angeles:20211127T000000
DTEND;TZID=America/Los_Angeles:20211127T023000
DTSTAMP:20260423T101902
CREATED:20210723T005936Z
LAST-MODIFIED:20211021T033629Z
UID:9563-1637971200-1637980200@www.santeelakes.com
SUMMARY:Lion's Club Pancake Breakfast
DESCRIPTION:Join the Lion’s Club for a good cause and some very good pancakes! \nEvent is Saturday\, November 27 from 8:00AM-10:30AM in the Clubhouse.
URL:https://www.santeelakes.com/event/lions-club-pancake-breakfast-3/
LOCATION:Santee Lakes Recreation Preserve\, 9310 Fanita Parkway\, Santee\, CA\, 92071\, United States
CATEGORIES:Campground Events
END:VEVENT
BEGIN:VEVENT
DTSTART;TZID=America/Los_Angeles:20211031T090000
DTEND;TZID=America/Los_Angeles:20211031T130000
DTSTAMP:20260423T101902
CREATED:20211021T030751Z
LAST-MODIFIED:20211021T030751Z
UID:9767-1635670800-1635685200@www.santeelakes.com
SUMMARY:Trick or Treat?
DESCRIPTION:Hey Campers\, it’s totally up to you whether or not you will allow trick-or-treaters to knock on your camper doors. \nWe have door hangers in the Park Office for either of your choices\, so please pick one up so the kiddos know whether or not to trick-or-treat at your site. \nThanks!
URL:https://www.santeelakes.com/event/trick-or-treat/
CATEGORIES:Campground Events
END:VEVENT
BEGIN:VEVENT
DTSTART;TZID=America/Los_Angeles:20211030T013000
DTEND;TZID=America/Los_Angeles:20211030T090000
DTSTAMP:20260423T101902
CREATED:20211021T020403Z
LAST-MODIFIED:20211021T031615Z
UID:9754-1635557400-1635584400@www.santeelakes.com
SUMMARY:Campers Campground Cornhole Tournament
DESCRIPTION:We are excited about our 3rd Annual Santee Lakes Campground Cornhole Tournament on Saturday\, October 30!\nFee is $20 per person and you Bring Your Own partner ($40 per team). Registration and practice begins at 9:30AM. Tournament start is at 11:00AM\, across from the Clubhouse on the lawn.\nBig Dev’s BBQ Food Truck will be on site.\nYou will get a 4-game minimum guarantee\, with a 2\, 3\, or 4 game Round Robin portion into a single or double elimination bracket\, depending on time.\n64 team max\, so be sure to come over and find us on the lawn early to lock in your spot.\nPrize payouts will be determined by total # of teams entered. More teams = MORE CASH!!\nUnder 16 teams pays 1st – 2nd place\n17-32 teams pays 1st – 3rd place\n33+ teams pays 1st – 4th place\nRegistered Campers and their guests only.
URL:https://www.santeelakes.com/event/campground-cornhole-tournament-2/
CATEGORIES:Campground Events
END:VEVENT
BEGIN:VEVENT
DTSTART;TZID=America/Los_Angeles:20211030T000000
DTEND;TZID=America/Los_Angeles:20211030T143000
DTSTAMP:20260423T101902
CREATED:20210723T005821Z
LAST-MODIFIED:20211021T033746Z
UID:9561-1635552000-1635604200@www.santeelakes.com
SUMMARY:Lion's Club Pancake Breakfast
DESCRIPTION:Join the Lion’s Club for a good cause and some very good pancakes! \nEvent is Saturday\, October 30 from 8:00AM-10:30AM in the Clubhouse. \n 
URL:https://www.santeelakes.com/event/lions-club-pancake-breakfast-2/
LOCATION:Santee Lakes Recreation Preserve\, 9310 Fanita Parkway\, Santee\, CA\, 92071\, United States
CATEGORIES:Campground Events
END:VEVENT
BEGIN:VEVENT
DTSTART;TZID=America/Los_Angeles:20211029T100000
DTEND;TZID=America/Los_Angeles:20211029T120000
DTSTAMP:20260423T101902
CREATED:20211021T030353Z
LAST-MODIFIED:20211021T031007Z
UID:9764-1635501600-1635508800@www.santeelakes.com
SUMMARY:Camper Costume Candy Bar BINGO!
DESCRIPTION:Come play a camper favorite in your costume! \nCostume Candy Bar BINGO will be on Friday October 29 in the Clubhouse from 6:00PM-8:00PM. \nPrizes for Most Creative and Cutest costumes.
URL:https://www.santeelakes.com/event/camper-costume-candy-bar-bingo/
CATEGORIES:Campground Events
END:VEVENT
BEGIN:VEVENT
DTSTART;TZID=America/Los_Angeles:20211022T100000
DTEND;TZID=America/Los_Angeles:20211022T120000
DTSTAMP:20260423T101902
CREATED:20211021T024119Z
LAST-MODIFIED:20211021T031438Z
UID:9759-1634896800-1634904000@www.santeelakes.com
SUMMARY:Halloween Crafts for Kids
DESCRIPTION:Bring those kiddos to the Clubhouse for some Halloween Crafts! \nEvent is Friday\, October 22 from 6:00PM-8:00PM.
URL:https://www.santeelakes.com/event/halloween-crafts-for-kids/
CATEGORIES:Campground Events
END:VEVENT
BEGIN:VEVENT
DTSTART;TZID=America/Los_Angeles:20210828T000000
DTEND;TZID=America/Los_Angeles:20210828T023000
DTSTAMP:20260423T101902
CREATED:20210723T004947Z
LAST-MODIFIED:20210723T005226Z
UID:9559-1630108800-1630117800@www.santeelakes.com
SUMMARY:Lion's Club Pancake Breakfast
DESCRIPTION:Join the Lion’s Club for a good cause and some very good pancakes! \nSaturday August 28th \n8:00AM-10:30AM
URL:https://www.santeelakes.com/event/lions-club-pancake-breakfast/
LOCATION:Santee Lakes Recreation Preserve\, 9310 Fanita Parkway\, Santee\, CA\, 92071\, United States
END:VEVENT
BEGIN:VEVENT
DTSTART;TZID=America/Los_Angeles:20210815T073000
DTEND;TZID=America/Los_Angeles:20210815T093000
DTSTAMP:20260423T101902
CREATED:20210723T010359Z
LAST-MODIFIED:20210723T013302Z
UID:9565-1629012600-1629019800@www.santeelakes.com
SUMMARY:Camper's Ice Cream Sundays
DESCRIPTION:Danny’s Ice Cream Truck will be waiting for you outside of the Clubhouse in the Campground on select Sundays in August! \nAugust 15\, August 22\, August 29 \n3:30PM-5:30PM
URL:https://www.santeelakes.com/event/ice-cream-sundays/
LOCATION:Santee Lakes Recreation Preserve\, 9310 Fanita Parkway\, Santee\, CA\, 92071\, United States
CATEGORIES:Campground Events
END:VEVENT
BEGIN:VEVENT
DTSTART;TZID=America/Los_Angeles:20210814T110000
DTEND;TZID=America/Los_Angeles:20210814T130000
DTSTAMP:20260423T101902
CREATED:20210723T003704Z
LAST-MODIFIED:20210723T013204Z
UID:9552-1628938800-1628946000@www.santeelakes.com
SUMMARY:Campers Concert with StreetHeart
DESCRIPTION:Come listen to some great music at our Campground Concert\, featuring StreetHeart! \nThey will be playing on the west Clubhouse Lawn from 7:00PM-9:00PM. \nBring your lawn chairs or blankets and get ready to dance!
URL:https://www.santeelakes.com/event/concert-with-streetheart/
LOCATION:Santee Lakes Recreation Preserve\, 9310 Fanita Parkway\, Santee\, CA\, 92071\, United States
CATEGORIES:Campground Events
END:VEVENT
BEGIN:VEVENT
DTSTART;TZID=America/Los_Angeles:20210814T090000
DTEND;TZID=America/Los_Angeles:20210814T110000
DTSTAMP:20260423T101902
CREATED:20210723T010756Z
LAST-MODIFIED:20210723T013357Z
UID:9572-1628931600-1628938800@www.santeelakes.com
SUMMARY:Kona Ice for Campers
DESCRIPTION:Kona Ice will be in the Campground along with some fun events! \nFriday August 6 \n5:00PM-6:00PM \nSaturday August 14 \n5:00PM-7:00PM
URL:https://www.santeelakes.com/event/kona-ice-2021-08-14/
LOCATION:Santee Lakes Recreation Preserve\, 9310 Fanita Parkway\, Santee\, CA\, 92071\, United States
CATEGORIES:Campground Events
END:VEVENT
BEGIN:VEVENT
DTSTART;TZID=America/Los_Angeles:20210813T030000
DTEND;TZID=America/Los_Angeles:20210813T040000
DTSTAMP:20260423T101902
CREATED:20210723T003204Z
LAST-MODIFIED:20210723T013508Z
UID:9550-1628823600-1628827200@www.santeelakes.com
SUMMARY:Campers - Explore Wildlife with Ranger Richard & Ranger Rob
DESCRIPTION:Come have some fun and learn about the animals you will find at Santee Lakes! \nAll ages welcome! \nMeet in front of the Clubhouse at 11:00AM
URL:https://www.santeelakes.com/event/explore-wildlife-with-ranger-richard-ranger-rob/
LOCATION:Santee Lakes Recreation Preserve\, 9310 Fanita Parkway\, Santee\, CA\, 92071\, United States
CATEGORIES:Campground Events
END:VEVENT
BEGIN:VEVENT
DTSTART;TZID=America/Los_Angeles:20210806T100000
DTEND;TZID=America/Los_Angeles:20210806T120000
DTSTAMP:20260423T101902
CREATED:20210723T003006Z
LAST-MODIFIED:20210723T013525Z
UID:9548-1628244000-1628251200@www.santeelakes.com
SUMMARY:Campers Candy Bar Bingo!
DESCRIPTION:Bring a candy bar and play Candy Bar Bingo at the Clubhouse! \n6:00PM-8:00PM
URL:https://www.santeelakes.com/event/candy-bar-bingo/
LOCATION:Santee Lakes Recreation Preserve\, 9310 Fanita Parkway\, Santee\, CA\, 92071\, United States
CATEGORIES:Campground Events
END:VEVENT
BEGIN:VEVENT
DTSTART;TZID=America/Los_Angeles:20210806T090000
DTEND;TZID=America/Los_Angeles:20210806T100000
DTSTAMP:20260423T101902
CREATED:20210723T010756Z
LAST-MODIFIED:20210723T013357Z
UID:9569-1628240400-1628244000@www.santeelakes.com
SUMMARY:Kona Ice for Campers
DESCRIPTION:Kona Ice will be in the Campground along with some fun events! \nFriday August 6 \n5:00PM-6:00PM \nSaturday August 14 \n5:00PM-7:00PM
URL:https://www.santeelakes.com/event/kona-ice/
LOCATION:Santee Lakes Recreation Preserve\, 9310 Fanita Parkway\, Santee\, CA\, 92071\, United States
CATEGORIES:Campground Events
END:VEVENT
BEGIN:VEVENT
DTSTART;TZID=America/Los_Angeles:20210730T100000
DTEND;TZID=America/Los_Angeles:20210730T120000
DTSTAMP:20260423T101902
CREATED:20210723T002818Z
LAST-MODIFIED:20210723T013606Z
UID:9546-1627639200-1627646400@www.santeelakes.com
SUMMARY:Camper - Games on the Lawn
DESCRIPTION:Come have some fun & games on lawn across from the Clubhouse! \n6:00PM
URL:https://www.santeelakes.com/event/games-on-the-lawn/
LOCATION:Santee Lakes Recreation Preserve\, 9310 Fanita Parkway\, Santee\, CA\, 92071\, United States
CATEGORIES:Campground Events
END:VEVENT
BEGIN:VEVENT
DTSTART;TZID=America/Los_Angeles:20210723T100000
DTEND;TZID=America/Los_Angeles:20210723T120000
DTSTAMP:20260423T101902
CREATED:20210723T002511Z
LAST-MODIFIED:20210723T013623Z
UID:9543-1627034400-1627041600@www.santeelakes.com
SUMMARY:Camper Pedal Boat Bingo!
DESCRIPTION:Come play Pedal Boat Bingo at the Clubhouse! \n6:00PM-8:00PM
URL:https://www.santeelakes.com/event/pedal-boat-bingo/
LOCATION:Santee Lakes Recreation Preserve\, 9310 Fanita Parkway\, Santee\, CA\, 92071\, United States
CATEGORIES:Campground Events
END:VEVENT
BEGIN:VEVENT
DTSTART;TZID=America/Los_Angeles:20210115T220000
DTEND;TZID=America/Los_Angeles:20210117T090000
DTSTAMP:20260423T101902
CREATED:20201117T060604Z
LAST-MODIFIED:20201117T060755Z
UID:8524-1610748000-1610874000@www.santeelakes.com
SUMMARY:Trout Season Re-Opener 2021
DESCRIPTION:TROUT SEASON RE-OPENER \nJanuary 16 & 17
URL:https://www.santeelakes.com/event/8524/
ORGANIZER;CN="Santee Lakes Recreation Preserve":MAILTO:santeelakes@padre.org
END:VEVENT
BEGIN:VEVENT
DTSTART;TZID=America/Los_Angeles:20200606T050000
DTEND;TZID=America/Los_Angeles:20200606T090000
DTSTAMP:20260423T101902
CREATED:20200528T050943Z
LAST-MODIFIED:20200530T003053Z
UID:8183-1591419600-1591434000@www.santeelakes.com
SUMMARY:Campground Cornhole Tournament
DESCRIPTION:The Cornhole Tournament is on! Saturday\, June 6\, 2020 on the lawn near the Clubhouse. Fee is $20 per person (cash only) and there will be cash prizes! Registration begins at 1:00 PM\, tournament at 2:00 PM\, across from the Clubhouse on the lawn.  Social distancing and facial covering rules will apply.
URL:https://www.santeelakes.com/event/campground-cornhole-tournament/
CATEGORIES:Campground Events
END:VEVENT
BEGIN:VEVENT
DTSTART;TZID=America/Los_Angeles:20200404T010000
DTEND;TZID=America/Los_Angeles:20200404T070000
DTSTAMP:20260423T101902
CREATED:20200307T030915Z
LAST-MODIFIED:20200421T065311Z
UID:7485-1585962000-1585983600@www.santeelakes.com
SUMMARY:Eggstravaganza
DESCRIPTION:EGGSTRAVAGANZA HAS BEEN CANCELLED.\nFor details\, please visit Egghuntsantee.com \n \nAt this time the City of Santee and Santee Lakes have mutually decided to cancel the 2020 Spring Eggstravaganza based on the guidance of public health organizations to protect public health and slow the spread of COVID-19. \nThe City of Santee and Santee Lakes are constantly receiving information and updates from the Center for Disease Control (CDC) and County of San Diego Health & Human Services. Regular updates in regard to the City of Santee and Santee Lakes agency services and events will be posted on each agency’s website and social media. Please enjoy and celebrate in small gatherings with families and friends in lieu of the event. \nCity of Santee https://www.cityofsanteeca.gov/our-city/public-notice \n 
URL:https://www.santeelakes.com/event/eggstravaganza/
LOCATION:Santee Lakes Recreation Preserve\, 9310 Fanita Parkway\, Santee\, CA\, 92071\, United States
CATEGORIES:Park Events
ORGANIZER;CN="Santee Lakes Recreation Preserve":MAILTO:santeelakes@padre.org
END:VEVENT
BEGIN:VEVENT
DTSTART;TZID=America/Los_Angeles:20200307T110000
DTEND;TZID=America/Los_Angeles:20200307T160000
DTSTAMP:20260423T101902
CREATED:20200206T064850Z
LAST-MODIFIED:20200211T061431Z
UID:7380-1583578800-1583596800@www.santeelakes.com
SUMMARY:Swimbait Invasion Expo
DESCRIPTION:Shop from a variety of vendors including swimbaits\, apparel\, food\, and more!  More details to follow. \nFollow us on Facebook and Instagram for up to the minute details on our events!
URL:https://www.santeelakes.com/event/swimbait-invasion-expo/
CATEGORIES:Park Events
END:VEVENT
BEGIN:VEVENT
DTSTART;TZID=America/Los_Angeles:20200228T100000
DTEND;TZID=America/Los_Angeles:20200228T120000
DTSTAMP:20260423T101902
CREATED:20200206T080748Z
LAST-MODIFIED:20200211T060849Z
UID:7397-1582884000-1582891200@www.santeelakes.com
SUMMARY:Campground Campfire!
DESCRIPTION:Love a good campfire? Join us at the giant Lakeshore Fire Ring. Music provided by Michael Goodrich on the acoustic guitar. Make S’mores with your fellow campers! S’more fixings provided. Parking is very limited so it’s best to walk to the site with your flashlight.
URL:https://www.santeelakes.com/event/campground-campfire/
CATEGORIES:Campground Events
END:VEVENT
END:VCALENDAR