BEGIN:VCALENDAR
VERSION:2.0
PRODID:-//Santee Lakes - ECPv6.15.20//NONSGML v1.0//EN
CALSCALE:GREGORIAN
METHOD:PUBLISH
X-WR-CALNAME:Santee Lakes
X-ORIGINAL-URL:https://www.santeelakes.com
X-WR-CALDESC:Events for Santee Lakes
REFRESH-INTERVAL;VALUE=DURATION:PT1H
X-Robots-Tag:noindex
X-PUBLISHED-TTL:PT1H
BEGIN:VTIMEZONE
TZID:America/Los_Angeles
BEGIN:DAYLIGHT
TZOFFSETFROM:-0800
TZOFFSETTO:-0700
TZNAME:PDT
DTSTART:20230312T100000
END:DAYLIGHT
BEGIN:STANDARD
TZOFFSETFROM:-0700
TZOFFSETTO:-0800
TZNAME:PST
DTSTART:20231105T090000
END:STANDARD
BEGIN:DAYLIGHT
TZOFFSETFROM:-0800
TZOFFSETTO:-0700
TZNAME:PDT
DTSTART:20240310T100000
END:DAYLIGHT
BEGIN:STANDARD
TZOFFSETFROM:-0700
TZOFFSETTO:-0800
TZNAME:PST
DTSTART:20241103T090000
END:STANDARD
BEGIN:DAYLIGHT
TZOFFSETFROM:-0800
TZOFFSETTO:-0700
TZNAME:PDT
DTSTART:20250309T100000
END:DAYLIGHT
BEGIN:STANDARD
TZOFFSETFROM:-0700
TZOFFSETTO:-0800
TZNAME:PST
DTSTART:20251102T090000
END:STANDARD
END:VTIMEZONE
BEGIN:VEVENT
DTSTART;TZID=America/Los_Angeles:20240824T090000
DTEND;TZID=America/Los_Angeles:20240824T110000
DTSTAMP:20260422T152350
CREATED:20240504T072943Z
LAST-MODIFIED:20240504T072943Z
UID:13077-1724490000-1724497200@www.santeelakes.com
SUMMARY:Summer Jams on Deck - Haley Peterson
DESCRIPTION:Enjoy a great concert\, featuring Haley Peterson\, and great food on the beautiful deck at Lake 4 on select Saturdays this summer.
URL:https://www.santeelakes.com/event/summer-jams-on-deck-haley-peterson/
CATEGORIES:Campground Events,Park Events
END:VEVENT
BEGIN:VEVENT
DTSTART;TZID=America/Los_Angeles:20240824T020000
DTEND;TZID=America/Los_Angeles:20240824T030000
DTSTAMP:20260422T152350
CREATED:20240808T055821Z
LAST-MODIFIED:20240808T055821Z
UID:13263-1724464800-1724468400@www.santeelakes.com
SUMMARY:Outdoor Games - Soccer
DESCRIPTION:Join us on the lawn for a fun game of soccer!
URL:https://www.santeelakes.com/event/outdoor-games-soccer/
CATEGORIES:Campground Events
END:VEVENT
BEGIN:VEVENT
DTSTART;TZID=America/Los_Angeles:20240823T090000
DTEND;TZID=America/Los_Angeles:20240823T153000
DTSTAMP:20260422T152350
CREATED:20231213T041248Z
LAST-MODIFIED:20231213T041248Z
UID:12719-1724403600-1724427000@www.santeelakes.com
SUMMARY:Night Fishing
DESCRIPTION:Bring your lanterns\, but not your radios\, and join us for some fishing under the stars! \nGrab your permit at the General Store.
URL:https://www.santeelakes.com/event/night-fishing-11/
LOCATION:Santee Lakes Recreation Preserve\, 9310 Fanita Parkway\, Santee\, CA\, 92071\, United States
CATEGORIES:Campground Events,Park Events
END:VEVENT
BEGIN:VEVENT
DTSTART;TZID=America/Los_Angeles:20240817T100000
DTEND;TZID=America/Los_Angeles:20240817T113000
DTSTAMP:20260422T152350
CREATED:20240807T013238Z
LAST-MODIFIED:20240807T015847Z
UID:13253-1723888800-1723894200@www.santeelakes.com
SUMMARY:Trivia Night - PRIZES!
DESCRIPTION:Join us in the clubhouse for a fun night of Trivia with a PROFESSIONAL Trivia guy! \nFun begins at 6:00PM and this event is open to ages 14 and up.
URL:https://www.santeelakes.com/event/trivia-night-prizes/
CATEGORIES:Campground Events
END:VEVENT
BEGIN:VEVENT
DTSTART;TZID=America/Los_Angeles:20240817T090000
DTEND;TZID=America/Los_Angeles:20240817T110000
DTSTAMP:20260422T152350
CREATED:20240409T034408Z
LAST-MODIFIED:20240409T034408Z
UID:13036-1723885200-1723892400@www.santeelakes.com
SUMMARY:Summer Jams on Deck - Summer Breeze SD
DESCRIPTION:Enjoy a great concert and great food on the beautiful deck at Lake 4 on select Saturdays this summer. \nThink Steely Dan\, Hall & Oats\, Yacht Rock and the 70’s!
URL:https://www.santeelakes.com/event/summer-jams-on-deck-summer-breeze-sd/
CATEGORIES:Campground Events,Park Events
END:VEVENT
BEGIN:VEVENT
DTSTART;TZID=America/Los_Angeles:20240817T020000
DTEND;TZID=America/Los_Angeles:20240817T150000
DTSTAMP:20260422T152350
CREATED:20240808T055705Z
LAST-MODIFIED:20240808T055705Z
UID:13260-1723860000-1723906800@www.santeelakes.com
SUMMARY:Outdoor Games - Dodge Ball
DESCRIPTION:Join us outside on the lawn for a great game of dodge ball!
URL:https://www.santeelakes.com/event/outdoor-games-dodge-ball/
CATEGORIES:Campground Events
END:VEVENT
BEGIN:VEVENT
DTSTART;TZID=America/Los_Angeles:20240817T020000
DTEND;TZID=America/Los_Angeles:20240817T040000
DTSTAMP:20260422T152350
CREATED:20240405T022702Z
LAST-MODIFIED:20240405T022702Z
UID:13002-1723860000-1723867200@www.santeelakes.com
SUMMARY:Paint & Sip on Deck - Beach Sunset
DESCRIPTION:Paint & Sip on Deck is back by popular demand! We now have our series dates and times all set.  You will need to register when each date becomes available at https://www.paintingmakesperfect.com/ \n$35 per participant\, which includes all supplies.
URL:https://www.santeelakes.com/event/paint-sip-on-deck-beach-sunset/
CATEGORIES:Campground Events,Park Events
END:VEVENT
BEGIN:VEVENT
DTSTART;TZID=America/Los_Angeles:20240810T100000
DTEND;TZID=America/Los_Angeles:20240810T130000
DTSTAMP:20260422T152350
CREATED:20240508T034006Z
LAST-MODIFIED:20240508T034413Z
UID:13085-1723284000-1723294800@www.santeelakes.com
SUMMARY:Summer Movies in the Park - Migration | PG
DESCRIPTION:We are partnering with the County of San Diego to bring you Migration! This adorable film is about overcoming your fears and opening yourself up to the world and its opportunities. There will be pre-show fun with games\, inflatable\, community booths\, face painter\, snack bar\, food trucks and more! The event begins at 6:00PM and movie begins at sundown. There will be more details to follow.
URL:https://www.santeelakes.com/event/summer-movies-in-the-park-migration-pg/
END:VEVENT
BEGIN:VEVENT
DTSTART;TZID=America/Los_Angeles:20240810T073000
DTEND;TZID=America/Los_Angeles:20240810T090000
DTSTAMP:20260422T152350
CREATED:20240113T045400Z
LAST-MODIFIED:20240726T005528Z
UID:12835-1723275000-1723280400@www.santeelakes.com
SUMMARY:Bike Cruise & Root Beer Floats in the Campground
DESCRIPTION:We are excited to bring you back to the 1950’s! \nGrab your bike/golf cart and join us for a Campground Cruise! \nWe will end the event at the Clubhouse with some old fashioned root beer floats! \nAll children must be accompanied by an adult. \nREMINDER: Summer Movie | Migration | Fun begins at 6:00PM
URL:https://www.santeelakes.com/event/1950-bike-cruise-in-the-campgroud/
CATEGORIES:Campground Events
END:VEVENT
BEGIN:VEVENT
DTSTART;TZID=America/Los_Angeles:20240810T020000
DTEND;TZID=America/Los_Angeles:20240810T030000
DTSTAMP:20260422T152350
CREATED:20240808T055519Z
LAST-MODIFIED:20240808T055538Z
UID:13258-1723255200-1723258800@www.santeelakes.com
SUMMARY:Outdoor Games - Wiffle Ball
DESCRIPTION:Join us on the lawn for a fun game of wiffle ball!
URL:https://www.santeelakes.com/event/outdoor-games-wiffle-ball/
CATEGORIES:Campground Events
END:VEVENT
BEGIN:VEVENT
DTSTART;TZID=America/Los_Angeles:20240808T090000
DTEND;TZID=America/Los_Angeles:20240808T153000
DTSTAMP:20260422T152350
CREATED:20231213T041206Z
LAST-MODIFIED:20231213T041206Z
UID:12717-1723107600-1723131000@www.santeelakes.com
SUMMARY:Night Fishing
DESCRIPTION:Bring your lanterns\, but not your radios\, and join us for some fishing under the stars! \nGrab your permit at the General Store.
URL:https://www.santeelakes.com/event/night-fishing-10/
LOCATION:Santee Lakes Recreation Preserve\, 9310 Fanita Parkway\, Santee\, CA\, 92071\, United States
CATEGORIES:Campground Events,Park Events
END:VEVENT
BEGIN:VEVENT
DTSTART;TZID=America/Los_Angeles:20240803T090000
DTEND;TZID=America/Los_Angeles:20240803T110000
DTSTAMP:20260422T152350
CREATED:20240409T025150Z
LAST-MODIFIED:20240409T025253Z
UID:13027-1722675600-1722682800@www.santeelakes.com
SUMMARY:Summer Jams on Deck - Ashley Norton
DESCRIPTION:Enjoy a great concert and great food on the beautiful deck at Lake 4 on select Saturdays this summer. \n Ashley’s live shows consist of songs from all of her albums plus unique versions of covers you know and love!
URL:https://www.santeelakes.com/event/summer-jams-on-deck-ashley-norton/
CATEGORIES:Campground Events,Park Events
END:VEVENT
BEGIN:VEVENT
DTSTART;TZID=America/Los_Angeles:20240803T060000
DTEND;TZID=America/Los_Angeles:20240803T130000
DTSTAMP:20260422T152350
CREATED:20240113T044900Z
LAST-MODIFIED:20240725T033149Z
UID:12833-1722664800-1722690000@www.santeelakes.com
SUMMARY:Back to School Luau and throwback Dive-in Movie featuring: Lilo & Stitch | PG
DESCRIPTION:Hey Campers! Join us for some fun under the sun at our 2nd annual Campground Luau! \nYou will be entertained by sounds of Ace Tropic from 2PM-5PM! \nThere will be lots of fun things to do and the evening will finish with a throwback dive-in movie: Lilo & Stitch | PG. \n\nWaterslide\nFace painting\nCraft\nGames\nVolcanoes (yes\, volcanoes)\nHula hoops\nGiant tic-tac-toe\nCornhole\nTug-o-war\n\nL & L Hawaiian food will be on site. \nMovie begins at 7:45PM ish. \nAll children must be accompanied by an adult for the duration of the event.
URL:https://www.santeelakes.com/event/back-to-school-luau-and-throwback-dive-in-movie-featuring-lilo-stitch-pg/
LOCATION:Pool Area
CATEGORIES:Campground Events
END:VEVENT
BEGIN:VEVENT
DTSTART;TZID=America/Los_Angeles:20240727T090000
DTEND;TZID=America/Los_Angeles:20240727T110000
DTSTAMP:20260422T152350
CREATED:20240409T024638Z
LAST-MODIFIED:20240725T032850Z
UID:13025-1722070800-1722078000@www.santeelakes.com
SUMMARY:Summer Jams on Deck - John Bowe
DESCRIPTION:Enjoy a great concert and great food on the beautiful deck at Lake 4 on select Saturdays this summer. \nClassic Rock and R&B from the 60s & 70s!
URL:https://www.santeelakes.com/event/summer-jams-on-deck-gary-seiler-2/
CATEGORIES:Campground Events,Park Events
END:VEVENT
BEGIN:VEVENT
DTSTART;TZID=America/Los_Angeles:20240727T050000
DTEND;TZID=America/Los_Angeles:20240727T063000
DTSTAMP:20260422T152350
CREATED:20240113T035934Z
LAST-MODIFIED:20240113T035934Z
UID:12831-1722056400-1722061800@www.santeelakes.com
SUMMARY:Ice Cream Social
DESCRIPTION:Ice Cream for all! \nJoin us for our ice cream social on the Campground Lawn. \nEvent begins at 1:00PM and will go until it’s gone! \nAll children must be accompanied by an adult.
URL:https://www.santeelakes.com/event/ice-cream-social-5/
CATEGORIES:Campground Events
END:VEVENT
BEGIN:VEVENT
DTSTART;TZID=America/Los_Angeles:20240727T000000
DTEND;TZID=America/Los_Angeles:20240727T023000
DTSTAMP:20260422T152350
CREATED:20240125T033348Z
LAST-MODIFIED:20240125T033348Z
UID:12928-1722038400-1722047400@www.santeelakes.com
SUMMARY:Lion's Club Pancake Breakfast
DESCRIPTION:Come enjoy a yummy pancake breakfast at the Campground Clubhouse for a great cause!\n$10 | Adults\n$5 | 12 & Under
URL:https://www.santeelakes.com/event/lions-club-pancake-breakfast-19/
CATEGORIES:Campground Events,Park Events
END:VEVENT
BEGIN:VEVENT
DTSTART;TZID=America/Los_Angeles:20240726T090000
DTEND;TZID=America/Los_Angeles:20240726T153000
DTSTAMP:20260422T152350
CREATED:20231228T004328Z
LAST-MODIFIED:20231228T004328Z
UID:12758-1721984400-1722007800@www.santeelakes.com
SUMMARY:Night Fishing
DESCRIPTION:Bring your lanterns\, but not your radios\, and join us for some fishing under the stars! Grab your permit at the General Store.
URL:https://www.santeelakes.com/event/night-fishing-12/
CATEGORIES:Campground Events,Park Events
END:VEVENT
BEGIN:VEVENT
DTSTART;TZID=America/Los_Angeles:20240720T100000
DTEND;TZID=America/Los_Angeles:20240720T120000
DTSTAMP:20260422T152350
CREATED:20240113T035718Z
LAST-MODIFIED:20240113T035718Z
UID:12829-1721469600-1721476800@www.santeelakes.com
SUMMARY:PJs & Popcorn Movie Night
DESCRIPTION:Come enjoy a family-friendly movie in your PJs! \nMovie TBD \nClubhouse \nAll children must be accompanied by an adult.
URL:https://www.santeelakes.com/event/pjs-popcorn-movie-night/
CATEGORIES:Campground Events
END:VEVENT
BEGIN:VEVENT
DTSTART;TZID=America/Los_Angeles:20240720T090000
DTEND;TZID=America/Los_Angeles:20240720T110000
DTSTAMP:20260422T152350
CREATED:20240409T025439Z
LAST-MODIFIED:20240409T025613Z
UID:13029-1721466000-1721473200@www.santeelakes.com
SUMMARY:Summer Jams on Deck - Harmonica John
DESCRIPTION:Enjoy a great concert and great food on the beautiful deck at Lake 4 on select Saturdays this summer. \nHarmonica John plays guitar and harmonica to accompany his vocals on a wide range of classic rock\, motown\, Americana\, and original tunes.
URL:https://www.santeelakes.com/event/summer-jams-on-deck-harmonica-john/
CATEGORIES:Campground Events,Park Events
END:VEVENT
BEGIN:VEVENT
DTSTART;TZID=America/Los_Angeles:20240720T020000
DTEND;TZID=America/Los_Angeles:20240720T040000
DTSTAMP:20260422T152350
CREATED:20240405T022524Z
LAST-MODIFIED:20240405T022554Z
UID:13000-1721440800-1721448000@www.santeelakes.com
SUMMARY:Paint & Sip on Deck - Paradise
DESCRIPTION:Paint & Sip on Deck is back by popular demand! We now have our series dates and times all set.  You will need to register when each date becomes available at https://www.paintingmakesperfect.com/ \n$35 per participant\, which includes all supplies.
URL:https://www.santeelakes.com/event/paint-sip-on-deck-paradise/
CATEGORIES:Campground Events,Park Events
END:VEVENT
BEGIN:VEVENT
DTSTART;TZID=America/Los_Angeles:20240713T100000
DTEND;TZID=America/Los_Angeles:20240713T120000
DTSTAMP:20260422T152350
CREATED:20240113T035348Z
LAST-MODIFIED:20240113T035348Z
UID:12827-1720864800-1720872000@www.santeelakes.com
SUMMARY:BINGO!
DESCRIPTION:You never know what will happen at BINGO! \nCome find out.  There are prizes. \nAll children must be accompanied by an adult.
URL:https://www.santeelakes.com/event/bingo-4/
CATEGORIES:Campground Events
END:VEVENT
BEGIN:VEVENT
DTSTART;TZID=America/Los_Angeles:20240713T090000
DTEND;TZID=America/Los_Angeles:20240713T110000
DTSTAMP:20260422T152350
CREATED:20240409T024204Z
LAST-MODIFIED:20240409T024204Z
UID:13023-1720861200-1720868400@www.santeelakes.com
SUMMARY:Summer Jams on Deck - Miranda Ramos
DESCRIPTION:Enjoy a great concert and great food on the beautiful deck at Lake 4 on select Saturdays this summer. \nIncredible country music artist\, Miranda Ramos\, captivates audiences with her unbelievable vocal talent and relatable\, fun personality!
URL:https://www.santeelakes.com/event/summer-jams-on-deck-miranda-ramos/
CATEGORIES:Campground Events,Park Events
END:VEVENT
BEGIN:VEVENT
DTSTART;TZID=America/Los_Angeles:20240711T090000
DTEND;TZID=America/Los_Angeles:20240711T153000
DTSTAMP:20260422T152350
CREATED:20231213T041116Z
LAST-MODIFIED:20231213T041116Z
UID:12715-1720688400-1720711800@www.santeelakes.com
SUMMARY:Night Fishing
DESCRIPTION:Bring your lanterns\, but not your radios\, and join us for some fishing under the stars! \nGrab your permit at the General Store.
URL:https://www.santeelakes.com/event/night-fishing-9/
LOCATION:Santee Lakes Recreation Preserve\, 9310 Fanita Parkway\, Santee\, CA\, 92071\, United States
CATEGORIES:Campground Events,Park Events
END:VEVENT
BEGIN:VEVENT
DTSTART;TZID=America/Los_Angeles:20240706T120000
DTEND;TZID=America/Los_Angeles:20240706T140000
DTSTAMP:20260422T152350
CREATED:20240113T035042Z
LAST-MODIFIED:20240113T035042Z
UID:12825-1720267200-1720274400@www.santeelakes.com
SUMMARY:Dive-in Movie: Independence Day | PG-13
DESCRIPTION:Join us at the pool to continue celebrating the holiday! \nIndependence Day | PG-13 \nMovie begins at 8:00PMish. \nAll children must be accompanied by an adult.
URL:https://www.santeelakes.com/event/dive-in-movie-independence-day-pg-13/
CATEGORIES:Campground Events
END:VEVENT
BEGIN:VEVENT
DTSTART;TZID=America/Los_Angeles:20240706T090000
DTEND;TZID=America/Los_Angeles:20240706T110000
DTSTAMP:20260422T152350
CREATED:20240409T031813Z
LAST-MODIFIED:20240409T034016Z
UID:13031-1720256400-1720263600@www.santeelakes.com
SUMMARY:Summer Jams on Deck - Joe Rathburn
DESCRIPTION:Enjoy a great concert and great food on the beautiful deck at Lake 4 on select Saturdays this summer. \nJoe Rathburn\, good tunes done well. Acoustic\, Electric\, always Eclectic!
URL:https://www.santeelakes.com/event/summer-jams-on-deck-joe-rathburn/
CATEGORIES:Campground Events,Park Events
END:VEVENT
BEGIN:VEVENT
DTSTART;TZID=America/Los_Angeles:20240704T040000
DTEND;TZID=America/Los_Angeles:20240704T090000
DTSTAMP:20260422T152350
CREATED:20240112T071041Z
LAST-MODIFIED:20240120T083914Z
UID:12817-1720065600-1720083600@www.santeelakes.com
SUMMARY:4th of July Golf Cart/Bike Parade - Concert with Halo Effect
DESCRIPTION:Celebrate Freedom by decorating your golf cart/bike/or whatever and join the parade! \nDIY face painting adds a bit of fun to the celebration. \nThere are prizes for best decor. \nAfter the parade\, join the band for a festive concert on the lawn. \nParade Registration | 12:00PM \nParade Begins | 1:00PM \nHalo Effect Concert | 3:00PM \n 
URL:https://www.santeelakes.com/event/4th-of-july-golf-cart-bike-parade-concert/
CATEGORIES:Campground Events
END:VEVENT
BEGIN:VEVENT
DTSTART;TZID=America/Los_Angeles:20240629T090000
DTEND;TZID=America/Los_Angeles:20240629T110000
DTSTAMP:20260422T152350
CREATED:20240409T022913Z
LAST-MODIFIED:20240409T023013Z
UID:13015-1719651600-1719658800@www.santeelakes.com
SUMMARY:Summer Jams on Deck - Michael Dan Goodrich
DESCRIPTION:Enjoy a great concert on the beautiful deck at Lake 4 on select Saturdays this summer! \nAmericana Country Music\, think 80’s\, 90s\, CCR\, Bob Seger\, the Stones…
URL:https://www.santeelakes.com/event/summer-jams-on-deck-michael-dan-goodrich/
CATEGORIES:Campground Events,Park Events
END:VEVENT
BEGIN:VEVENT
DTSTART;TZID=America/Los_Angeles:20240629T050000
DTEND;TZID=America/Los_Angeles:20240629T063000
DTSTAMP:20260422T152350
CREATED:20240112T063920Z
LAST-MODIFIED:20240112T070205Z
UID:12815-1719637200-1719642600@www.santeelakes.com
SUMMARY:Ice Cream Social
DESCRIPTION:Ice Cream for all! Join us for our ice cream social on the Campground Lawn. \nEvent begins at 1:00PM and will go until it’s gone! \nAll children must be accompanied by an adult.
URL:https://www.santeelakes.com/event/ice-cream-social-4/
CATEGORIES:Campground Events
END:VEVENT
BEGIN:VEVENT
DTSTART;TZID=America/Los_Angeles:20240629T000000
DTEND;TZID=America/Los_Angeles:20240629T023000
DTSTAMP:20260422T152350
CREATED:20240125T033242Z
LAST-MODIFIED:20240125T033242Z
UID:12926-1719619200-1719628200@www.santeelakes.com
SUMMARY:Lion's Club Pancake Breakfast
DESCRIPTION:Come enjoy a yummy pancake breakfast at the Campground Clubhouse for a great cause!\n$10 | Adults\n$5 | 12 & Under
URL:https://www.santeelakes.com/event/lions-club-pancake-breakfast-18/
CATEGORIES:Campground Events,Park Events
END:VEVENT
BEGIN:VEVENT
DTSTART;TZID=America/Los_Angeles:20240628T000000
DTEND;TZID=America/Los_Angeles:20240628T090000
DTSTAMP:20260422T152350
CREATED:20231213T040921Z
LAST-MODIFIED:20231213T040921Z
UID:12713-1719532800-1719565200@www.santeelakes.com
SUMMARY:Night Fishing
DESCRIPTION:Bring your lanterns\, but not your radios\, and join us for some fishing under the stars! \nGrab your permit at the General Store.
URL:https://www.santeelakes.com/event/night-fishing-8/
LOCATION:Santee Lakes Recreation Preserve\, 9310 Fanita Parkway\, Santee\, CA\, 92071\, United States
CATEGORIES:Campground Events,Park Events
END:VEVENT
END:VCALENDAR