BEGIN:VCALENDAR
VERSION:2.0
PRODID:-//Santee Lakes - ECPv6.15.20//NONSGML v1.0//EN
CALSCALE:GREGORIAN
METHOD:PUBLISH
X-WR-CALNAME:Santee Lakes
X-ORIGINAL-URL:https://www.santeelakes.com
X-WR-CALDESC:Events for Santee Lakes
REFRESH-INTERVAL;VALUE=DURATION:PT1H
X-Robots-Tag:noindex
X-PUBLISHED-TTL:PT1H
BEGIN:VTIMEZONE
TZID:America/Los_Angeles
BEGIN:DAYLIGHT
TZOFFSETFROM:-0800
TZOFFSETTO:-0700
TZNAME:PDT
DTSTART:20240310T100000
END:DAYLIGHT
BEGIN:STANDARD
TZOFFSETFROM:-0700
TZOFFSETTO:-0800
TZNAME:PST
DTSTART:20241103T090000
END:STANDARD
BEGIN:DAYLIGHT
TZOFFSETFROM:-0800
TZOFFSETTO:-0700
TZNAME:PDT
DTSTART:20250309T100000
END:DAYLIGHT
BEGIN:STANDARD
TZOFFSETFROM:-0700
TZOFFSETTO:-0800
TZNAME:PST
DTSTART:20251102T090000
END:STANDARD
BEGIN:DAYLIGHT
TZOFFSETFROM:-0800
TZOFFSETTO:-0700
TZNAME:PDT
DTSTART:20260308T100000
END:DAYLIGHT
BEGIN:STANDARD
TZOFFSETFROM:-0700
TZOFFSETTO:-0800
TZNAME:PST
DTSTART:20261101T090000
END:STANDARD
END:VTIMEZONE
BEGIN:VEVENT
DTSTART;TZID=America/Los_Angeles:20251003T170000
DTEND;TZID=America/Los_Angeles:20251003T190000
DTSTAMP:20260420T051628
CREATED:20250520T025710Z
LAST-MODIFIED:20250826T233529Z
UID:14159-1759510800-1759518000@www.santeelakes.com
SUMMARY:Summer Jams on Deck - Halo Effect
DESCRIPTION:Kick back and soak up the summer vibes with live music on the deck! Join us from 5 PM to 7 PM for great tunes\, good company\, and a perfect evening by the lake. All are welcome—bring a friend\, grab a drink\, and enjoy the rhythm of summer. We will be having Summer Jams on Deck every Saturday (and some Fridays) throughout the summer. \n 
URL:https://www.santeelakes.com/event/summer-jams-on-deck-the-junkyard-cats/
CATEGORIES:Campground Events,Park Events
END:VEVENT
BEGIN:VEVENT
DTSTART;TZID=America/Los_Angeles:20250927T170000
DTEND;TZID=America/Los_Angeles:20250927T190000
DTSTAMP:20260420T051628
CREATED:20250520T025601Z
LAST-MODIFIED:20250826T233414Z
UID:14157-1758992400-1758999600@www.santeelakes.com
SUMMARY:Summer Jams on Deck - The Tradesmen Band
DESCRIPTION:Kick back and soak up the summer vibes with live music on the deck! Join us from 5 PM to 7 PM for great tunes\, good company\, and a perfect evening by the lake. All are welcome—bring a friend\, grab a drink\, and enjoy the rhythm of summer. We will be having Summer Jams on Deck every Saturday (and some Fridays) throughout the summer. \n 
URL:https://www.santeelakes.com/event/summer-jams-on-deck-ed-johnson/
CATEGORIES:Campground Events,Park Events
END:VEVENT
BEGIN:VEVENT
DTSTART;TZID=America/Los_Angeles:20250927T100000
DTEND;TZID=America/Los_Angeles:20250927T110000
DTSTAMP:20260420T051628
CREATED:20250306T012617Z
LAST-MODIFIED:20250826T233108Z
UID:13866-1758967200-1758970800@www.santeelakes.com
SUMMARY:CAMPERS – Sports on the Lawn
DESCRIPTION:Join us for some fun and games on the lawn!
URL:https://www.santeelakes.com/event/campers-sports-on-the-lawn-16/
CATEGORIES:Campground Events
END:VEVENT
BEGIN:VEVENT
DTSTART;TZID=America/Los_Angeles:20250927T080000
DTEND;TZID=America/Los_Angeles:20250927T103000
DTSTAMP:20260420T051628
CREATED:20250306T030134Z
LAST-MODIFIED:20250826T233011Z
UID:13877-1758960000-1758969000@www.santeelakes.com
SUMMARY:Lion's Club Pancake Breakfast
DESCRIPTION:Come eat lots of pancakes!  There are also sides FYI.  Support a great cause.
URL:https://www.santeelakes.com/event/lions-club-pancake-breakfast-25/
CATEGORIES:Campground Events,Park Events
END:VEVENT
BEGIN:VEVENT
DTSTART;TZID=America/Los_Angeles:20250927T080000
DTEND;TZID=America/Los_Angeles:20250927T093000
DTSTAMP:20260420T051628
CREATED:20250708T234250Z
LAST-MODIFIED:20250826T230511Z
UID:14288-1758960000-1758965400@www.santeelakes.com
SUMMARY:Fishing 101
DESCRIPTION:Need some tips or a refresher on catching fish at Santee Lakes? You are in luck. A Ranger will be on site to help everyone from beginner to seasoned anglers.\nMeet at the General Store 8:00AM until 9:30AMish.\nPurchase your permit from the Ranger or at the Gatehouse\, bring your bait and lures.\nThe event is free.\nSign up HERE.
URL:https://www.santeelakes.com/event/fishing-101-10/
CATEGORIES:Campground Events,Park Events
END:VEVENT
BEGIN:VEVENT
DTSTART;TZID=America/Los_Angeles:20250926T170000
DTEND;TZID=America/Los_Angeles:20250926T190000
DTSTAMP:20260420T051628
CREATED:20250922T145014Z
LAST-MODIFIED:20250922T145014Z
UID:14448-1758906000-1758913200@www.santeelakes.com
SUMMARY:Summer Jams on Deck - Wolff
DESCRIPTION:Kick back and soak up the summer vibes with live music on the deck\, with Wolff! Join us from 5 PM to 7 PM for great tunes from both sides of the pond\, good company\, and a perfect evening by the lake. All are welcome—bring a friend\, grab a drink\, and enjoy the rhythm of summer. We will be having Summer Jams on Deck every Saturday (and some Fridays) throughout the summer.
URL:https://www.santeelakes.com/event/summer-jams-on-deck-wolff/
CATEGORIES:Campground Events,Park Events
END:VEVENT
BEGIN:VEVENT
DTSTART;TZID=America/Los_Angeles:20250920T170000
DTEND;TZID=America/Los_Angeles:20250920T190000
DTSTAMP:20260420T051628
CREATED:20250520T025333Z
LAST-MODIFIED:20250826T232852Z
UID:14153-1758387600-1758394800@www.santeelakes.com
SUMMARY:Summer Jams on Deck - Heartbreak Hotel: Elvis Tribute
DESCRIPTION:Kick back and soak up the summer vibes with live music on the deck! Join us from 5 PM to 7 PM for great tunes\, good company\, and a perfect evening by the lake. All are welcome—bring a friend\, grab a drink\, and enjoy the rhythm of summer. We will be having Summer Jams on Deck every Saturday (and some Fridays) throughout the summer. \nSUMMER JAMS CALENDAR 2025
URL:https://www.santeelakes.com/event/summer-jams-on-deck-heartbreak-hotel-elvis-tribute/
CATEGORIES:Campground Events,Park Events
END:VEVENT
BEGIN:VEVENT
DTSTART;TZID=America/Los_Angeles:20250920T140000
DTEND;TZID=America/Los_Angeles:20250920T160000
DTSTAMP:20260420T051628
CREATED:20250306T015802Z
LAST-MODIFIED:20250826T232754Z
UID:13872-1758376800-1758384000@www.santeelakes.com
SUMMARY:CAMPERS - Campfire & S'mores - Early Edition
DESCRIPTION:Join us for some afternoon s’mores and fun!
URL:https://www.santeelakes.com/event/campers-campfire-smores-early-edition/
CATEGORIES:Campground Events
END:VEVENT
BEGIN:VEVENT
DTSTART;TZID=America/Los_Angeles:20250920T100000
DTEND;TZID=America/Los_Angeles:20250920T120000
DTSTAMP:20260420T051628
CREATED:20250729T030022Z
LAST-MODIFIED:20250826T232700Z
UID:14329-1758362400-1758369600@www.santeelakes.com
SUMMARY:Paint & Sip on Deck | Nightfall Pines
DESCRIPTION:Get ready to unleash your inner artist under the night sky at our Nightfall Pines Paint Party! \nSign up HERE
URL:https://www.santeelakes.com/event/paint-sip-on-deck-nightfall-pines/
CATEGORIES:Campground Events,Park Events
END:VEVENT
BEGIN:VEVENT
DTSTART;TZID=America/Los_Angeles:20250920T100000
DTEND;TZID=America/Los_Angeles:20250920T110000
DTSTAMP:20260420T051628
CREATED:20250306T012524Z
LAST-MODIFIED:20250826T232510Z
UID:13864-1758362400-1758366000@www.santeelakes.com
SUMMARY:CAMPERS – Sports on the Lawn
DESCRIPTION:Join us for some fun and games on the lawn!
URL:https://www.santeelakes.com/event/campers-sports-on-the-lawn-15/
CATEGORIES:Campground Events
END:VEVENT
BEGIN:VEVENT
DTSTART;TZID=America/Los_Angeles:20250919T170000
DTEND;TZID=America/Los_Angeles:20250919T190000
DTSTAMP:20260420T051628
CREATED:20250722T075534Z
LAST-MODIFIED:20250826T232229Z
UID:14316-1758301200-1758308400@www.santeelakes.com
SUMMARY:Summer Jams on Deck - Indigo Swing
DESCRIPTION:Kick back and soak up the summer vibes with live music on the deck! Join us from 5 PM to 7 PM for great tunes\, good company\, and a perfect evening by the lake. All are welcome—bring a friend\, grab a drink\, and enjoy the rhythm of summer. We will be having Summer Jams on Deck every Saturday (and some Fridays) throughout the summer.
URL:https://www.santeelakes.com/event/summer-jams-on-deck-the-juleps/
CATEGORIES:Campground Events,Park Events
END:VEVENT
BEGIN:VEVENT
DTSTART;TZID=America/Los_Angeles:20250914T060000
DTEND;TZID=America/Los_Angeles:20250914T190000
DTSTAMP:20260420T051628
CREATED:20250306T015623Z
LAST-MODIFIED:20250826T231117Z
UID:13870-1757829600-1757876400@www.santeelakes.com
SUMMARY:STOCKZILLA
DESCRIPTION:We will be stocking 3\,500 lbs. of catfish for this event! More info. to come.
URL:https://www.santeelakes.com/event/stockzilla-6/
CATEGORIES:Campground Events,Park Events
END:VEVENT
BEGIN:VEVENT
DTSTART;TZID=America/Los_Angeles:20250913T170000
DTEND;TZID=America/Los_Angeles:20250913T190000
DTSTAMP:20260420T051628
CREATED:20250520T025219Z
LAST-MODIFIED:20250826T232356Z
UID:14151-1757782800-1757790000@www.santeelakes.com
SUMMARY:Summer Jams on Deck - Appian Way
DESCRIPTION:Kick back and soak up the summer vibes with live music on the deck! Join us from 5 PM to 7 PM for great tunes\, good company\, and a perfect evening by the lake. All are welcome—bring a friend\, grab a drink\, and enjoy the rhythm of summer. We will be having Summer Jams on Deck every Saturday (and some Fridays) throughout the summer. \nSUMMER JAMS CALENDAR 2025
URL:https://www.santeelakes.com/event/summer-jams-on-deck-appian-way/
CATEGORIES:Campground Events,Park Events
END:VEVENT
BEGIN:VEVENT
DTSTART;TZID=America/Los_Angeles:20250913T080000
DTEND;TZID=America/Los_Angeles:20250913T093000
DTSTAMP:20260420T051628
CREATED:20250708T234209Z
LAST-MODIFIED:20250826T231350Z
UID:14286-1757750400-1757755800@www.santeelakes.com
SUMMARY:Fishing 101
DESCRIPTION:Need some tips or a refresher on catching fish at Santee Lakes? You are in luck. A Ranger will be on site to help everyone from beginner to seasoned anglers.\nMeet at the General Store 8:00AM until 9:30AMish.\nPurchase your permit from the Ranger or at the Gatehouse\, bring your bait and lures.\nThe event is free.\nSign up HERE.
URL:https://www.santeelakes.com/event/fishing-101-9/
CATEGORIES:Campground Events,Park Events
END:VEVENT
BEGIN:VEVENT
DTSTART;TZID=America/Los_Angeles:20250913T060000
DTEND;TZID=America/Los_Angeles:20250913T190000
DTSTAMP:20260420T051628
CREATED:20250306T015545Z
LAST-MODIFIED:20250826T232605Z
UID:13868-1757743200-1757790000@www.santeelakes.com
SUMMARY:STOCKZILLA
DESCRIPTION:We will be stocking 3\,500 lbs. of catfish for this event! More info. to come.
URL:https://www.santeelakes.com/event/stockzilla-5/
CATEGORIES:Campground Events,Park Events
END:VEVENT
BEGIN:VEVENT
DTSTART;TZID=America/Los_Angeles:20250912T170000
DTEND;TZID=America/Los_Angeles:20250912T190000
DTSTAMP:20260420T051628
CREATED:20250520T025126Z
LAST-MODIFIED:20250826T225129Z
UID:14149-1757696400-1757703600@www.santeelakes.com
SUMMARY:Summer Jams on Deck - Tropical Blues Brothers
DESCRIPTION:Kick back and soak up the summer vibes with live music on the deck! Join us from 5 PM to 7 PM for great tunes\, good company\, and a perfect evening by the lake. All are welcome—bring a friend\, grab a drink\, and enjoy the rhythm of summer. We will be having Summer Jams on Deck every Saturday (and some Fridays) throughout the summer. \nSUMMER JAMS CALENDAR 2025
URL:https://www.santeelakes.com/event/summer-jams-on-deck-tropical-blues-brothers/
CATEGORIES:Campground Events,Park Events
END:VEVENT
BEGIN:VEVENT
DTSTART;TZID=America/Los_Angeles:20250906T170000
DTEND;TZID=America/Los_Angeles:20250906T190000
DTSTAMP:20260420T051628
CREATED:20250520T025014Z
LAST-MODIFIED:20250826T225021Z
UID:14147-1757178000-1757185200@www.santeelakes.com
SUMMARY:Summer Jams on Deck - Steal Dawn
DESCRIPTION:Kick back and soak up the summer vibes with live music on the deck! Join us from 5 PM to 7 PM for great tunes\, good company\, and a perfect evening by the lake. All are welcome—bring a friend\, grab a drink\, and enjoy the rhythm of summer. We will be having Summer Jams on Deck every Saturday (and some Fridays) throughout the summer. \nSUMMER JAMS CALENDAR 2025
URL:https://www.santeelakes.com/event/summer-jams-on-deck-steal-dawn/
CATEGORIES:Campground Events,Park Events
END:VEVENT
BEGIN:VEVENT
DTSTART;TZID=America/Los_Angeles:20250906T140000
DTEND;TZID=America/Los_Angeles:20250906T160000
DTSTAMP:20260420T051628
CREATED:20250311T033410Z
LAST-MODIFIED:20250826T225742Z
UID:13906-1757167200-1757174400@www.santeelakes.com
SUMMARY:CAMPERS - Candy Bar BINGO!
DESCRIPTION:Join us for a fun game of BINGO! that includes candy bars!
URL:https://www.santeelakes.com/event/campers-candy-bar-bingo/
CATEGORIES:Campground Events
END:VEVENT
BEGIN:VEVENT
DTSTART;TZID=America/Los_Angeles:20250906T100000
DTEND;TZID=America/Los_Angeles:20250906T110000
DTSTAMP:20260420T051628
CREATED:20250306T011516Z
LAST-MODIFIED:20250826T225651Z
UID:13862-1757152800-1757156400@www.santeelakes.com
SUMMARY:CAMPERS – Sports on the Lawn
DESCRIPTION:Join us for some sports on the Campground Lawn!
URL:https://www.santeelakes.com/event/campers-sports-on-the-lawn-14/
CATEGORIES:Campground Events
END:VEVENT
BEGIN:VEVENT
DTSTART;TZID=America/Los_Angeles:20250905T170000
DTEND;TZID=America/Los_Angeles:20250905T190000
DTSTAMP:20260420T051628
CREATED:20250722T075035Z
LAST-MODIFIED:20250826T225539Z
UID:14313-1757091600-1757098800@www.santeelakes.com
SUMMARY:Summer Jams on Deck - Cooking Jazz Quintet
DESCRIPTION:Kick back and soak up the summer vibes with live music on the deck! Join us from 5 PM to 7 PM for great tunes\, good company\, and a perfect evening by the lake. All are welcome—bring a friend\, grab a drink\, and enjoy the rhythm of summer. We will be having Summer Jams on Deck every Saturday (and some Fridays) throughout the summer.
URL:https://www.santeelakes.com/event/summer-jams-on-deck-cooking-jazz-quintet/
CATEGORIES:Campground Events,Park Events
END:VEVENT
BEGIN:VEVENT
DTSTART;TZID=America/Los_Angeles:20250830T160000
DTEND;TZID=America/Los_Angeles:20250830T180000
DTSTAMP:20260420T051628
CREATED:20250305T041723Z
LAST-MODIFIED:20250826T225447Z
UID:13845-1756569600-1756576800@www.santeelakes.com
SUMMARY:CAMPERS - Labor Day Weekend Concert - Southbay Band SD
DESCRIPTION:Join us at the Lake 5 amphitheater from 4:00PM-6:00PM for a great concert and some food trucks!
URL:https://www.santeelakes.com/event/campers-labor-day-weekend-concert-southbay-band-sd/
CATEGORIES:Campground Events
END:VEVENT
BEGIN:VEVENT
DTSTART;TZID=America/Los_Angeles:20250830T100000
DTEND;TZID=America/Los_Angeles:20250830T110000
DTSTAMP:20260420T051628
CREATED:20250305T004701Z
LAST-MODIFIED:20250826T233116Z
UID:13858-1756548000-1756551600@www.santeelakes.com
SUMMARY:CAMPERS - Sports on the Lawn
DESCRIPTION:Join us for some fun & games on the Campground lawn! All ages welcome.
URL:https://www.santeelakes.com/event/campers-sports-on-the-lawn-13/
CATEGORIES:Campground Events
END:VEVENT
BEGIN:VEVENT
DTSTART;TZID=America/Los_Angeles:20250830T080000
DTEND;TZID=America/Los_Angeles:20250830T103000
DTSTAMP:20260420T051628
CREATED:20250305T004028Z
LAST-MODIFIED:20250826T232129Z
UID:13848-1756540800-1756549800@www.santeelakes.com
SUMMARY:Lion's Club Breakfast
DESCRIPTION:Who doesn’t love pancakes? Come join the Lion’s for some breakfast for a great cause!
URL:https://www.santeelakes.com/event/lions-club-breakfast-5/
CATEGORIES:Campground Events,Park Events
END:VEVENT
BEGIN:VEVENT
DTSTART;TZID=America/Los_Angeles:20250829T193000
DTEND;TZID=America/Los_Angeles:20250829T203000
DTSTAMP:20260420T051628
CREATED:20250715T015812Z
LAST-MODIFIED:20250826T231006Z
UID:14304-1756495800-1756499400@www.santeelakes.com
SUMMARY:Camper's Laser Tag
DESCRIPTION:Every Friday night this summer\, the campground transforms into a battleground!\n7:30PM–8:30PM |CAMPERS ONLY\nGrab your gear\, rally your crew\, and step into the action. It’s fast-paced\, glow-in-the-dark fun under the stars.\nNo sign-up needed — just show up ready to play.
URL:https://www.santeelakes.com/event/campers-laser-tag-7/
CATEGORIES:Campground Events
END:VEVENT
BEGIN:VEVENT
DTSTART;TZID=America/Los_Angeles:20250829T170000
DTEND;TZID=America/Los_Angeles:20250829T190000
DTSTAMP:20260420T051628
CREATED:20250520T024853Z
LAST-MODIFIED:20250826T225312Z
UID:14145-1756486800-1756494000@www.santeelakes.com
SUMMARY:Summer Jams on Deck - 8 Track Highway
DESCRIPTION:Kick back and soak up the summer vibes with live music on the deck! Join us from 5 PM to 7 PM for great tunes\, good company\, and a perfect evening by the lake. All are welcome—bring a friend\, grab a drink\, and enjoy the rhythm of summer. We will be having Summer Jams on Deck every Saturday (and some Fridays) throughout the summer. \nSUMMER JAMS CALENDAR 2025
URL:https://www.santeelakes.com/event/summer-jams-on-deck-8-track-highway/
CATEGORIES:Campground Events,Park Events
END:VEVENT
BEGIN:VEVENT
DTSTART;TZID=America/Los_Angeles:20250824T020000
DTEND;TZID=America/Los_Angeles:20250824T100000
DTSTAMP:20260420T051628
CREATED:20250729T230221Z
LAST-MODIFIED:20250729T233605Z
UID:14347-1756000800-1756029600@www.santeelakes.com
SUMMARY:Camping World RV Show at the Lakes
DESCRIPTION:It’s RV Show Time at Santee Lakes! \nWe’re teaming up with Camping World for our 1st Annual RV Show\, and you’re invited! \nFrom first-time campers to seasoned road warriors\, check out RVs of all shapes and sizes — from the cozy Coleman 13B to the stunning 38’ Forest River Georgetown Class A… and yes\, even the latest Toy Haulers for the thrill-seekers! Come see it all at Lake 1 Events Area from 10AM-6PM Saturday and Sunday.\nPLUS: Food Trucks Amazing Giveaways Inflatables for the kiddos
URL:https://www.santeelakes.com/event/camping-world-rv-show-at-the-lakes-2/
CATEGORIES:Campground Events,Park Events
END:VEVENT
BEGIN:VEVENT
DTSTART;TZID=America/Los_Angeles:20250823T090000
DTEND;TZID=America/Los_Angeles:20250823T110000
DTSTAMP:20260420T051628
CREATED:20250520T024745Z
LAST-MODIFIED:20250520T024745Z
UID:14143-1755939600-1755946800@www.santeelakes.com
SUMMARY:Summer Jams on Deck - Miranda Ramos
DESCRIPTION:Kick back and soak up the summer vibes with live music on the deck! Join us from 5 PM to 7 PM for great tunes\, good company\, and a perfect evening by the lake. All are welcome—bring a friend\, grab a drink\, and enjoy the rhythm of summer. We will be having Summer Jams on Deck every Saturday (and some Fridays) throughout the summer. \nSUMMER JAMS CALENDAR 2025
URL:https://www.santeelakes.com/event/summer-jams-on-deck-miranda-ramos-2/
CATEGORIES:Campground Events,Park Events
END:VEVENT
BEGIN:VEVENT
DTSTART;TZID=America/Los_Angeles:20250823T100000
DTEND;TZID=America/Los_Angeles:20250823T110000
DTSTAMP:20260420T051628
CREATED:20250305T004610Z
LAST-MODIFIED:20250305T004610Z
UID:13856-1755943200-1755946800@www.santeelakes.com
SUMMARY:CAMPERS - Sports on the Lawn
DESCRIPTION:Join us for some fun & games on the Campground lawn! All ages welcome.
URL:https://www.santeelakes.com/event/campers-sports-on-the-lawn-12/
CATEGORIES:Campground Events
END:VEVENT
BEGIN:VEVENT
DTSTART;TZID=America/Los_Angeles:20250823T050000
DTEND;TZID=America/Los_Angeles:20250823T060000
DTSTAMP:20260420T051628
CREATED:20250305T041506Z
LAST-MODIFIED:20250305T041506Z
UID:13843-1755925200-1755928800@www.santeelakes.com
SUMMARY:CAMPERS - Ice Cream Social
DESCRIPTION:Until it’s gone…
URL:https://www.santeelakes.com/event/campers-ice-cream-social-3/
CATEGORIES:Campground Events
END:VEVENT
BEGIN:VEVENT
DTSTART;TZID=America/Los_Angeles:20250823T020000
DTEND;TZID=America/Los_Angeles:20250823T100000
DTSTAMP:20260420T051628
CREATED:20250729T230113Z
LAST-MODIFIED:20250729T230113Z
UID:14345-1755914400-1755943200@www.santeelakes.com
SUMMARY:Camping World RV Show at the Lakes
DESCRIPTION:It’s RV Show Time at Santee Lakes! \nWe’re teaming up with Camping World for our 1st Annual RV Show\, and you’re invited! \nFrom first-time campers to seasoned road warriors\, check out RVs of all shapes and sizes — from the cozy Coleman 13B to the stunning 38’ Forest River Georgetown Class A… and yes\, even the latest Toy Haulers for the thrill-seekers! Come see it all at Lake 1 Events Area from 10AM-6PM Saturday and Sunday.\nPLUS: Food Trucks Amazing Giveaways Inflatables for the kiddos
URL:https://www.santeelakes.com/event/camping-world-rv-show-at-the-lakes/
CATEGORIES:Campground Events,Park Events
END:VEVENT
END:VCALENDAR