BEGIN:VCALENDAR
VERSION:2.0
PRODID:-//Santee Lakes - ECPv6.15.20//NONSGML v1.0//EN
CALSCALE:GREGORIAN
METHOD:PUBLISH
X-ORIGINAL-URL:https://www.santeelakes.com
X-WR-CALDESC:Events for Santee Lakes
REFRESH-INTERVAL;VALUE=DURATION:PT1H
X-Robots-Tag:noindex
X-PUBLISHED-TTL:PT1H
BEGIN:VTIMEZONE
TZID:America/Los_Angeles
BEGIN:DAYLIGHT
TZOFFSETFROM:-0800
TZOFFSETTO:-0700
TZNAME:PDT
DTSTART:20250309T100000
END:DAYLIGHT
BEGIN:STANDARD
TZOFFSETFROM:-0700
TZOFFSETTO:-0800
TZNAME:PST
DTSTART:20251102T090000
END:STANDARD
BEGIN:DAYLIGHT
TZOFFSETFROM:-0800
TZOFFSETTO:-0700
TZNAME:PDT
DTSTART:20260308T100000
END:DAYLIGHT
BEGIN:STANDARD
TZOFFSETFROM:-0700
TZOFFSETTO:-0800
TZNAME:PST
DTSTART:20261101T090000
END:STANDARD
BEGIN:DAYLIGHT
TZOFFSETFROM:-0800
TZOFFSETTO:-0700
TZNAME:PDT
DTSTART:20270314T100000
END:DAYLIGHT
BEGIN:STANDARD
TZOFFSETFROM:-0700
TZOFFSETTO:-0800
TZNAME:PST
DTSTART:20271107T090000
END:STANDARD
END:VTIMEZONE
BEGIN:VEVENT
DTSTART;TZID=America/Los_Angeles:20260404T130000
DTEND;TZID=America/Los_Angeles:20260404T150000
DTSTAMP:20260423T102505
CREATED:20260115T010443Z
LAST-MODIFIED:20260115T010443Z
UID:14722-1775307600-1775314800@www.santeelakes.com
SUMMARY:Easter Bunny on Deck!
DESCRIPTION:The Easter Bunny will be at the deck from 1PM-3PM for photos and more!
URL:https://www.santeelakes.com/event/easter-bunny-on-deck/
CATEGORIES:Campground Events,Park Events
END:VEVENT
BEGIN:VEVENT
DTSTART;TZID=America/Los_Angeles:20260404T130000
DTEND;TZID=America/Los_Angeles:20260404T150000
DTSTAMP:20260423T102505
CREATED:20260225T190238Z
LAST-MODIFIED:20260225T190621Z
UID:15173-1775307600-1775314800@www.santeelakes.com
SUMMARY:Easter Bunny on Deck
DESCRIPTION:Join us to meet and greet the big guy himself – THE EASTER BUNNY! \nHe will hop on deck from 1PM-3PM on Saturday\, April 4th. \nBring your camera\, we will have a super cute photo op set up to create a lasting memory.  Each kiddo will also receive a little goody! \nALSO\, don’t forget to get your face painted by Becky from Becky’s Art World for a minimal fee. \nTopwater Grill will be there to serve some delicious food for those rumbling tummies. \n 
URL:https://www.santeelakes.com/event/easter-bunny-on-deck-2/
CATEGORIES:Campground Events,Park Events
END:VEVENT
BEGIN:VEVENT
DTSTART;TZID=America/Los_Angeles:20260410T190000
DTEND;TZID=America/Los_Angeles:20260410T200000
DTSTAMP:20260423T102505
CREATED:20260303T183341Z
LAST-MODIFIED:20260303T183341Z
UID:15204-1775847600-1775851200@www.santeelakes.com
SUMMARY:Operation Epic - Laser Tag for Campers
DESCRIPTION:Hey Campers! Join us for a friendly game of laser tag on the Campground Lawn.  No need to sign up\, just show up! \nWe will play every Friday through October. \n 
URL:https://www.santeelakes.com/event/operation-epic-laser-tag-for-campers-3/
CATEGORIES:Campground Events
END:VEVENT
BEGIN:VEVENT
DTSTART;TZID=America/Los_Angeles:20260411T060000
DTEND;TZID=America/Los_Angeles:20260411T190000
DTSTAMP:20260423T102505
CREATED:20260106T201418Z
LAST-MODIFIED:20260106T201731Z
UID:14685-1775887200-1775934000@www.santeelakes.com
SUMMARY:Catfish Opener
DESCRIPTION:We will be stocking Lakes 2\, 3\, 4\, 6 & 7 with 2\,500 lbs of catfish! \nBook now 😉 \nAdult Day Permit\n(Ages 16+) $10\nSenior Permit\n(Ages 60+) $6\nJunior Permit\n(Ages 15 and under) $6\nExtra Pole Stamp\n$4
URL:https://www.santeelakes.com/event/catfish-opener-7/
CATEGORIES:Campground Events,Park Events
END:VEVENT
BEGIN:VEVENT
DTSTART;TZID=America/Los_Angeles:20260411T100000
DTEND;TZID=America/Los_Angeles:20260411T110000
DTSTAMP:20260423T102505
CREATED:20260130T005231Z
LAST-MODIFIED:20260130T005231Z
UID:15000-1775901600-1775905200@www.santeelakes.com
SUMMARY:Camper - Sports on the Lawn every Saturday 10AM-11AM
DESCRIPTION:No need to sign up\, just join us!
URL:https://www.santeelakes.com/event/camper-sports-on-the-lawn-every-saturday-10am-11am-15/
CATEGORIES:Campground Events
END:VEVENT
BEGIN:VEVENT
DTSTART;TZID=America/Los_Angeles:20260411T130000
DTEND;TZID=America/Los_Angeles:20260411T143000
DTSTAMP:20260423T102505
CREATED:20260115T010616Z
LAST-MODIFIED:20260115T010616Z
UID:14724-1775912400-1775917800@www.santeelakes.com
SUMMARY:Camper's Spring Ice Cream Social
DESCRIPTION:You know you want some! \nJoin us on the Clubhouse lawn for some ice cream and meet your neighbors. \nWe will serve until it’s gone!
URL:https://www.santeelakes.com/event/campers-spring-ice-cream-social/
CATEGORIES:Campground Events
END:VEVENT
BEGIN:VEVENT
DTSTART;TZID=America/Los_Angeles:20260412T060000
DTEND;TZID=America/Los_Angeles:20260412T190000
DTSTAMP:20260423T102505
CREATED:20260106T201637Z
LAST-MODIFIED:20260106T201637Z
UID:14687-1775973600-1776020400@www.santeelakes.com
SUMMARY:Catfish Opener
DESCRIPTION:We will be stocking Lakes 2\, 3\, 4\, 6 & 7 with 2\,500 lbs of catfish! \nBook now 😉 \nAdult Day Permit\n(Ages 16+) $10\nSenior Permit\n(Ages 60+) $6\nJunior Permit\n(Ages 15 and under) $6\nExtra Pole Stamp\n$4
URL:https://www.santeelakes.com/event/catfish-opener-8/
CATEGORIES:Campground Events,Park Events
END:VEVENT
BEGIN:VEVENT
DTSTART;TZID=America/Los_Angeles:20260417T190000
DTEND;TZID=America/Los_Angeles:20260417T200000
DTSTAMP:20260423T102505
CREATED:20260303T183428Z
LAST-MODIFIED:20260303T183428Z
UID:15206-1776452400-1776456000@www.santeelakes.com
SUMMARY:Operation Epic - Laser Tag for Campers
DESCRIPTION:Hey Campers! Join us for a friendly game of laser tag on the Campground Lawn.  No need to sign up\, just show up! \nWe will play every Friday through October. \n 
URL:https://www.santeelakes.com/event/operation-epic-laser-tag-for-campers-4/
CATEGORIES:Campground Events
END:VEVENT
BEGIN:VEVENT
DTSTART;TZID=America/Los_Angeles:20260418T090000
DTEND;TZID=America/Los_Angeles:20260418T103000
DTSTAMP:20260423T102505
CREATED:20260223T204849Z
LAST-MODIFIED:20260223T204849Z
UID:15144-1776502800-1776508200@www.santeelakes.com
SUMMARY:Fishing 101
DESCRIPTION:Come join an experienced angler from our Staff to learn the basics of catching a fish at Santee Lakes!  Bring your rod and bait (you can also get bait in the General Store). \nMeet in front of the General Store a little before 9:00AM and the event will be 9:00AM-10:30AM. \nPlease RSVP at this LINK so we know you are coming! The event is FREE.
URL:https://www.santeelakes.com/event/fishing-101-15/
CATEGORIES:Campground Events,Park Events
END:VEVENT
BEGIN:VEVENT
DTSTART;TZID=America/Los_Angeles:20260418T100000
DTEND;TZID=America/Los_Angeles:20260418T110000
DTSTAMP:20260423T102505
CREATED:20260130T005314Z
LAST-MODIFIED:20260130T005314Z
UID:15002-1776506400-1776510000@www.santeelakes.com
SUMMARY:Camper - Sports on the Lawn every Saturday 10AM-11AM
DESCRIPTION:No need to sign up\, just join us!
URL:https://www.santeelakes.com/event/camper-sports-on-the-lawn-every-saturday-10am-11am-16/
CATEGORIES:Campground Events
END:VEVENT
BEGIN:VEVENT
DTSTART;TZID=America/Los_Angeles:20260418T140000
DTEND;TZID=America/Los_Angeles:20260418T160000
DTSTAMP:20260423T102505
CREATED:20260115T010758Z
LAST-MODIFIED:20260115T010919Z
UID:14726-1776520800-1776528000@www.santeelakes.com
SUMMARY:Camper's Craftapalooza
DESCRIPTION:You will choose from a variety of fun crafts for all ages!
URL:https://www.santeelakes.com/event/campers-craftapalooza/
CATEGORIES:Campground Events
END:VEVENT
BEGIN:VEVENT
DTSTART;TZID=America/Los_Angeles:20260424T190000
DTEND;TZID=America/Los_Angeles:20260424T200000
DTSTAMP:20260423T102505
CREATED:20260303T183508Z
LAST-MODIFIED:20260303T183946Z
UID:15208-1777057200-1777060800@www.santeelakes.com
SUMMARY:Operation Epic - Laser Tag for Campers
DESCRIPTION:Hey Campers! Join us for a friendly game of laser tag on the Campground Lawn.  No need to sign up\, just show up! \nWe will play every Friday through October.
URL:https://www.santeelakes.com/event/operation-epic-laser-tag-for-campers-5/
CATEGORIES:Campground Events
END:VEVENT
BEGIN:VEVENT
DTSTART;TZID=America/Los_Angeles:20260425T080000
DTEND;TZID=America/Los_Angeles:20260425T103000
DTSTAMP:20260423T102505
CREATED:20260115T011211Z
LAST-MODIFIED:20260115T011220Z
UID:14730-1777104000-1777113000@www.santeelakes.com
SUMMARY:Lion's Club Pancake Breakfast
DESCRIPTION:Come grab some yummy breakfast for a great cause!
URL:https://www.santeelakes.com/event/lions-club-pancake-breakfast-30/
CATEGORIES:Campground Events,Park Events
END:VEVENT
BEGIN:VEVENT
DTSTART;TZID=America/Los_Angeles:20260425T100000
DTEND;TZID=America/Los_Angeles:20260425T110000
DTSTAMP:20260423T102505
CREATED:20260130T005352Z
LAST-MODIFIED:20260130T005434Z
UID:15004-1777111200-1777114800@www.santeelakes.com
SUMMARY:Camper - Sports on the Lawn every Saturday 10AM-11AM
DESCRIPTION:No need to sign up\, just join us!
URL:https://www.santeelakes.com/event/camper-sports-on-the-lawn-every-saturday-10am-11am-17/
CATEGORIES:Campground Events
END:VEVENT
BEGIN:VEVENT
DTSTART;TZID=America/Los_Angeles:20260425T140000
DTEND;TZID=America/Los_Angeles:20260425T160000
DTSTAMP:20260423T102505
CREATED:20260115T011043Z
LAST-MODIFIED:20260115T011043Z
UID:14728-1777125600-1777132800@www.santeelakes.com
SUMMARY:Camper's Fun & Games
DESCRIPTION:Join us for some good old fashioned games!
URL:https://www.santeelakes.com/event/campers-fun-games/
CATEGORIES:Campground Events
END:VEVENT
BEGIN:VEVENT
DTSTART;VALUE=DATE:20260501
DTEND;VALUE=DATE:20260502
DTSTAMP:20260423T102505
CREATED:20260225T184408Z
LAST-MODIFIED:20260225T192137Z
UID:15152-1777593600-1777679999@www.santeelakes.com
SUMMARY:Santee Lakes Explorer BINGO!
DESCRIPTION:2026 Park BINGO Challenge is ON at Santee Lakes Recreation Preserve! 📸 \nComplete fun park activities\, snap photo proof\, and win prizes!\n🎯 BINGO (one line) = FREE park entry\n🏆 Blackout (full card) = Day at the Park Pack \nFIND BINGO! CARD AND RULES HERE. \nBring completed cards + photos to the General Store to redeem.\nValid through 2026. See BINGO card for full details.
URL:https://www.santeelakes.com/event/santee-lakes-explorer-bingo-3/
CATEGORIES:Campground Events,Park Events
END:VEVENT
BEGIN:VEVENT
DTSTART;TZID=America/Los_Angeles:20260501T190000
DTEND;TZID=America/Los_Angeles:20260501T200000
DTSTAMP:20260423T102505
CREATED:20260304T000118Z
LAST-MODIFIED:20260304T000118Z
UID:15231-1777662000-1777665600@www.santeelakes.com
SUMMARY:Operation Epic - Laser Tag for Campers
DESCRIPTION:Hey Campers! Join us for a friendly game of laser tag on the Campground Lawn.  No need to sign up\, just show up! \nWe will play every Friday through October.
URL:https://www.santeelakes.com/event/operation-epic-laser-tag-for-campers-6/
CATEGORIES:Campground Events
END:VEVENT
BEGIN:VEVENT
DTSTART;TZID=America/Los_Angeles:20260502T100000
DTEND;TZID=America/Los_Angeles:20260502T110000
DTSTAMP:20260423T102505
CREATED:20260130T005526Z
LAST-MODIFIED:20260130T005549Z
UID:15007-1777716000-1777719600@www.santeelakes.com
SUMMARY:Camper - Sports on the Lawn every Saturday 10AM-11AM
DESCRIPTION:No need to sign up\, just join us!
URL:https://www.santeelakes.com/event/camper-sports-on-the-lawn-every-saturday-10am-11am-18/
CATEGORIES:Campground Events
END:VEVENT
BEGIN:VEVENT
DTSTART;TZID=America/Los_Angeles:20260502T100000
DTEND;TZID=America/Los_Angeles:20260502T150000
DTSTAMP:20260423T102505
CREATED:20260106T201932Z
LAST-MODIFIED:20260423T170158Z
UID:14690-1777716000-1777734000@www.santeelakes.com
SUMMARY:Spring Market
DESCRIPTION:This event will be held on Saturday\, May 2 from 10AM-3PM. \nThis is our newest event inspired by the success of our Ladies at the Lake Fall Market! \nWe are curating a vibrant mix of talented vendors\, bringing handcrafted pieces\, unique finds\, and special goods that offer something for everyone. \nPlease see the VENDOR MAP and LIST OF VENDORS. \nParking is $10 and the event is free.
URL:https://www.santeelakes.com/event/spring-market/
CATEGORIES:Campground Events,Park Events
END:VEVENT
BEGIN:VEVENT
DTSTART;TZID=America/Los_Angeles:20260502T160000
DTEND;TZID=America/Los_Angeles:20260502T180000
DTSTAMP:20260423T102505
CREATED:20260127T233638Z
LAST-MODIFIED:20260127T233638Z
UID:14786-1777737600-1777744800@www.santeelakes.com
SUMMARY:Nacho Night
DESCRIPTION:It’s almost Cinco De Mayo so let’s have nachos!
URL:https://www.santeelakes.com/event/nacho-night/
CATEGORIES:Campground Events
END:VEVENT
BEGIN:VEVENT
DTSTART;TZID=America/Los_Angeles:20260502T170000
DTEND;TZID=America/Los_Angeles:20260502T190000
DTSTAMP:20260423T102505
CREATED:20260127T235949Z
LAST-MODIFIED:20260127T235949Z
UID:14796-1777741200-1777748400@www.santeelakes.com
SUMMARY:Concert Series on the Deck - Appian Way
DESCRIPTION:Join us on deck for some great music and fantastic food from Topwater Grill!
URL:https://www.santeelakes.com/event/concert-series-on-the-deck-appian-way/
CATEGORIES:Campground Events,Park Events
END:VEVENT
BEGIN:VEVENT
DTSTART;TZID=America/Los_Angeles:20260508T190000
DTEND;TZID=America/Los_Angeles:20260508T200000
DTSTAMP:20260423T102505
CREATED:20260304T000206Z
LAST-MODIFIED:20260304T000206Z
UID:15233-1778266800-1778270400@www.santeelakes.com
SUMMARY:Operation Epic - Laser Tag for Campers
DESCRIPTION:Hey Campers! Join us for a friendly game of laser tag on the Campground Lawn.  No need to sign up\, just show up! \nWe will play every Friday through October.
URL:https://www.santeelakes.com/event/operation-epic-laser-tag-for-campers-7/
CATEGORIES:Campground Events
END:VEVENT
BEGIN:VEVENT
DTSTART;TZID=America/Los_Angeles:20260509T100000
DTEND;TZID=America/Los_Angeles:20260509T110000
DTSTAMP:20260423T102505
CREATED:20260130T005629Z
LAST-MODIFIED:20260130T005629Z
UID:15009-1778320800-1778324400@www.santeelakes.com
SUMMARY:Camper - Sports on the Lawn every Saturday 10AM-11AM
DESCRIPTION:No need to sign up\, just join us!
URL:https://www.santeelakes.com/event/camper-sports-on-the-lawn-every-saturday-10am-11am-19/
CATEGORIES:Campground Events
END:VEVENT
BEGIN:VEVENT
DTSTART;TZID=America/Los_Angeles:20260509T140000
DTEND;TZID=America/Los_Angeles:20260509T160000
DTSTAMP:20260423T102505
CREATED:20260127T233815Z
LAST-MODIFIED:20260127T233832Z
UID:14788-1778335200-1778342400@www.santeelakes.com
SUMMARY:Mom's Day Craft
DESCRIPTION:Make a little something special for MOM!
URL:https://www.santeelakes.com/event/moms-day-craft/
CATEGORIES:Campground Events
END:VEVENT
BEGIN:VEVENT
DTSTART;TZID=America/Los_Angeles:20260509T170000
DTEND;TZID=America/Los_Angeles:20260509T190000
DTSTAMP:20260423T102505
CREATED:20260128T000107Z
LAST-MODIFIED:20260128T000743Z
UID:14798-1778346000-1778353200@www.santeelakes.com
SUMMARY:Concert Series on the Deck - Josie Day Unplugged
DESCRIPTION:Join us on deck for some great music and fantastic food from Topwater Grill!
URL:https://www.santeelakes.com/event/concert-series-on-the-deck-josie-day-unplugged/
CATEGORIES:Campground Events,Park Events
END:VEVENT
BEGIN:VEVENT
DTSTART;TZID=America/Los_Angeles:20260515T190000
DTEND;TZID=America/Los_Angeles:20260515T200000
DTSTAMP:20260423T102505
CREATED:20260304T000249Z
LAST-MODIFIED:20260304T000249Z
UID:15235-1778871600-1778875200@www.santeelakes.com
SUMMARY:Operation Epic - Laser Tag for Campers
DESCRIPTION:Hey Campers! Join us for a friendly game of laser tag on the Campground Lawn.  No need to sign up\, just show up! \nWe will play every Friday through October.
URL:https://www.santeelakes.com/event/operation-epic-laser-tag-for-campers-8/
CATEGORIES:Campground Events
END:VEVENT
BEGIN:VEVENT
DTSTART;TZID=America/Los_Angeles:20260516T100000
DTEND;TZID=America/Los_Angeles:20260516T110000
DTSTAMP:20260423T102505
CREATED:20260130T005714Z
LAST-MODIFIED:20260130T005714Z
UID:15011-1778925600-1778929200@www.santeelakes.com
SUMMARY:Camper - Sports on the Lawn every Saturday 10AM-11AM
DESCRIPTION:No need to sign up\, just join us!
URL:https://www.santeelakes.com/event/camper-sports-on-the-lawn-every-saturday-10am-11am-20/
CATEGORIES:Campground Events
END:VEVENT
BEGIN:VEVENT
DTSTART;TZID=America/Los_Angeles:20260516T170000
DTEND;TZID=America/Los_Angeles:20260516T190000
DTSTAMP:20260423T102505
CREATED:20260128T000918Z
LAST-MODIFIED:20260416T193834Z
UID:14800-1778950800-1778958000@www.santeelakes.com
SUMMARY:Concert Series on Deck - FastTrax
DESCRIPTION:Join us on deck for some great music and fantastic food! \nBand features 70’s and pop infused 80s
URL:https://www.santeelakes.com/event/concert-series-on-deck-jason-mann/
CATEGORIES:Campground Events,Park Events
END:VEVENT
BEGIN:VEVENT
DTSTART;TZID=America/Los_Angeles:20260516T180000
DTEND;TZID=America/Los_Angeles:20260516T190000
DTSTAMP:20260423T102505
CREATED:20260127T234009Z
LAST-MODIFIED:20260127T234009Z
UID:14790-1778954400-1778958000@www.santeelakes.com
SUMMARY:Campfire & S'mores
DESCRIPTION:We bring the s’mores! \nLakeshore Fire Ring
URL:https://www.santeelakes.com/event/campfire-smores-17/
CATEGORIES:Campground Events
END:VEVENT
BEGIN:VEVENT
DTSTART;TZID=America/Los_Angeles:20260522T190000
DTEND;TZID=America/Los_Angeles:20260522T200000
DTSTAMP:20260423T102505
CREATED:20260304T000328Z
LAST-MODIFIED:20260304T000328Z
UID:15237-1779476400-1779480000@www.santeelakes.com
SUMMARY:Operation Epic - Laser Tag for Campers
DESCRIPTION:Hey Campers! Join us for a friendly game of laser tag on the Campground Lawn.  No need to sign up\, just show up! \nWe will play every Friday through October.
URL:https://www.santeelakes.com/event/operation-epic-laser-tag-for-campers-9/
CATEGORIES:Campground Events
END:VEVENT
END:VCALENDAR